Workbook

Sheet Deckblatt
D6: Tool Mitarbeitergespräch
G10: ©Dr. Wolfgang Schröder Personalsysteme D-58540 Meinerzhagen Genkeler Str. 47 Tel. 02354 - 65 66 Dr.W.Schroeder@t-online.de
E13: Unternehmensbereich
E16: Führungskraft
D17: Vorname
D18: Name
C22: Go | D22: um auf die nächste Seite zu gelangen klicken Sie in "Go"
D24: alle Blätter sind gesichert mit : 1
D25: damit nicht aus Versehen die Verlinkung gelöscht wird

Sheet Anwendung
B2: Go | C2: 1 Blatt zurück Deckblatt
B3: Go | C3: Nächstes Blatt zur Struktur des Instruments | E3: Wie mit dem Instrument umgehen?
E5: Das Tool nutzt das Anwendungsprogramm Microsoft-Excel. Die einzelnen Blätter sind verlinkt (verknüpft) und es wird über Schaltflächen (Go) navigiert.
E6: Sie können nur in den gelb unterlegten Feldern schreiben. Inhalte in blauen Feldern stammen aus einem anderen Blatt und können nur in dem Ursprungsblatt verändert werden.
E7: Kopieren Sie niemals eine ganze Zelle, sondern nur Zelleninhalte! Wenn Sie eine ganze Zelle kopieren, verändern Sie die voreingestellten Bezüge im Tool und erhalten von da ab fehlerhafte Bezüge. Kopieren Sie nur Inhalte und das geht auf 2 Wegen: Zelle 2 x anklicken, Inhalt kopieren, gewünschte Zelle auswählen, 2 x anklicken und einsetzen oder Zelle anklicken, Rechte Maustaste = "kopieren" auswählen, dann gewünschte Zelle oder Zellen auswählen, dann Rechte Maustaste "Inhalte einfügen" auswählen, dann "Werte und Zahlenformate" auswählen.

Sheet Struktur
C2: Blatt: Struktur des Instruments | D2: ©Dr. Wolfgang Schröder
B3: Go | C3: zum Deckblatt
B4: Go | C4: Anwendungshinweise | D4: Die zu beachtenden Regeln, insbesondere zum Kopieren
B5: Go | C5: Struktur des Instruments | D5: Übersicht zur Struktur des Instruments
B6: Go | C6: Daten des Bereichs | D6: Hier werden alle notwendigen Daten einmal eingegeben und übertragen sich automatisch auf jede Unterlage im Instrument. Die Unterlagen können direkt ausgedruckt werden.
B7: Go | C7: Zu den Gesprächsunterlagen | D7: Hier finden Sie die Gesprächsunterlagen für die Mitarbeitergespräche
B8: Go | C8: Ergebniszusammenfassung Individuelle Entwicklungsaktivitäten | D8: Hier sammeln sich alle Gesprächsergebnisse zu besprochenen Entwicklungsaktivitäten.
B9: Go | C9: Ergebniszus.Veränderung der Rahmenbedingungen | D9: Hier sammeln sich alle Gesprächsergebnisse zu besprochenen Veränderungen in den Rahmenbedingungen
B10: Go | C10: Ergebniszusammenfassung Vereinbarungen Zusammenarbeit | D10: Hier sammeln sich alle Vereinbarungen zur Verbesserung der Zusammenarbeit von Führungskraft und Mitarbeiter / in
B11: Go | C11: Ergebniszusammenfassung Wichtige Mitarbeiterthemen | D11: Hier sammeln sich alle Gesprächsergebnisse zu den wichtigen Themen aus Sicht des Mitarbeiters
B12: Go | C12: Ergebniszusammenfassung Kommentare | D12: Hier sammeln sich alle Gesprächsergebnisse zu Kommentaren am Ende des Gesprächs.
B13: Go | C13: Mitarbeitervorbereitung | D13: Mit diesem Blatt können Sie alle Informationen für die MitarbeiterInnen ausdrucken, damit sich die MitarbeiterInnen optimal vorbereiten
B14: Go | C14: Hilfsinformationen für die Führungskraft | D14: Hier finden Sie alle Informationen, um das Gespräch erfolgreich durchzuführen

Sheet Bereichsdaten
B2: Blatt: Daten des Bereichs | L2: ©Dr. Wolfgang Schröder
B3: Go | C3: zum Deckblatt
B4: Go | C4: Anwendungshinweise | E4: Bereich: | G4: =Deckblatt!E14 -> 0 | J4: Unterlage für das Jahr
B5: Go | C5: Struktur des Instruments | G5: Name | H5: Vorname | I5: Funktion
B6: Go | C6: Daten des Bereichs | E6: Führungskraft: | G6: =Deckblatt!$E$18 -> 0 | H6: =Deckblatt!$E$17 -> 0
B8: Go | C8: Zu den Gesprächsunterlagen | E8: Namen / Führungsstruktur | G8: Mitarbeiter, Mitarbeiterinnen | J8: Führungskraft, die das Gespräch führt
B9: Go | C9: Ergebniszusammenfassung Individuelle Entwicklungsaktivitäten | G9: Name | H9: Vorname | I9: Position | J9: Name | K9: Vorname | L9: Unternehmensbereich
B10: Go | C10: Ergebniszusammenfassung Veränderung Rahmenbedingungen | F10: 1
B11: Go | C11: Ergebniszusammenfassung Vereinbarungen Zusammenarbeit | F11: 2
B12: Go | C12: Ergebniszusammenfassung Wichtige Mitarbeiterthemen | F12: 3
B13: Go | C13: Ergebniszusammenfassung Kommentare | F13: 4
B14: Go | C14: Mitarbeitervorbereitung | F14: 5
B15: Go | C15: Hilfsinformationen für die Führungskraft | F15: 6
C16: Bitte bedenken Sie: Sie sollten später die Reihenfolge der Mitarbeiter nicht ändern, da das Formular für das Gespräch fest mit dem Namensfeld verknüpft ist. Wenn also ein Mitarbeiter Ihren Bereich verlässt, dann löschen Sie den Namen und lassen Sie die entsprechende Zeile leer. Danach müssen die Inhalte auf dem Gesprächsformular gelöscht werden. Hier kann dann ein neuer Mitarbeiter eingetragen werden. | F16: 7
F17: 8
F18: 9
F19: 10

Sheet Form-01
B2: Blatt: Formular für Mitarbeitergespräch | V2: ©Dr. Wolfgang Schröder
B3: Go | C3: zum Deckblatt | E3: Bereich: | G3: =Bereichsdaten!G4 -> 0 | I3: Jahr | K3: =Bereichsdaten!$K$4 -> 0
B4: Go | C4: Anwendungshinweise | G4: Name | I4: Funktion
B5: Go | C5: Struktur des Instruments | E5: Führungskraft: | G5: =Bereichsdaten!G6 -> 0 | H5: =Bereichsdaten!H6 -> 0 | I5: =Bereichsdaten!I6 -> 0
B6: Go | C6: Daten des Bereichs | F6: Go | G6: =Bereichsdaten!G10 -> 0 | H6: =Bereichsdaten!H10 -> 0 | I6: =Bereichsdaten!I10 -> 0
B7: Go | C7: Zu den Gesprächsunterlagen | F7: Go | G7: =Bereichsdaten!G11 -> 0 | H7: =Bereichsdaten!H11 -> 0 | I7: =Bereichsdaten!I11 -> 0
B8: Go | C8: Ergebniszusammenfassung Individuelle Entwicklungsaktivitäten | F8: Go | G8: =Bereichsdaten!G12 -> 0 | H8: =Bereichsdaten!H12 -> 0 | I8: =Bereichsdaten!I12 -> 0
B9: Go | C9: Ergebniszusammenfassung Veränderung Rahmenbedingungen | F9: Go | G9: =Bereichsdaten!G13 -> 0 | H9: =Bereichsdaten!H13 -> 0 | I9: =Bereichsdaten!I13 -> 0
B10: Go | C10: Ergebniszusammenfassung Vereinbarungen Zusammenarbeit | F10: Go | G10: =Bereichsdaten!G14 -> 0 | H10: =Bereichsdaten!H14 -> 0 | I10: =Bereichsdaten!I14 -> 0
B11: Go | C11: Ergebniszusammenfassung Wichtige Mitarbeiterthemen | F11: Go | G11: =Bereichsdaten!G15 -> 0 | H11: =Bereichsdaten!H15 -> 0 | I11: =Bereichsdaten!I15 -> 0
B12: Go | C12: Ergebniszusammenfassung Kommentare | F12: Go | G12: =Bereichsdaten!G16 -> 0 | H12: =Bereichsdaten!H16 -> 0 | I12: =Bereichsdaten!I16 -> 0
B13: Go | C13: Mitarbeitervorbereitung | F13: Go | G13: =Bereichsdaten!G17 -> 0 | H13: =Bereichsdaten!H17 -> 0 | I13: =Bereichsdaten!I17 -> 0
B14: Go | C14: Hilfsinformationen für die Führungskraft | F14: Go | G14: =Bereichsdaten!G18 -> 0 | H14: =Bereichsdaten!H18 -> 0 | I14: =Bereichsdaten!I18 -> 0
F15: Go | G15: =Bereichsdaten!G19 -> 0 | H15: =Bereichsdaten!H19 -> 0 | I15: =Bereichsdaten!I19 -> 0
F18: Blatt 1 | H18: Mitarbeitergespräch: Einschätzung von Kompetenzen
F20: für Mitarbeiter / in (MA) | P20: mit Führungskraft (FK) | U20: für Jahr | V20: =$K$3 -> 0
F21: Name: | G21: ='Form-01'!G6 -> 0 | H21: ='Form-01'!H6 -> 0 | I21: Funktion: | K21: ='Form-01'!I6 -> 0 | L21: ='Form-01'!L6 -> 0 | M21: ='Form-01'!M6 -> 0 | N21: ='Form-01'!N6 -> 0 | P21: Name: | Q21: =$G$5 -> 0 | T21: Abteilung: | U21: =$G$3 -> 0
P22: Vorname: | Q22: =$H$5 -> 0
F24: Kompetenzen zur Einschätzung von Fähigkeiten/Verhalten für Mitarbeiter/in, Führungskräfte | Q24: Kompetenzen nur für Führungskräfte
F25: Fachwissen, -fähigkeit | J25: Power und Gestaltungswille | Q25: Bereichssteuerung und - entwicklung
F26: erfüllt Aufgaben der Stelle gut | J26: arbeitet selbständig ohne viele Anweisungen | Q26: hat Arbeitsverteilung/Prozesse im Griff, schafft Rahmenbedingungen (Digitalisierung) damit Mitarbeiter produktiv/motiviert arbeiten können
F27: Methodenwissen,-fähigkeit | J27: zeigt Leistungsbereitschaft und Initiative, will etwas bewegen | Q27: verfolgt aktiv Schnittstellenmanagement zu anderen Unternehmensbereichen
F28: nutzt IT-gestützte Arbeitsmethoden | J28: erkennt und nutzt Gestaltungsspielräume | Q28: setzt Unternehmensstrategien um, sucht kontinuierlich nach Veränderungen als Chance für Fortschritt / Erfolg (KVP)
F29: Arbeitsorganisation, strukturierte Arbeitsweise, Zeitmanagement | J29: ist durchsetzungsstark, ohne verbrannte Erde zu hinterlassen | Q29: Mitarbeiter-, Teamführung
F30: Umgebungswissen | J30: Charakter und Anlagen | Q30: führt Mitarbeiter und Team zielorientiert und überprüft den Erfolg
F31: Grundlagenwissen aus anderen Fachbereichen | J31: Genauigkeit, Sorgfalt, Professionalität, Zuverlässigkeit | Q31: delegiert Ergebnisverantwortung erfolgreich
F32: Kenntnisse über Märkte und Produkte | J32: ist loyal gegenüber MA, Kollegen, Führungskräften, Unternehmen | Q32: handelt fair und zeigt Wertschätzung
F33: Kenntnisse über relevante interne / externe Unternehmenszusammenhänge | J33: ist belastbar (physisch / psychisch) | Q33: Team-, Mitarbeiterentwicklung
F34: Unternehmerisches Denken und Handeln | J34: hat Selbstvertrauen, ist selbstkritisch, gesteht Fehler ein | Q34: entwickelt Teams bzw. Mitarbeiter systematisch, setzt sich für die individuelle Entwicklung der Mitarbeiter ein
F35: setzt Zeit, Mittel, Aufwand kostenbewusst ein | J35: denkt positiv, humorvoll | Q35: setzt Teams / Mitarbeiter sinnvoll bzw. nach Fähigkeiten ein
F36: denkt / handelt ergebnisorientiert | J36: hat sich im Griff, Gelassenheit | Q36: beurteilt fair, setzt gemeinsam gefundene Konsequenzen aus Beurteilungen um
F37: denkt / handelt ganzheitlich, berücksichtigt Konsequenzen in anderen Bereichen | J37: Offenheit und Lernen
F38: orientiert sich im Handeln an Erwartungen externer / interner Kunden | J38: ist kreativ, Ideenfindung, macht qualifizierte Verbesserungsvorschläge | P38: Was kann daraus gelernt werden? (Vorbereitung MA + FK) Welche 3 Kompetenzinhalte beschreiben die größten Stärken aber auch die wichtigsten Entwicklungsfelder des Mitarbeiters, der Mitarbeiterin?
F39: Kommunikation und Information | J39: ist offen für neue Situationen, Flexibilität
F40: Ausdrucksvermögen (Sprache, Schrift) | J40: Lernbereitschaft, Weiterbildungsbereitschaft | P40: Stärke 1
F41: informiert offen, bedarfsgerecht und rechtzeitig | J41: gibt eigenes Wissen und Fähigkeiten weiter | P41: Stärke 2
F42: stellt Standpunkte klar und überzeugend dar | J42: Teamplayer | P42: Stärke 3
F43: kann zuhören, sich in andere hineinversetzen, (soziale Kompetenz) | J43: arbeitet mit anderen fair + konstruktiv zusammen, ist teamfähig | P43: Entwicklungsfeld 1
F44: fördert bereichsübergreifenden, fachlichen Informationsaustausch | J44: wirkt integrierend, kompromissfähig | P44: Entwicklungsfeld 2
F45: Verhandlungsgeschick | J45: regelt Konflikte konstruktiv, kritisiert konstruktiv | P45: Entwicklungsfeld 3
...

Sheet Form-02
B2: Blatt: Formular für Mitarbeitergespräch | V2: ©Dr. Wolfgang Schröder
B3: Go | C3: zum Deckblatt | E3: Bereich: | G3: =Bereichsdaten!G4 -> 0 | I3: Jahr | K3: =Bereichsdaten!$K$4 -> 0
B4: Go | C4: Anwendungshinweise | G4: Name | I4: Funktion
B5: Go | C5: Struktur des Instruments | E5: Führungskraft: | G5: =Bereichsdaten!G6 -> 0 | H5: =Bereichsdaten!H6 -> 0 | I5: =Bereichsdaten!I6 -> 0
B6: Go | C6: Daten des Bereichs | F6: Go | G6: =Bereichsdaten!G10 -> 0 | H6: =Bereichsdaten!H10 -> 0 | I6: =Bereichsdaten!I10 -> 0
B7: Go | C7: Zu den Gesprächsunterlagen | F7: Go | G7: =Bereichsdaten!G11 -> 0 | H7: =Bereichsdaten!H11 -> 0 | I7: =Bereichsdaten!I11 -> 0
B8: Go | C8: Ergebniszusammenfassung Individuelle Entwicklungsaktivitäten | F8: Go | G8: =Bereichsdaten!G12 -> 0 | H8: =Bereichsdaten!H12 -> 0 | I8: =Bereichsdaten!I12 -> 0
B9: Go | C9: Ergebniszusammenfassung Veränderung Rahmenbedingungen | F9: Go | G9: =Bereichsdaten!G13 -> 0 | H9: =Bereichsdaten!H13 -> 0 | I9: =Bereichsdaten!I13 -> 0
B10: Go | C10: Ergebniszusammenfassung Vereinbarungen Zusammenarbeit | F10: Go | G10: =Bereichsdaten!G14 -> 0 | H10: =Bereichsdaten!H14 -> 0 | I10: =Bereichsdaten!I14 -> 0
B11: Go | C11: Ergebniszusammenfassung Wichtige Mitarbeiterthemen | F11: Go | G11: =Bereichsdaten!G15 -> 0 | H11: =Bereichsdaten!H15 -> 0 | I11: =Bereichsdaten!I15 -> 0
B12: Go | C12: Ergebniszusammenfassung Kommentare | F12: Go | G12: =Bereichsdaten!G16 -> 0 | H12: =Bereichsdaten!H16 -> 0 | I12: =Bereichsdaten!I16 -> 0
B13: Go | C13: Mitarbeitervorbereitung | F13: Go | G13: =Bereichsdaten!G17 -> 0 | H13: =Bereichsdaten!H17 -> 0 | I13: =Bereichsdaten!I17 -> 0
B14: Go | C14: Hilfsinformationen für die Führungskraft | F14: Go | G14: =Bereichsdaten!G18 -> 0 | H14: =Bereichsdaten!H18 -> 0 | I14: =Bereichsdaten!I18 -> 0
F15: Go | G15: =Bereichsdaten!G19 -> 0 | H15: =Bereichsdaten!H19 -> 0 | I15: =Bereichsdaten!I19 -> 0
F18: Blatt 1 | H18: Mitarbeitergespräch: Einschätzung von Kompetenzen
F20: für Mitarbeiter / in (MA) | P20: mit Führungskraft (FK) | U20: für Jahr | V20: =$K$3 -> 0
F21: Name: | G21: ='Form-02'!G7 -> 0 | H21: ='Form-02'!H7 -> 0 | I21: Funktion: | K21: ='Form-02'!I7 -> 0 | L21: ='Form-02'!L6 -> 0 | M21: ='Form-02'!M6 -> 0 | N21: ='Form-02'!N6 -> 0 | P21: Name: | Q21: =$G$5 -> 0 | T21: Abteilung: | U21: =$G$3 -> 0
P22: Vorname: | Q22: =$H$5 -> 0
F24: Kompetenzen zur Einschätzung von Fähigkeiten/Verhalten für Mitarbeiter/in, Führungskräfte | Q24: Kompetenzen nur für Führungskräfte
F25: Fachwissen, -fähigkeit | J25: Power und Gestaltungswille | Q25: Bereichssteuerung und - entwicklung
F26: erfüllt Aufgaben der Stelle gut | J26: arbeitet selbständig ohne viele Anweisungen | Q26: hat Arbeitsverteilung/Prozesse im Griff, schafft Rahmenbedingungen (Digitalisierung) damit Mitarbeiter produktiv/motiviert arbeiten können
F27: Methodenwissen,-fähigkeit | J27: zeigt Leistungsbereitschaft und Initiative, will etwas bewegen | Q27: verfolgt aktiv Schnittstellenmanagement zu anderen Unternehmensbereichen
F28: nutzt IT-gestützte Arbeitsmethoden | J28: erkennt und nutzt Gestaltungsspielräume | Q28: setzt Unternehmensstrategien um, sucht kontinuierlich nach Veränderungen als Chance für Fortschritt / Erfolg (KVP)
F29: Arbeitsorganisation, strukturierte Arbeitsweise, Zeitmanagement | J29: ist durchsetzungsstark, ohne verbrannte Erde zu hinterlassen | Q29: Mitarbeiter-, Teamführung
F30: Umgebungswissen | J30: Charakter und Anlagen | Q30: führt Mitarbeiter und Team zielorientiert und überprüft den Erfolg
F31: Grundlagenwissen aus anderen Fachbereichen | J31: Genauigkeit, Sorgfalt, Professionalität, Zuverlässigkeit | Q31: delegiert Ergebnisverantwortung erfolgreich
F32: Kenntnisse über Märkte und Produkte | J32: ist loyal gegenüber MA, Kollegen, Führungskräften, Unternehmen | Q32: handelt fair und zeigt Wertschätzung
F33: Kenntnisse über relevante interne / externe Unternehmenszusammenhänge | J33: ist belastbar (physisch / psychisch) | Q33: Team-, Mitarbeiterentwicklung
F34: Unternehmerisches Denken und Handeln | J34: hat Selbstvertrauen, ist selbstkritisch, gesteht Fehler ein | Q34: entwickelt Teams bzw. Mitarbeiter systematisch, setzt sich für die individuelle Entwicklung der Mitarbeiter ein
F35: setzt Zeit, Mittel, Aufwand kostenbewusst ein | J35: denkt positiv, humorvoll | Q35: setzt Teams / Mitarbeiter sinnvoll bzw. nach Fähigkeiten ein
F36: denkt / handelt ergebnisorientiert | J36: hat sich im Griff, Gelassenheit | Q36: beurteilt fair, setzt gemeinsam gefundene Konsequenzen aus Beurteilungen um
F37: denkt / handelt ganzheitlich, berücksichtigt Konsequenzen in anderen Bereichen | J37: Offenheit und Lernen
F38: orientiert sich im Handeln an Erwartungen externer / interner Kunden | J38: ist kreativ, Ideenfindung, macht qualifizierte Verbesserungsvorschläge | P38: Was kann daraus gelernt werden? (Vorbereitung MA + FK) Welche 3 Kompetenzinhalte beschreiben die größten Stärken aber auch die wichtigsten Entwicklungsfelder des Mitarbeiters, der Mitarbeiterin?
F39: Kommunikation und Information | J39: ist offen für neue Situationen, Flexibilität
F40: Ausdrucksvermögen (Sprache, Schrift) | J40: Lernbereitschaft, Weiterbildungsbereitschaft | P40: Stärke 1
F41: informiert offen, bedarfsgerecht und rechtzeitig | J41: gibt eigenes Wissen und Fähigkeiten weiter | P41: Stärke 2
F42: stellt Standpunkte klar und überzeugend dar | J42: Teamplayer | P42: Stärke 3
F43: kann zuhören, sich in andere hineinversetzen, (soziale Kompetenz) | J43: arbeitet mit anderen fair + konstruktiv zusammen, ist teamfähig | P43: Entwicklungsfeld 1
F44: fördert bereichsübergreifenden, fachlichen Informationsaustausch | J44: wirkt integrierend, kompromissfähig | P44: Entwicklungsfeld 2
F45: Verhandlungsgeschick | J45: regelt Konflikte konstruktiv, kritisiert konstruktiv | P45: Entwicklungsfeld 3
...

Sheet Form-03
B2: Blatt: Formular für Mitarbeitergespräch | V2: ©Dr. Wolfgang Schröder
B3: Go | C3: zum Deckblatt | E3: Bereich: | G3: =Bereichsdaten!G4 -> 0 | I3: Jahr | K3: =Bereichsdaten!$K$4 -> 0
B4: Go | C4: Anwendungshinweise | G4: Name | I4: Funktion
B5: Go | C5: Struktur des Instruments | E5: Führungskraft: | G5: =Bereichsdaten!G6 -> 0 | H5: =Bereichsdaten!H6 -> 0 | I5: =Bereichsdaten!I6 -> 0
B6: Go | C6: Daten des Bereichs | F6: Go | G6: =Bereichsdaten!G10 -> 0 | H6: =Bereichsdaten!H10 -> 0 | I6: =Bereichsdaten!I10 -> 0
B7: Go | C7: Zu den Gesprächsunterlagen | F7: Go | G7: =Bereichsdaten!G11 -> 0 | H7: =Bereichsdaten!H11 -> 0 | I7: =Bereichsdaten!I11 -> 0
B8: Go | C8: Ergebniszusammenfassung Individuelle Entwicklungsaktivitäten | F8: Go | G8: =Bereichsdaten!G12 -> 0 | H8: =Bereichsdaten!H12 -> 0 | I8: =Bereichsdaten!I12 -> 0
B9: Go | C9: Ergebniszusammenfassung Veränderung Rahmenbedingungen | F9: Go | G9: =Bereichsdaten!G13 -> 0 | H9: =Bereichsdaten!H13 -> 0 | I9: =Bereichsdaten!I13 -> 0
B10: Go | C10: Ergebniszusammenfassung Vereinbarungen Zusammenarbeit | F10: Go | G10: =Bereichsdaten!G14 -> 0 | H10: =Bereichsdaten!H14 -> 0 | I10: =Bereichsdaten!I14 -> 0
B11: Go | C11: Ergebniszusammenfassung Wichtige Mitarbeiterthemen | F11: Go | G11: =Bereichsdaten!G15 -> 0 | H11: =Bereichsdaten!H15 -> 0 | I11: =Bereichsdaten!I15 -> 0
B12: Go | C12: Ergebniszusammenfassung Kommentare | F12: Go | G12: =Bereichsdaten!G16 -> 0 | H12: =Bereichsdaten!H16 -> 0 | I12: =Bereichsdaten!I16 -> 0
B13: Go | C13: Mitarbeitervorbereitung | F13: Go | G13: =Bereichsdaten!G17 -> 0 | H13: =Bereichsdaten!H17 -> 0 | I13: =Bereichsdaten!I17 -> 0
B14: Go | C14: Hilfsinformationen für die Führungskraft | F14: Go | G14: =Bereichsdaten!G18 -> 0 | H14: =Bereichsdaten!H18 -> 0 | I14: =Bereichsdaten!I18 -> 0
F15: Go | G15: =Bereichsdaten!G19 -> 0 | H15: =Bereichsdaten!H19 -> 0 | I15: =Bereichsdaten!I19 -> 0
F18: Blatt 1 | H18: Mitarbeitergespräch: Einschätzung von Kompetenzen
F20: für Mitarbeiter / in (MA) | P20: mit Führungskraft (FK) | U20: für Jahr | V20: =$K$3 -> 0
F21: Name: | G21: ='Form-03'!G8 -> 0 | H21: ='Form-03'!H8 -> 0 | I21: Funktion: | K21: ='Form-03'!I8 -> 0 | L21: ='Form-03'!L6 -> 0 | M21: ='Form-03'!M6 -> 0 | N21: ='Form-03'!N6 -> 0 | P21: Name: | Q21: =$G$5 -> 0 | T21: Abteilung: | U21: =$G$3 -> 0
P22: Vorname: | Q22: =$H$5 -> 0
F24: Kompetenzen zur Einschätzung von Fähigkeiten/Verhalten für Mitarbeiter/in, Führungskräfte | Q24: Kompetenzen nur für Führungskräfte
F25: Fachwissen, -fähigkeit | J25: Power und Gestaltungswille | Q25: Bereichssteuerung und - entwicklung
F26: erfüllt Aufgaben der Stelle gut | J26: arbeitet selbständig ohne viele Anweisungen | Q26: hat Arbeitsverteilung/Prozesse im Griff, schafft Rahmenbedingungen (Digitalisierung) damit Mitarbeiter produktiv/motiviert arbeiten können
F27: Methodenwissen,-fähigkeit | J27: zeigt Leistungsbereitschaft und Initiative, will etwas bewegen | Q27: verfolgt aktiv Schnittstellenmanagement zu anderen Unternehmensbereichen
F28: nutzt IT-gestützte Arbeitsmethoden | J28: erkennt und nutzt Gestaltungsspielräume | Q28: setzt Unternehmensstrategien um, sucht kontinuierlich nach Veränderungen als Chance für Fortschritt / Erfolg (KVP)
F29: Arbeitsorganisation, strukturierte Arbeitsweise, Zeitmanagement | J29: ist durchsetzungsstark, ohne verbrannte Erde zu hinterlassen | Q29: Mitarbeiter-, Teamführung
F30: Umgebungswissen | J30: Charakter und Anlagen | Q30: führt Mitarbeiter und Team zielorientiert und überprüft den Erfolg
F31: Grundlagenwissen aus anderen Fachbereichen | J31: Genauigkeit, Sorgfalt, Professionalität, Zuverlässigkeit | Q31: delegiert Ergebnisverantwortung erfolgreich
F32: Kenntnisse über Märkte und Produkte | J32: ist loyal gegenüber MA, Kollegen, Führungskräften, Unternehmen | Q32: handelt fair und zeigt Wertschätzung
F33: Kenntnisse über relevante interne / externe Unternehmenszusammenhänge | J33: ist belastbar (physisch / psychisch) | Q33: Team-, Mitarbeiterentwicklung
F34: Unternehmerisches Denken und Handeln | J34: hat Selbstvertrauen, ist selbstkritisch, gesteht Fehler ein | Q34: entwickelt Teams bzw. Mitarbeiter systematisch, setzt sich für die individuelle Entwicklung der Mitarbeiter ein
F35: setzt Zeit, Mittel, Aufwand kostenbewusst ein | J35: denkt positiv, humorvoll | Q35: setzt Teams / Mitarbeiter sinnvoll bzw. nach Fähigkeiten ein
F36: denkt / handelt ergebnisorientiert | J36: hat sich im Griff, Gelassenheit | Q36: beurteilt fair, setzt gemeinsam gefundene Konsequenzen aus Beurteilungen um
F37: denkt / handelt ganzheitlich, berücksichtigt Konsequenzen in anderen Bereichen | J37: Offenheit und Lernen
F38: orientiert sich im Handeln an Erwartungen externer / interner Kunden | J38: ist kreativ, Ideenfindung, macht qualifizierte Verbesserungsvorschläge | P38: Was kann daraus gelernt werden? (Vorbereitung MA + FK) Welche 3 Kompetenzinhalte beschreiben die größten Stärken aber auch die wichtigsten Entwicklungsfelder des Mitarbeiters, der Mitarbeiterin?
F39: Kommunikation und Information | J39: ist offen für neue Situationen, Flexibilität
F40: Ausdrucksvermögen (Sprache, Schrift) | J40: Lernbereitschaft, Weiterbildungsbereitschaft | P40: Stärke 1
F41: informiert offen, bedarfsgerecht und rechtzeitig | J41: gibt eigenes Wissen und Fähigkeiten weiter | P41: Stärke 2
F42: stellt Standpunkte klar und überzeugend dar | J42: Teamplayer | P42: Stärke 3
F43: kann zuhören, sich in andere hineinversetzen, (soziale Kompetenz) | J43: arbeitet mit anderen fair + konstruktiv zusammen, ist teamfähig | P43: Entwicklungsfeld 1
F44: fördert bereichsübergreifenden, fachlichen Informationsaustausch | J44: wirkt integrierend, kompromissfähig | P44: Entwicklungsfeld 2
F45: Verhandlungsgeschick | J45: regelt Konflikte konstruktiv, kritisiert konstruktiv | P45: Entwicklungsfeld 3
...

Sheet Form-04
B2: Blatt: Formular für Mitarbeitergespräch | V2: ©Dr. Wolfgang Schröder
B3: Go | C3: zum Deckblatt | E3: Bereich: | G3: =Bereichsdaten!G4 -> 0 | I3: Jahr | K3: =Bereichsdaten!$K$4 -> 0
B4: Go | C4: Anwendungshinweise | G4: Name | I4: Funktion
B5: Go | C5: Struktur des Instruments | E5: Führungskraft: | G5: =Bereichsdaten!G6 -> 0 | H5: =Bereichsdaten!H6 -> 0 | I5: =Bereichsdaten!I6 -> 0
B6: Go | C6: Daten des Bereichs | F6: Go | G6: =Bereichsdaten!G10 -> 0 | H6: =Bereichsdaten!H10 -> 0 | I6: =Bereichsdaten!I10 -> 0
B7: Go | C7: Zu den Gesprächsunterlagen | F7: Go | G7: =Bereichsdaten!G11 -> 0 | H7: =Bereichsdaten!H11 -> 0 | I7: =Bereichsdaten!I11 -> 0
B8: Go | C8: Ergebniszusammenfassung Individuelle Entwicklungsaktivitäten | F8: Go | G8: =Bereichsdaten!G12 -> 0 | H8: =Bereichsdaten!H12 -> 0 | I8: =Bereichsdaten!I12 -> 0
B9: Go | C9: Ergebniszusammenfassung Veränderung Rahmenbedingungen | F9: Go | G9: =Bereichsdaten!G13 -> 0 | H9: =Bereichsdaten!H13 -> 0 | I9: =Bereichsdaten!I13 -> 0
B10: Go | C10: Ergebniszusammenfassung Vereinbarungen Zusammenarbeit | F10: Go | G10: =Bereichsdaten!G14 -> 0 | H10: =Bereichsdaten!H14 -> 0 | I10: =Bereichsdaten!I14 -> 0
B11: Go | C11: Ergebniszusammenfassung Wichtige Mitarbeiterthemen | F11: Go | G11: =Bereichsdaten!G15 -> 0 | H11: =Bereichsdaten!H15 -> 0 | I11: =Bereichsdaten!I15 -> 0
B12: Go | C12: Ergebniszusammenfassung Kommentare | F12: Go | G12: =Bereichsdaten!G16 -> 0 | H12: =Bereichsdaten!H16 -> 0 | I12: =Bereichsdaten!I16 -> 0
B13: Go | C13: Mitarbeitervorbereitung | F13: Go | G13: =Bereichsdaten!G17 -> 0 | H13: =Bereichsdaten!H17 -> 0 | I13: =Bereichsdaten!I17 -> 0
B14: Go | C14: Hilfsinformationen für die Führungskraft | F14: Go | G14: =Bereichsdaten!G18 -> 0 | H14: =Bereichsdaten!H18 -> 0 | I14: =Bereichsdaten!I18 -> 0
F15: Go | G15: =Bereichsdaten!G19 -> 0 | H15: =Bereichsdaten!H19 -> 0 | I15: =Bereichsdaten!I19 -> 0
F18: Blatt 1 | H18: Mitarbeitergespräch: Einschätzung von Kompetenzen
F20: für Mitarbeiter / in (MA) | P20: mit Führungskraft (FK) | U20: für Jahr | V20: =$K$3 -> 0
F21: Name: | G21: ='Form-04'!G9 -> 0 | H21: ='Form-04'!H9 -> 0 | I21: Funktion: | K21: ='Form-04'!I9 -> 0 | L21: ='Form-04'!L6 -> 0 | M21: ='Form-04'!M6 -> 0 | N21: ='Form-04'!N6 -> 0 | P21: Name: | Q21: =$G$5 -> 0 | T21: Abteilung: | U21: =$G$3 -> 0
P22: Vorname: | Q22: =$H$5 -> 0
F24: Kompetenzen zur Einschätzung von Fähigkeiten/Verhalten für Mitarbeiter/in, Führungskräfte | Q24: Kompetenzen nur für Führungskräfte
F25: Fachwissen, -fähigkeit | J25: Power und Gestaltungswille | Q25: Bereichssteuerung und - entwicklung
F26: erfüllt Aufgaben der Stelle gut | J26: arbeitet selbständig ohne viele Anweisungen | Q26: hat Arbeitsverteilung/Prozesse im Griff, schafft Rahmenbedingungen (Digitalisierung) damit Mitarbeiter produktiv/motiviert arbeiten können
F27: Methodenwissen,-fähigkeit | J27: zeigt Leistungsbereitschaft und Initiative, will etwas bewegen | Q27: verfolgt aktiv Schnittstellenmanagement zu anderen Unternehmensbereichen
F28: nutzt IT-gestützte Arbeitsmethoden | J28: erkennt und nutzt Gestaltungsspielräume | Q28: setzt Unternehmensstrategien um, sucht kontinuierlich nach Veränderungen als Chance für Fortschritt / Erfolg (KVP)
F29: Arbeitsorganisation, strukturierte Arbeitsweise, Zeitmanagement | J29: ist durchsetzungsstark, ohne verbrannte Erde zu hinterlassen | Q29: Mitarbeiter-, Teamführung
F30: Umgebungswissen | J30: Charakter und Anlagen | Q30: führt Mitarbeiter und Team zielorientiert und überprüft den Erfolg
F31: Grundlagenwissen aus anderen Fachbereichen | J31: Genauigkeit, Sorgfalt, Professionalität, Zuverlässigkeit | Q31: delegiert Ergebnisverantwortung erfolgreich
F32: Kenntnisse über Märkte und Produkte | J32: ist loyal gegenüber MA, Kollegen, Führungskräften, Unternehmen | Q32: handelt fair und zeigt Wertschätzung
F33: Kenntnisse über relevante interne / externe Unternehmenszusammenhänge | J33: ist belastbar (physisch / psychisch) | Q33: Team-, Mitarbeiterentwicklung
F34: Unternehmerisches Denken und Handeln | J34: hat Selbstvertrauen, ist selbstkritisch, gesteht Fehler ein | Q34: entwickelt Teams bzw. Mitarbeiter systematisch, setzt sich für die individuelle Entwicklung der Mitarbeiter ein
F35: setzt Zeit, Mittel, Aufwand kostenbewusst ein | J35: denkt positiv, humorvoll | Q35: setzt Teams / Mitarbeiter sinnvoll bzw. nach Fähigkeiten ein
F36: denkt / handelt ergebnisorientiert | J36: hat sich im Griff, Gelassenheit | Q36: beurteilt fair, setzt gemeinsam gefundene Konsequenzen aus Beurteilungen um
F37: denkt / handelt ganzheitlich, berücksichtigt Konsequenzen in anderen Bereichen | J37: Offenheit und Lernen
F38: orientiert sich im Handeln an Erwartungen externer / interner Kunden | J38: ist kreativ, Ideenfindung, macht qualifizierte Verbesserungsvorschläge | P38: Was kann daraus gelernt werden? (Vorbereitung MA + FK) Welche 3 Kompetenzinhalte beschreiben die größten Stärken aber auch die wichtigsten Entwicklungsfelder des Mitarbeiters, der Mitarbeiterin?
F39: Kommunikation und Information | J39: ist offen für neue Situationen, Flexibilität
F40: Ausdrucksvermögen (Sprache, Schrift) | J40: Lernbereitschaft, Weiterbildungsbereitschaft | P40: Stärke 1
F41: informiert offen, bedarfsgerecht und rechtzeitig | J41: gibt eigenes Wissen und Fähigkeiten weiter | P41: Stärke 2
F42: stellt Standpunkte klar und überzeugend dar | J42: Teamplayer | P42: Stärke 3
F43: kann zuhören, sich in andere hineinversetzen, (soziale Kompetenz) | J43: arbeitet mit anderen fair + konstruktiv zusammen, ist teamfähig | P43: Entwicklungsfeld 1
F44: fördert bereichsübergreifenden, fachlichen Informationsaustausch | J44: wirkt integrierend, kompromissfähig | P44: Entwicklungsfeld 2
F45: Verhandlungsgeschick | J45: regelt Konflikte konstruktiv, kritisiert konstruktiv | P45: Entwicklungsfeld 3
...

Sheet Form-05
B2: Blatt: Formular für Mitarbeitergespräch | V2: ©Dr. Wolfgang Schröder
B3: Go | C3: zum Deckblatt | E3: Bereich: | G3: =Bereichsdaten!G4 -> 0 | I3: Jahr | K3: =Bereichsdaten!$K$4 -> 0
B4: Go | C4: Anwendungshinweise | G4: Name | I4: Funktion
B5: Go | C5: Struktur des Instruments | E5: Führungskraft: | G5: =Bereichsdaten!G6 -> 0 | H5: =Bereichsdaten!H6 -> 0 | I5: =Bereichsdaten!I6 -> 0
B6: Go | C6: Daten des Bereichs | F6: Go | G6: =Bereichsdaten!G10 -> 0 | H6: =Bereichsdaten!H10 -> 0 | I6: =Bereichsdaten!I10 -> 0
B7: Go | C7: Zu den Gesprächsunterlagen | F7: Go | G7: =Bereichsdaten!G11 -> 0 | H7: =Bereichsdaten!H11 -> 0 | I7: =Bereichsdaten!I11 -> 0
B8: Go | C8: Ergebniszusammenfassung Individuelle Entwicklungsaktivitäten | F8: Go | G8: =Bereichsdaten!G12 -> 0 | H8: =Bereichsdaten!H12 -> 0 | I8: =Bereichsdaten!I12 -> 0
B9: Go | C9: Ergebniszusammenfassung Veränderung Rahmenbedingungen | F9: Go | G9: =Bereichsdaten!G13 -> 0 | H9: =Bereichsdaten!H13 -> 0 | I9: =Bereichsdaten!I13 -> 0
B10: Go | C10: Ergebniszusammenfassung Vereinbarungen Zusammenarbeit | F10: Go | G10: =Bereichsdaten!G14 -> 0 | H10: =Bereichsdaten!H14 -> 0 | I10: =Bereichsdaten!I14 -> 0
B11: Go | C11: Ergebniszusammenfassung Wichtige Mitarbeiterthemen | F11: Go | G11: =Bereichsdaten!G15 -> 0 | H11: =Bereichsdaten!H15 -> 0 | I11: =Bereichsdaten!I15 -> 0
B12: Go | C12: Ergebniszusammenfassung Kommentare | F12: Go | G12: =Bereichsdaten!G16 -> 0 | H12: =Bereichsdaten!H16 -> 0 | I12: =Bereichsdaten!I16 -> 0
B13: Go | C13: Mitarbeitervorbereitung | F13: Go | G13: =Bereichsdaten!G17 -> 0 | H13: =Bereichsdaten!H17 -> 0 | I13: =Bereichsdaten!I17 -> 0
B14: Go | C14: Hilfsinformationen für die Führungskraft | F14: Go | G14: =Bereichsdaten!G18 -> 0 | H14: =Bereichsdaten!H18 -> 0 | I14: =Bereichsdaten!I18 -> 0
F15: Go | G15: =Bereichsdaten!G19 -> 0 | H15: =Bereichsdaten!H19 -> 0 | I15: =Bereichsdaten!I19 -> 0
F18: Blatt 1 | H18: Mitarbeitergespräch: Einschätzung von Kompetenzen
F20: für Mitarbeiter / in (MA) | P20: mit Führungskraft (FK) | U20: für Jahr | V20: =$K$3 -> 0
F21: Name: | G21: ='Form-05'!G10 -> 0 | H21: ='Form-05'!H10 -> 0 | I21: Funktion: | K21: ='Form-05'!I10 -> 0 | L21: ='Form-05'!L6 -> 0 | M21: ='Form-05'!M6 -> 0 | N21: ='Form-05'!N6 -> 0 | P21: Name: | Q21: =$G$5 -> 0 | T21: Abteilung: | U21: =$G$3 -> 0
P22: Vorname: | Q22: =$H$5 -> 0
F24: Kompetenzen zur Einschätzung von Fähigkeiten/Verhalten für Mitarbeiter/in, Führungskräfte | Q24: Kompetenzen nur für Führungskräfte
F25: Fachwissen, -fähigkeit | J25: Power und Gestaltungswille | Q25: Bereichssteuerung und - entwicklung
F26: erfüllt Aufgaben der Stelle gut | J26: arbeitet selbständig ohne viele Anweisungen | Q26: hat Arbeitsverteilung/Prozesse im Griff, schafft Rahmenbedingungen (Digitalisierung) damit Mitarbeiter produktiv/motiviert arbeiten können
F27: Methodenwissen,-fähigkeit | J27: zeigt Leistungsbereitschaft und Initiative, will etwas bewegen | Q27: verfolgt aktiv Schnittstellenmanagement zu anderen Unternehmensbereichen
F28: nutzt IT-gestützte Arbeitsmethoden | J28: erkennt und nutzt Gestaltungsspielräume | Q28: setzt Unternehmensstrategien um, sucht kontinuierlich nach Veränderungen als Chance für Fortschritt / Erfolg (KVP)
F29: Arbeitsorganisation, strukturierte Arbeitsweise, Zeitmanagement | J29: ist durchsetzungsstark, ohne verbrannte Erde zu hinterlassen | Q29: Mitarbeiter-, Teamführung
F30: Umgebungswissen | J30: Charakter und Anlagen | Q30: führt Mitarbeiter und Team zielorientiert und überprüft den Erfolg
F31: Grundlagenwissen aus anderen Fachbereichen | J31: Genauigkeit, Sorgfalt, Professionalität, Zuverlässigkeit | Q31: delegiert Ergebnisverantwortung erfolgreich
F32: Kenntnisse über Märkte und Produkte | J32: ist loyal gegenüber MA, Kollegen, Führungskräften, Unternehmen | Q32: handelt fair und zeigt Wertschätzung
F33: Kenntnisse über relevante interne / externe Unternehmenszusammenhänge | J33: ist belastbar (physisch / psychisch) | Q33: Team-, Mitarbeiterentwicklung
F34: Unternehmerisches Denken und Handeln | J34: hat Selbstvertrauen, ist selbstkritisch, gesteht Fehler ein | Q34: entwickelt Teams bzw. Mitarbeiter systematisch, setzt sich für die individuelle Entwicklung der Mitarbeiter ein
F35: setzt Zeit, Mittel, Aufwand kostenbewusst ein | J35: denkt positiv, humorvoll | Q35: setzt Teams / Mitarbeiter sinnvoll bzw. nach Fähigkeiten ein
F36: denkt / handelt ergebnisorientiert | J36: hat sich im Griff, Gelassenheit | Q36: beurteilt fair, setzt gemeinsam gefundene Konsequenzen aus Beurteilungen um
F37: denkt / handelt ganzheitlich, berücksichtigt Konsequenzen in anderen Bereichen | J37: Offenheit und Lernen
F38: orientiert sich im Handeln an Erwartungen externer / interner Kunden | J38: ist kreativ, Ideenfindung, macht qualifizierte Verbesserungsvorschläge | P38: Was kann daraus gelernt werden? (Vorbereitung MA + FK) Welche 3 Kompetenzinhalte beschreiben die größten Stärken aber auch die wichtigsten Entwicklungsfelder des Mitarbeiters, der Mitarbeiterin?
F39: Kommunikation und Information | J39: ist offen für neue Situationen, Flexibilität
F40: Ausdrucksvermögen (Sprache, Schrift) | J40: Lernbereitschaft, Weiterbildungsbereitschaft | P40: Stärke 1
F41: informiert offen, bedarfsgerecht und rechtzeitig | J41: gibt eigenes Wissen und Fähigkeiten weiter | P41: Stärke 2
F42: stellt Standpunkte klar und überzeugend dar | J42: Teamplayer | P42: Stärke 3
F43: kann zuhören, sich in andere hineinversetzen, (soziale Kompetenz) | J43: arbeitet mit anderen fair + konstruktiv zusammen, ist teamfähig | P43: Entwicklungsfeld 1
F44: fördert bereichsübergreifenden, fachlichen Informationsaustausch | J44: wirkt integrierend, kompromissfähig | P44: Entwicklungsfeld 2
F45: Verhandlungsgeschick | J45: regelt Konflikte konstruktiv, kritisiert konstruktiv | P45: Entwicklungsfeld 3
...

Sheet Form-06
B2: Blatt: Formular für Mitarbeitergespräch | V2: ©Dr. Wolfgang Schröder
B3: Go | C3: zum Deckblatt | E3: Bereich: | G3: =Bereichsdaten!G4 -> 0 | I3: Jahr | K3: =Bereichsdaten!$K$4 -> 0
B4: Go | C4: Anwendungshinweise | G4: Name | I4: Funktion
B5: Go | C5: Struktur des Instruments | E5: Führungskraft: | G5: =Bereichsdaten!G6 -> 0 | H5: =Bereichsdaten!H6 -> 0 | I5: =Bereichsdaten!I6 -> 0
B6: Go | C6: Daten des Bereichs | F6: Go | G6: =Bereichsdaten!G10 -> 0 | H6: =Bereichsdaten!H10 -> 0 | I6: =Bereichsdaten!I10 -> 0
B7: Go | C7: Zu den Gesprächsunterlagen | F7: Go | G7: =Bereichsdaten!G11 -> 0 | H7: =Bereichsdaten!H11 -> 0 | I7: =Bereichsdaten!I11 -> 0
B8: Go | C8: Ergebniszusammenfassung Individuelle Entwicklungsaktivitäten | F8: Go | G8: =Bereichsdaten!G12 -> 0 | H8: =Bereichsdaten!H12 -> 0 | I8: =Bereichsdaten!I12 -> 0
B9: Go | C9: Ergebniszusammenfassung Veränderung Rahmenbedingungen | F9: Go | G9: =Bereichsdaten!G13 -> 0 | H9: =Bereichsdaten!H13 -> 0 | I9: =Bereichsdaten!I13 -> 0
B10: Go | C10: Ergebniszusammenfassung Vereinbarungen Zusammenarbeit | F10: Go | G10: =Bereichsdaten!G14 -> 0 | H10: =Bereichsdaten!H14 -> 0 | I10: =Bereichsdaten!I14 -> 0
B11: Go | C11: Ergebniszusammenfassung Wichtige Mitarbeiterthemen | F11: Go | G11: =Bereichsdaten!G15 -> 0 | H11: =Bereichsdaten!H15 -> 0 | I11: =Bereichsdaten!I15 -> 0
B12: Go | C12: Ergebniszusammenfassung Kommentare | F12: Go | G12: =Bereichsdaten!G16 -> 0 | H12: =Bereichsdaten!H16 -> 0 | I12: =Bereichsdaten!I16 -> 0
B13: Go | C13: Mitarbeitervorbereitung | F13: Go | G13: =Bereichsdaten!G17 -> 0 | H13: =Bereichsdaten!H17 -> 0 | I13: =Bereichsdaten!I17 -> 0
B14: Go | C14: Hilfsinformationen für die Führungskraft | F14: Go | G14: =Bereichsdaten!G18 -> 0 | H14: =Bereichsdaten!H18 -> 0 | I14: =Bereichsdaten!I18 -> 0
F15: Go | G15: =Bereichsdaten!G19 -> 0 | H15: =Bereichsdaten!H19 -> 0 | I15: =Bereichsdaten!I19 -> 0
F18: Blatt 1 | H18: Mitarbeitergespräch: Einschätzung von Kompetenzen
F20: für Mitarbeiter / in (MA) | P20: mit Führungskraft (FK) | U20: für Jahr | V20: =$K$3 -> 0
F21: Name: | G21: ='Form-06'!G11 -> 0 | H21: ='Form-06'!H11 -> 0 | I21: Funktion: | K21: ='Form-06'!I11 -> 0 | L21: ='Form-06'!L6 -> 0 | M21: ='Form-06'!M6 -> 0 | N21: ='Form-06'!N6 -> 0 | P21: Name: | Q21: =$G$5 -> 0 | T21: Abteilung: | U21: =$G$3 -> 0
P22: Vorname: | Q22: =$H$5 -> 0
F24: Kompetenzen zur Einschätzung von Fähigkeiten/Verhalten für Mitarbeiter/in, Führungskräfte | Q24: Kompetenzen nur für Führungskräfte
F25: Fachwissen, -fähigkeit | J25: Power und Gestaltungswille | Q25: Bereichssteuerung und - entwicklung
F26: erfüllt Aufgaben der Stelle gut | J26: arbeitet selbständig ohne viele Anweisungen | Q26: hat Arbeitsverteilung/Prozesse im Griff, schafft Rahmenbedingungen (Digitalisierung) damit Mitarbeiter produktiv/motiviert arbeiten können
F27: Methodenwissen,-fähigkeit | J27: zeigt Leistungsbereitschaft und Initiative, will etwas bewegen | Q27: verfolgt aktiv Schnittstellenmanagement zu anderen Unternehmensbereichen
F28: nutzt IT-gestützte Arbeitsmethoden | J28: erkennt und nutzt Gestaltungsspielräume | Q28: setzt Unternehmensstrategien um, sucht kontinuierlich nach Veränderungen als Chance für Fortschritt / Erfolg (KVP)
F29: Arbeitsorganisation, strukturierte Arbeitsweise, Zeitmanagement | J29: ist durchsetzungsstark, ohne verbrannte Erde zu hinterlassen | Q29: Mitarbeiter-, Teamführung
F30: Umgebungswissen | J30: Charakter und Anlagen | Q30: führt Mitarbeiter und Team zielorientiert und überprüft den Erfolg
F31: Grundlagenwissen aus anderen Fachbereichen | J31: Genauigkeit, Sorgfalt, Professionalität, Zuverlässigkeit | Q31: delegiert Ergebnisverantwortung erfolgreich
F32: Kenntnisse über Märkte und Produkte | J32: ist loyal gegenüber MA, Kollegen, Führungskräften, Unternehmen | Q32: handelt fair und zeigt Wertschätzung
F33: Kenntnisse über relevante interne / externe Unternehmenszusammenhänge | J33: ist belastbar (physisch / psychisch) | Q33: Team-, Mitarbeiterentwicklung
F34: Unternehmerisches Denken und Handeln | J34: hat Selbstvertrauen, ist selbstkritisch, gesteht Fehler ein | Q34: entwickelt Teams bzw. Mitarbeiter systematisch, setzt sich für die individuelle Entwicklung der Mitarbeiter ein
F35: setzt Zeit, Mittel, Aufwand kostenbewusst ein | J35: denkt positiv, humorvoll | Q35: setzt Teams / Mitarbeiter sinnvoll bzw. nach Fähigkeiten ein
F36: denkt / handelt ergebnisorientiert | J36: hat sich im Griff, Gelassenheit | Q36: beurteilt fair, setzt gemeinsam gefundene Konsequenzen aus Beurteilungen um
F37: denkt / handelt ganzheitlich, berücksichtigt Konsequenzen in anderen Bereichen | J37: Offenheit und Lernen
F38: orientiert sich im Handeln an Erwartungen externer / interner Kunden | J38: ist kreativ, Ideenfindung, macht qualifizierte Verbesserungsvorschläge | P38: Was kann daraus gelernt werden? (Vorbereitung MA + FK) Welche 3 Kompetenzinhalte beschreiben die größten Stärken aber auch die wichtigsten Entwicklungsfelder des Mitarbeiters, der Mitarbeiterin?
F39: Kommunikation und Information | J39: ist offen für neue Situationen, Flexibilität
F40: Ausdrucksvermögen (Sprache, Schrift) | J40: Lernbereitschaft, Weiterbildungsbereitschaft | P40: Stärke 1
F41: informiert offen, bedarfsgerecht und rechtzeitig | J41: gibt eigenes Wissen und Fähigkeiten weiter | P41: Stärke 2
F42: stellt Standpunkte klar und überzeugend dar | J42: Teamplayer | P42: Stärke 3
F43: kann zuhören, sich in andere hineinversetzen, (soziale Kompetenz) | J43: arbeitet mit anderen fair + konstruktiv zusammen, ist teamfähig | P43: Entwicklungsfeld 1
F44: fördert bereichsübergreifenden, fachlichen Informationsaustausch | J44: wirkt integrierend, kompromissfähig | P44: Entwicklungsfeld 2
F45: Verhandlungsgeschick | J45: regelt Konflikte konstruktiv, kritisiert konstruktiv | P45: Entwicklungsfeld 3
...

Sheet Form-07
B2: Blatt: Formular für Mitarbeitergespräch | V2: ©Dr. Wolfgang Schröder
B3: Go | C3: zum Deckblatt | E3: Bereich: | G3: =Bereichsdaten!G4 -> 0 | I3: Jahr | K3: =Bereichsdaten!$K$4 -> 0
B4: Go | C4: Anwendungshinweise | G4: Name | I4: Funktion
B5: Go | C5: Struktur des Instruments | E5: Führungskraft: | G5: =Bereichsdaten!G6 -> 0 | H5: =Bereichsdaten!H6 -> 0 | I5: =Bereichsdaten!I6 -> 0
B6: Go | C6: Daten des Bereichs | F6: Go | G6: =Bereichsdaten!G10 -> 0 | H6: =Bereichsdaten!H10 -> 0 | I6: =Bereichsdaten!I10 -> 0
B7: Go | C7: Zu den Gesprächsunterlagen | F7: Go | G7: =Bereichsdaten!G11 -> 0 | H7: =Bereichsdaten!H11 -> 0 | I7: =Bereichsdaten!I11 -> 0
B8: Go | C8: Ergebniszusammenfassung Individuelle Entwicklungsaktivitäten | F8: Go | G8: =Bereichsdaten!G12 -> 0 | H8: =Bereichsdaten!H12 -> 0 | I8: =Bereichsdaten!I12 -> 0
B9: Go | C9: Ergebniszusammenfassung Veränderung Rahmenbedingungen | F9: Go | G9: =Bereichsdaten!G13 -> 0 | H9: =Bereichsdaten!H13 -> 0 | I9: =Bereichsdaten!I13 -> 0
B10: Go | C10: Ergebniszusammenfassung Vereinbarungen Zusammenarbeit | F10: Go | G10: =Bereichsdaten!G14 -> 0 | H10: =Bereichsdaten!H14 -> 0 | I10: =Bereichsdaten!I14 -> 0
B11: Go | C11: Ergebniszusammenfassung Wichtige Mitarbeiterthemen | F11: Go | G11: =Bereichsdaten!G15 -> 0 | H11: =Bereichsdaten!H15 -> 0 | I11: =Bereichsdaten!I15 -> 0
B12: Go | C12: Ergebniszusammenfassung Kommentare | F12: Go | G12: =Bereichsdaten!G16 -> 0 | H12: =Bereichsdaten!H16 -> 0 | I12: =Bereichsdaten!I16 -> 0
B13: Go | C13: Mitarbeitervorbereitung | F13: Go | G13: =Bereichsdaten!G17 -> 0 | H13: =Bereichsdaten!H17 -> 0 | I13: =Bereichsdaten!I17 -> 0
B14: Go | C14: Hilfsinformationen für die Führungskraft | F14: Go | G14: =Bereichsdaten!G18 -> 0 | H14: =Bereichsdaten!H18 -> 0 | I14: =Bereichsdaten!I18 -> 0
F15: Go | G15: =Bereichsdaten!G19 -> 0 | H15: =Bereichsdaten!H19 -> 0 | I15: =Bereichsdaten!I19 -> 0
F18: Blatt 1 | H18: Mitarbeitergespräch: Einschätzung von Kompetenzen
F20: für Mitarbeiter / in (MA) | P20: mit Führungskraft (FK) | U20: für Jahr | V20: =$K$3 -> 0
F21: Name: | G21: ='Form-07'!G12 -> 0 | H21: ='Form-07'!H12 -> 0 | I21: Funktion: | K21: ='Form-07'!I12 -> 0 | L21: ='Form-07'!L6 -> 0 | M21: ='Form-07'!M6 -> 0 | N21: ='Form-07'!N6 -> 0 | P21: Name: | Q21: =$G$5 -> 0 | T21: Abteilung: | U21: =$G$3 -> 0
P22: Vorname: | Q22: =$H$5 -> 0
F24: Kompetenzen zur Einschätzung von Fähigkeiten/Verhalten für Mitarbeiter/in, Führungskräfte | Q24: Kompetenzen nur für Führungskräfte
F25: Fachwissen, -fähigkeit | J25: Power und Gestaltungswille | Q25: Bereichssteuerung und - entwicklung
F26: erfüllt Aufgaben der Stelle gut | J26: arbeitet selbständig ohne viele Anweisungen | Q26: hat Arbeitsverteilung/Prozesse im Griff, schafft Rahmenbedingungen (Digitalisierung) damit Mitarbeiter produktiv/motiviert arbeiten können
F27: Methodenwissen,-fähigkeit | J27: zeigt Leistungsbereitschaft und Initiative, will etwas bewegen | Q27: verfolgt aktiv Schnittstellenmanagement zu anderen Unternehmensbereichen
F28: nutzt IT-gestützte Arbeitsmethoden | J28: erkennt und nutzt Gestaltungsspielräume | Q28: setzt Unternehmensstrategien um, sucht kontinuierlich nach Veränderungen als Chance für Fortschritt / Erfolg (KVP)
F29: Arbeitsorganisation, strukturierte Arbeitsweise, Zeitmanagement | J29: ist durchsetzungsstark, ohne verbrannte Erde zu hinterlassen | Q29: Mitarbeiter-, Teamführung
F30: Umgebungswissen | J30: Charakter und Anlagen | Q30: führt Mitarbeiter und Team zielorientiert und überprüft den Erfolg
F31: Grundlagenwissen aus anderen Fachbereichen | J31: Genauigkeit, Sorgfalt, Professionalität, Zuverlässigkeit | Q31: delegiert Ergebnisverantwortung erfolgreich
F32: Kenntnisse über Märkte und Produkte | J32: ist loyal gegenüber MA, Kollegen, Führungskräften, Unternehmen | Q32: handelt fair und zeigt Wertschätzung
F33: Kenntnisse über relevante interne / externe Unternehmenszusammenhänge | J33: ist belastbar (physisch / psychisch) | Q33: Team-, Mitarbeiterentwicklung
F34: Unternehmerisches Denken und Handeln | J34: hat Selbstvertrauen, ist selbstkritisch, gesteht Fehler ein | Q34: entwickelt Teams bzw. Mitarbeiter systematisch, setzt sich für die individuelle Entwicklung der Mitarbeiter ein
F35: setzt Zeit, Mittel, Aufwand kostenbewusst ein | J35: denkt positiv, humorvoll | Q35: setzt Teams / Mitarbeiter sinnvoll bzw. nach Fähigkeiten ein
F36: denkt / handelt ergebnisorientiert | J36: hat sich im Griff, Gelassenheit | Q36: beurteilt fair, setzt gemeinsam gefundene Konsequenzen aus Beurteilungen um
F37: denkt / handelt ganzheitlich, berücksichtigt Konsequenzen in anderen Bereichen | J37: Offenheit und Lernen
F38: orientiert sich im Handeln an Erwartungen externer / interner Kunden | J38: ist kreativ, Ideenfindung, macht qualifizierte Verbesserungsvorschläge | P38: Was kann daraus gelernt werden? (Vorbereitung MA + FK) Welche 3 Kompetenzinhalte beschreiben die größten Stärken aber auch die wichtigsten Entwicklungsfelder des Mitarbeiters, der Mitarbeiterin?
F39: Kommunikation und Information | J39: ist offen für neue Situationen, Flexibilität
F40: Ausdrucksvermögen (Sprache, Schrift) | J40: Lernbereitschaft, Weiterbildungsbereitschaft | P40: Stärke 1
F41: informiert offen, bedarfsgerecht und rechtzeitig | J41: gibt eigenes Wissen und Fähigkeiten weiter | P41: Stärke 2
F42: stellt Standpunkte klar und überzeugend dar | J42: Teamplayer | P42: Stärke 3
F43: kann zuhören, sich in andere hineinversetzen, (soziale Kompetenz) | J43: arbeitet mit anderen fair + konstruktiv zusammen, ist teamfähig | P43: Entwicklungsfeld 1
F44: fördert bereichsübergreifenden, fachlichen Informationsaustausch | J44: wirkt integrierend, kompromissfähig | P44: Entwicklungsfeld 2
F45: Verhandlungsgeschick | J45: regelt Konflikte konstruktiv, kritisiert konstruktiv | P45: Entwicklungsfeld 3
...

Sheet Form-08
B2: Blatt: Formular für Mitarbeitergespräch | V2: ©Dr. Wolfgang Schröder
B3: Go | C3: zum Deckblatt | E3: Bereich: | G3: =Bereichsdaten!G4 -> 0 | I3: Jahr | K3: =Bereichsdaten!$K$4 -> 0
B4: Go | C4: Anwendungshinweise | G4: Name | I4: Funktion
B5: Go | C5: Struktur des Instruments | E5: Führungskraft: | G5: =Bereichsdaten!G6 -> 0 | H5: =Bereichsdaten!H6 -> 0 | I5: =Bereichsdaten!I6 -> 0
B6: Go | C6: Daten des Bereichs | F6: Go | G6: =Bereichsdaten!G10 -> 0 | H6: =Bereichsdaten!H10 -> 0 | I6: =Bereichsdaten!I10 -> 0
B7: Go | C7: Zu den Gesprächsunterlagen | F7: Go | G7: =Bereichsdaten!G11 -> 0 | H7: =Bereichsdaten!H11 -> 0 | I7: =Bereichsdaten!I11 -> 0
B8: Go | C8: Ergebniszusammenfassung Individuelle Entwicklungsaktivitäten | F8: Go | G8: =Bereichsdaten!G12 -> 0 | H8: =Bereichsdaten!H12 -> 0 | I8: =Bereichsdaten!I12 -> 0
B9: Go | C9: Ergebniszusammenfassung Veränderung Rahmenbedingungen | F9: Go | G9: =Bereichsdaten!G13 -> 0 | H9: =Bereichsdaten!H13 -> 0 | I9: =Bereichsdaten!I13 -> 0
B10: Go | C10: Ergebniszusammenfassung Vereinbarungen Zusammenarbeit | F10: Go | G10: =Bereichsdaten!G14 -> 0 | H10: =Bereichsdaten!H14 -> 0 | I10: =Bereichsdaten!I14 -> 0
B11: Go | C11: Ergebniszusammenfassung Wichtige Mitarbeiterthemen | F11: Go | G11: =Bereichsdaten!G15 -> 0 | H11: =Bereichsdaten!H15 -> 0 | I11: =Bereichsdaten!I15 -> 0
B12: Go | C12: Ergebniszusammenfassung Kommentare | F12: Go | G12: =Bereichsdaten!G16 -> 0 | H12: =Bereichsdaten!H16 -> 0 | I12: =Bereichsdaten!I16 -> 0
B13: Go | C13: Mitarbeitervorbereitung | F13: Go | G13: =Bereichsdaten!G17 -> 0 | H13: =Bereichsdaten!H17 -> 0 | I13: =Bereichsdaten!I17 -> 0
B14: Go | C14: Hilfsinformationen für die Führungskraft | F14: Go | G14: =Bereichsdaten!G18 -> 0 | H14: =Bereichsdaten!H18 -> 0 | I14: =Bereichsdaten!I18 -> 0
F15: Go | G15: =Bereichsdaten!G19 -> 0 | H15: =Bereichsdaten!H19 -> 0 | I15: =Bereichsdaten!I19 -> 0
F18: Blatt 1 | H18: Mitarbeitergespräch: Einschätzung von Kompetenzen
F20: für Mitarbeiter / in (MA) | P20: mit Führungskraft (FK) | U20: für Jahr | V20: =$K$3 -> 0
F21: Name: | G21: ='Form-08'!G13 -> 0 | H21: ='Form-08'!H13 -> 0 | I21: Funktion: | K21: ='Form-08'!I13 -> 0 | L21: ='Form-08'!L6 -> 0 | M21: ='Form-08'!M6 -> 0 | N21: ='Form-08'!N6 -> 0 | P21: Name: | Q21: =$G$5 -> 0 | T21: Abteilung: | U21: =$G$3 -> 0
P22: Vorname: | Q22: =$H$5 -> 0
F24: Kompetenzen zur Einschätzung von Fähigkeiten/Verhalten für Mitarbeiter/in, Führungskräfte | Q24: Kompetenzen nur für Führungskräfte
F25: Fachwissen, -fähigkeit | J25: Power und Gestaltungswille | Q25: Bereichssteuerung und - entwicklung
F26: erfüllt Aufgaben der Stelle gut | J26: arbeitet selbständig ohne viele Anweisungen | Q26: hat Arbeitsverteilung/Prozesse im Griff, schafft Rahmenbedingungen (Digitalisierung) damit Mitarbeiter produktiv/motiviert arbeiten können
F27: Methodenwissen,-fähigkeit | J27: zeigt Leistungsbereitschaft und Initiative, will etwas bewegen | Q27: verfolgt aktiv Schnittstellenmanagement zu anderen Unternehmensbereichen
F28: nutzt IT-gestützte Arbeitsmethoden | J28: erkennt und nutzt Gestaltungsspielräume | Q28: setzt Unternehmensstrategien um, sucht kontinuierlich nach Veränderungen als Chance für Fortschritt / Erfolg (KVP)
F29: Arbeitsorganisation, strukturierte Arbeitsweise, Zeitmanagement | J29: ist durchsetzungsstark, ohne verbrannte Erde zu hinterlassen | Q29: Mitarbeiter-, Teamführung
F30: Umgebungswissen | J30: Charakter und Anlagen | Q30: führt Mitarbeiter und Team zielorientiert und überprüft den Erfolg
F31: Grundlagenwissen aus anderen Fachbereichen | J31: Genauigkeit, Sorgfalt, Professionalität, Zuverlässigkeit | Q31: delegiert Ergebnisverantwortung erfolgreich
F32: Kenntnisse über Märkte und Produkte | J32: ist loyal gegenüber MA, Kollegen, Führungskräften, Unternehmen | Q32: handelt fair und zeigt Wertschätzung
F33: Kenntnisse über relevante interne / externe Unternehmenszusammenhänge | J33: ist belastbar (physisch / psychisch) | Q33: Team-, Mitarbeiterentwicklung
F34: Unternehmerisches Denken und Handeln | J34: hat Selbstvertrauen, ist selbstkritisch, gesteht Fehler ein | Q34: entwickelt Teams bzw. Mitarbeiter systematisch, setzt sich für die individuelle Entwicklung der Mitarbeiter ein
F35: setzt Zeit, Mittel, Aufwand kostenbewusst ein | J35: denkt positiv, humorvoll | Q35: setzt Teams / Mitarbeiter sinnvoll bzw. nach Fähigkeiten ein
F36: denkt / handelt ergebnisorientiert | J36: hat sich im Griff, Gelassenheit | Q36: beurteilt fair, setzt gemeinsam gefundene Konsequenzen aus Beurteilungen um
F37: denkt / handelt ganzheitlich, berücksichtigt Konsequenzen in anderen Bereichen | J37: Offenheit und Lernen
F38: orientiert sich im Handeln an Erwartungen externer / interner Kunden | J38: ist kreativ, Ideenfindung, macht qualifizierte Verbesserungsvorschläge | P38: Was kann daraus gelernt werden? (Vorbereitung MA + FK) Welche 3 Kompetenzinhalte beschreiben die größten Stärken aber auch die wichtigsten Entwicklungsfelder des Mitarbeiters, der Mitarbeiterin?
F39: Kommunikation und Information | J39: ist offen für neue Situationen, Flexibilität
F40: Ausdrucksvermögen (Sprache, Schrift) | J40: Lernbereitschaft, Weiterbildungsbereitschaft | P40: Stärke 1
F41: informiert offen, bedarfsgerecht und rechtzeitig | J41: gibt eigenes Wissen und Fähigkeiten weiter | P41: Stärke 2
F42: stellt Standpunkte klar und überzeugend dar | J42: Teamplayer | P42: Stärke 3
F43: kann zuhören, sich in andere hineinversetzen, (soziale Kompetenz) | J43: arbeitet mit anderen fair + konstruktiv zusammen, ist teamfähig | P43: Entwicklungsfeld 1
F44: fördert bereichsübergreifenden, fachlichen Informationsaustausch | J44: wirkt integrierend, kompromissfähig | P44: Entwicklungsfeld 2
F45: Verhandlungsgeschick | J45: regelt Konflikte konstruktiv, kritisiert konstruktiv | P45: Entwicklungsfeld 3
...

Sheet Form-09
B2: Blatt: Formular für Mitarbeitergespräch | V2: ©Dr. Wolfgang Schröder
B3: Go | C3: zum Deckblatt | E3: Bereich: | G3: =Bereichsdaten!G4 -> 0 | I3: Jahr | K3: =Bereichsdaten!$K$4 -> 0
B4: Go | C4: Anwendungshinweise | G4: Name | I4: Funktion
B5: Go | C5: Struktur des Instruments | E5: Führungskraft: | G5: =Bereichsdaten!G6 -> 0 | H5: =Bereichsdaten!H6 -> 0 | I5: =Bereichsdaten!I6 -> 0
B6: Go | C6: Daten des Bereichs | F6: Go | G6: =Bereichsdaten!G10 -> 0 | H6: =Bereichsdaten!H10 -> 0 | I6: =Bereichsdaten!I10 -> 0
B7: Go | C7: Zu den Gesprächsunterlagen | F7: Go | G7: =Bereichsdaten!G11 -> 0 | H7: =Bereichsdaten!H11 -> 0 | I7: =Bereichsdaten!I11 -> 0
B8: Go | C8: Ergebniszusammenfassung Individuelle Entwicklungsaktivitäten | F8: Go | G8: =Bereichsdaten!G12 -> 0 | H8: =Bereichsdaten!H12 -> 0 | I8: =Bereichsdaten!I12 -> 0
B9: Go | C9: Ergebniszusammenfassung Veränderung Rahmenbedingungen | F9: Go | G9: =Bereichsdaten!G13 -> 0 | H9: =Bereichsdaten!H13 -> 0 | I9: =Bereichsdaten!I13 -> 0
B10: Go | C10: Ergebniszusammenfassung Vereinbarungen Zusammenarbeit | F10: Go | G10: =Bereichsdaten!G14 -> 0 | H10: =Bereichsdaten!H14 -> 0 | I10: =Bereichsdaten!I14 -> 0
B11: Go | C11: Ergebniszusammenfassung Wichtige Mitarbeiterthemen | F11: Go | G11: =Bereichsdaten!G15 -> 0 | H11: =Bereichsdaten!H15 -> 0 | I11: =Bereichsdaten!I15 -> 0
B12: Go | C12: Ergebniszusammenfassung Kommentare | F12: Go | G12: =Bereichsdaten!G16 -> 0 | H12: =Bereichsdaten!H16 -> 0 | I12: =Bereichsdaten!I16 -> 0
B13: Go | C13: Mitarbeitervorbereitung | F13: Go | G13: =Bereichsdaten!G17 -> 0 | H13: =Bereichsdaten!H17 -> 0 | I13: =Bereichsdaten!I17 -> 0
B14: Go | C14: Hilfsinformationen für die Führungskraft | F14: Go | G14: =Bereichsdaten!G18 -> 0 | H14: =Bereichsdaten!H18 -> 0 | I14: =Bereichsdaten!I18 -> 0
F15: Go | G15: =Bereichsdaten!G19 -> 0 | H15: =Bereichsdaten!H19 -> 0 | I15: =Bereichsdaten!I19 -> 0
F18: Blatt 1 | H18: Mitarbeitergespräch: Einschätzung von Kompetenzen
F20: für Mitarbeiter / in (MA) | P20: mit Führungskraft (FK) | U20: für Jahr | V20: =$K$3 -> 0
F21: Name: | G21: ='Form-09'!G14 -> 0 | H21: ='Form-09'!H14 -> 0 | I21: Funktion: | K21: ='Form-09'!I14 -> 0 | L21: ='Form-09'!L6 -> 0 | M21: ='Form-09'!M6 -> 0 | N21: ='Form-09'!N6 -> 0 | P21: Name: | Q21: =$G$5 -> 0 | T21: Abteilung: | U21: =$G$3 -> 0
P22: Vorname: | Q22: =$H$5 -> 0
F24: Kompetenzen zur Einschätzung von Fähigkeiten/Verhalten für Mitarbeiter/in, Führungskräfte | Q24: Kompetenzen nur für Führungskräfte
F25: Fachwissen, -fähigkeit | J25: Power und Gestaltungswille | Q25: Bereichssteuerung und - entwicklung
F26: erfüllt Aufgaben der Stelle gut | J26: arbeitet selbständig ohne viele Anweisungen | Q26: hat Arbeitsverteilung/Prozesse im Griff, schafft Rahmenbedingungen (Digitalisierung) damit Mitarbeiter produktiv/motiviert arbeiten können
F27: Methodenwissen,-fähigkeit | J27: zeigt Leistungsbereitschaft und Initiative, will etwas bewegen | Q27: verfolgt aktiv Schnittstellenmanagement zu anderen Unternehmensbereichen
F28: nutzt IT-gestützte Arbeitsmethoden | J28: erkennt und nutzt Gestaltungsspielräume | Q28: setzt Unternehmensstrategien um, sucht kontinuierlich nach Veränderungen als Chance für Fortschritt / Erfolg (KVP)
F29: Arbeitsorganisation, strukturierte Arbeitsweise, Zeitmanagement | J29: ist durchsetzungsstark, ohne verbrannte Erde zu hinterlassen | Q29: Mitarbeiter-, Teamführung
F30: Umgebungswissen | J30: Charakter und Anlagen | Q30: führt Mitarbeiter und Team zielorientiert und überprüft den Erfolg
F31: Grundlagenwissen aus anderen Fachbereichen | J31: Genauigkeit, Sorgfalt, Professionalität, Zuverlässigkeit | Q31: delegiert Ergebnisverantwortung erfolgreich
F32: Kenntnisse über Märkte und Produkte | J32: ist loyal gegenüber MA, Kollegen, Führungskräften, Unternehmen | Q32: handelt fair und zeigt Wertschätzung
F33: Kenntnisse über relevante interne / externe Unternehmenszusammenhänge | J33: ist belastbar (physisch / psychisch) | Q33: Team-, Mitarbeiterentwicklung
F34: Unternehmerisches Denken und Handeln | J34: hat Selbstvertrauen, ist selbstkritisch, gesteht Fehler ein | Q34: entwickelt Teams bzw. Mitarbeiter systematisch, setzt sich für die individuelle Entwicklung der Mitarbeiter ein
F35: setzt Zeit, Mittel, Aufwand kostenbewusst ein | J35: denkt positiv, humorvoll | Q35: setzt Teams / Mitarbeiter sinnvoll bzw. nach Fähigkeiten ein
F36: denkt / handelt ergebnisorientiert | J36: hat sich im Griff, Gelassenheit | Q36: beurteilt fair, setzt gemeinsam gefundene Konsequenzen aus Beurteilungen um
F37: denkt / handelt ganzheitlich, berücksichtigt Konsequenzen in anderen Bereichen | J37: Offenheit und Lernen
F38: orientiert sich im Handeln an Erwartungen externer / interner Kunden | J38: ist kreativ, Ideenfindung, macht qualifizierte Verbesserungsvorschläge | P38: Was kann daraus gelernt werden? (Vorbereitung MA + FK) Welche 3 Kompetenzinhalte beschreiben die größten Stärken aber auch die wichtigsten Entwicklungsfelder des Mitarbeiters, der Mitarbeiterin?
F39: Kommunikation und Information | J39: ist offen für neue Situationen, Flexibilität
F40: Ausdrucksvermögen (Sprache, Schrift) | J40: Lernbereitschaft, Weiterbildungsbereitschaft | P40: Stärke 1
F41: informiert offen, bedarfsgerecht und rechtzeitig | J41: gibt eigenes Wissen und Fähigkeiten weiter | P41: Stärke 2
F42: stellt Standpunkte klar und überzeugend dar | J42: Teamplayer | P42: Stärke 3
F43: kann zuhören, sich in andere hineinversetzen, (soziale Kompetenz) | J43: arbeitet mit anderen fair + konstruktiv zusammen, ist teamfähig | P43: Entwicklungsfeld 1
F44: fördert bereichsübergreifenden, fachlichen Informationsaustausch | J44: wirkt integrierend, kompromissfähig | P44: Entwicklungsfeld 2
F45: Verhandlungsgeschick | J45: regelt Konflikte konstruktiv, kritisiert konstruktiv | P45: Entwicklungsfeld 3
...

Sheet Form-10
B2: Blatt: Formular für Mitarbeitergespräch | V2: ©Dr. Wolfgang Schröder
B3: Go | C3: zum Deckblatt | E3: Bereich: | G3: =Bereichsdaten!G4 -> 0 | I3: Jahr | K3: =Bereichsdaten!$K$4 -> 0
B4: Go | C4: Anwendungshinweise | G4: Name | I4: Funktion
B5: Go | C5: Struktur des Instruments | E5: Führungskraft: | G5: =Bereichsdaten!G6 -> 0 | H5: =Bereichsdaten!H6 -> 0 | I5: =Bereichsdaten!I6 -> 0
B6: Go | C6: Daten des Bereichs | F6: Go | G6: =Bereichsdaten!G10 -> 0 | H6: =Bereichsdaten!H10 -> 0 | I6: =Bereichsdaten!I10 -> 0
B7: Go | C7: Zu den Gesprächsunterlagen | F7: Go | G7: =Bereichsdaten!G11 -> 0 | H7: =Bereichsdaten!H11 -> 0 | I7: =Bereichsdaten!I11 -> 0
B8: Go | C8: Ergebniszusammenfassung Individuelle Entwicklungsaktivitäten | F8: Go | G8: =Bereichsdaten!G12 -> 0 | H8: =Bereichsdaten!H12 -> 0 | I8: =Bereichsdaten!I12 -> 0
B9: Go | C9: Ergebniszusammenfassung Veränderung Rahmenbedingungen | F9: Go | G9: =Bereichsdaten!G13 -> 0 | H9: =Bereichsdaten!H13 -> 0 | I9: =Bereichsdaten!I13 -> 0
B10: Go | C10: Ergebniszusammenfassung Vereinbarungen Zusammenarbeit | F10: Go | G10: =Bereichsdaten!G14 -> 0 | H10: =Bereichsdaten!H14 -> 0 | I10: =Bereichsdaten!I14 -> 0
B11: Go | C11: Ergebniszusammenfassung Wichtige Mitarbeiterthemen | F11: Go | G11: =Bereichsdaten!G15 -> 0 | H11: =Bereichsdaten!H15 -> 0 | I11: =Bereichsdaten!I15 -> 0
B12: Go | C12: Ergebniszusammenfassung Kommentare | F12: Go | G12: =Bereichsdaten!G16 -> 0 | H12: =Bereichsdaten!H16 -> 0 | I12: =Bereichsdaten!I16 -> 0
B13: Go | C13: Mitarbeitervorbereitung | F13: Go | G13: =Bereichsdaten!G17 -> 0 | H13: =Bereichsdaten!H17 -> 0 | I13: =Bereichsdaten!I17 -> 0
B14: Go | C14: Hilfsinformationen für die Führungskraft | F14: Go | G14: =Bereichsdaten!G18 -> 0 | H14: =Bereichsdaten!H18 -> 0 | I14: =Bereichsdaten!I18 -> 0
F15: Go | G15: =Bereichsdaten!G19 -> 0 | H15: =Bereichsdaten!H19 -> 0 | I15: =Bereichsdaten!I19 -> 0
F18: Blatt 1 | H18: Mitarbeitergespräch: Einschätzung von Kompetenzen
F20: für Mitarbeiter / in (MA) | P20: mit Führungskraft (FK) | U20: für Jahr | V20: =$K$3 -> 0
F21: Name: | G21: ='Form-10'!G15 -> 0 | H21: ='Form-10'!H15 -> 0 | I21: Funktion: | K21: ='Form-10'!I15 -> 0 | L21: ='Form-10'!L6 -> 0 | M21: ='Form-10'!M6 -> 0 | N21: ='Form-10'!N6 -> 0 | P21: Name: | Q21: =$G$5 -> 0 | T21: Abteilung: | U21: =$G$3 -> 0
P22: Vorname: | Q22: =$H$5 -> 0
F24: Kompetenzen zur Einschätzung von Fähigkeiten/Verhalten für Mitarbeiter/in, Führungskräfte | Q24: Kompetenzen nur für Führungskräfte
F25: Fachwissen, -fähigkeit | J25: Power und Gestaltungswille | Q25: Bereichssteuerung und - entwicklung
F26: erfüllt Aufgaben der Stelle gut | J26: arbeitet selbständig ohne viele Anweisungen | Q26: hat Arbeitsverteilung/Prozesse im Griff, schafft Rahmenbedingungen (Digitalisierung) damit Mitarbeiter produktiv/motiviert arbeiten können
