Workbook

Sheet Deckblatt
D6: Tool Mitarbeitergespräch
G10: ©Dr. Wolfgang Schröder Personalsysteme D-58540 Meinerzhagen Genkeler Str. 47 Tel. 02354 - 65 66 Dr.W.Schroeder@t-online.de
E13: Unternehmensbereich
E16: Führungskraft
D17: Vorname
D18: Name
C22: Go | D22: um auf die nächste Seite zu gelangen klicken Sie in "Go"
D24: alle Blätter sind gesichert mit : 1
D25: damit nicht aus Versehen die Verlinkung gelöscht wird

Sheet Anwendung
B2: Go | C2: 1 Blatt zurück Deckblatt
B3: Go | C3: Nächstes Blatt zur Struktur des Instruments | E3: Wie mit dem Instrument umgehen?
E5: Das Tool nutzt das Anwendungsprogramm Microsoft-Excel. Die einzelnen Blätter sind verlinkt (verknüpft) und es wird über Schaltflächen (Go) navigiert.
E6: Sie können nur in den gelb unterlegten Feldern schreiben. Inhalte in blauen Feldern stammen aus einem anderen Blatt und können nur in dem Ursprungsblatt verändert werden.
E7: Kopieren Sie niemals eine ganze Zelle, sondern nur Zelleninhalte! Wenn Sie eine ganze Zelle kopieren, verändern Sie die voreingestellten Bezüge im Tool und erhalten von da ab fehlerhafte Bezüge. Kopieren Sie nur Inhalte und das geht auf 2 Wegen: Zelle 2 x anklicken, Inhalt kopieren, gewünschte Zelle auswählen, 2 x anklicken und einsetzen oder Zelle anklicken, Rechte Maustaste = "kopieren" auswählen, dann gewünschte Zelle oder Zellen auswählen, dann Rechte Maustaste "Inhalte einfügen" auswählen, dann "Werte und Zahlenformate" auswählen.

Sheet Struktur
C2: Blatt: Struktur des Instruments | D2: ©Dr. Wolfgang Schröder
B3: Go | C3: zum Deckblatt
B4: Go | C4: Anwendungshinweise | D4: Die zu beachtenden Regeln, insbesondere zum Kopieren
B5: Go | C5: Struktur des Instruments | D5: Übersicht zur Struktur des Instruments
B6: Go | C6: Daten des Bereichs | D6: Hier werden alle notwendigen Daten einmal eingegeben und übertragen sich automatisch auf jede Unterlage im Instrument. Die Unterlagen können direkt ausgedruckt werden.
B7: Go | C7: Zu den Gesprächsunterlagen | D7: Hier finden Sie die Gesprächsunterlagen für die Mitarbeitergespräche
B8: Go | C8: Ergebniszusammenfassung Individuelle Entwicklungsaktivitäten | D8: Hier sammeln sich alle Gesprächsergebnisse zu besprochenen Entwicklungsaktivitäten.
B9: Go | C9: Ergebniszus.Veränderung der Rahmenbedingungen | D9: Hier sammeln sich alle Gesprächsergebnisse zu besprochenen Veränderungen in den Rahmenbedingungen
B10: Go | C10: Ergebniszusammenfassung Vereinbarungen Zusammenarbeit | D10: Hier sammeln sich alle Vereinbarungen zur Verbesserung der Zusammenarbeit von Führungskraft und Mitarbeiter / in
B11: Go | C11: Ergebniszusammenfassung Wichtige Mitarbeiterthemen | D11: Hier sammeln sich alle Gesprächsergebnisse zu den wichtigen Themen aus Sicht des Mitarbeiters
B12: Go | C12: Ergebniszusammenfassung Kommentare | D12: Hier sammeln sich alle Gesprächsergebnisse zu Kommentaren am Ende des Gesprächs.
B13: Go | C13: Mitarbeitervorbereitung | D13: Mit diesem Blatt können Sie alle Informationen für die MitarbeiterInnen ausdrucken, damit sich die MitarbeiterInnen optimal vorbereiten
B14: Go | C14: Hilfsinformationen für die Führungskraft | D14: Hier finden Sie alle Informationen, um das Gespräch erfolgreich durchzuführen

Sheet Bereichsdaten
B2: Blatt: Daten des Bereichs | L2: ©Dr. Wolfgang Schröder
B3: Go | C3: zum Deckblatt
B4: Go | C4: Anwendungshinweise | E4: Bereich: | G4: =Deckblatt!E14 -> 0 | J4: Unterlage für das Jahr
B5: Go | C5: Struktur des Instruments | G5: Name | H5: Vorname | I5: Funktion
B6: Go | C6: Daten des Bereichs | E6: Führungskraft: | G6: =Deckblatt!$E$18 -> 0 | H6: =Deckblatt!$E$17 -> 0
B8: Go | C8: Zu den Gesprächsunterlagen | E8: Namen / Führungsstruktur | G8: Mitarbeiter, Mitarbeiterinnen | J8: Führungskraft, die das Gespräch führt
B9: Go | C9: Ergebniszusammenfassung Individuelle Entwicklungsaktivitäten | G9: Name | H9: Vorname | I9: Position | J9: Name | K9: Vorname | L9: Unternehmensbereich
B10: Go | C10: Ergebniszusammenfassung Veränderung Rahmenbedingungen | F10: 1
B11: Go | C11: Ergebniszusammenfassung Vereinbarungen Zusammenarbeit | F11: 2
B12: Go | C12: Ergebniszusammenfassung Wichtige Mitarbeiterthemen | F12: 3
B13: Go | C13: Ergebniszusammenfassung Kommentare | F13: 4
B14: Go | C14: Mitarbeitervorbereitung | F14: 5
B15: Go | C15: Hilfsinformationen für die Führungskraft | F15: 6
C16: Bitte bedenken Sie: Sie sollten später die Reihenfolge der Mitarbeiter nicht ändern, da das Formular für das Gespräch fest mit dem Namensfeld verknüpft ist. Wenn also ein Mitarbeiter Ihren Bereich verlässt, dann löschen Sie den Namen und lassen Sie die entsprechende Zeile leer. Danach müssen die Inhalte auf dem Gesprächsformular gelöscht werden. Hier kann dann ein neuer Mitarbeiter eingetragen werden. | F16: 7
F17: 8
F18: 9
F19: 10

Sheet Form-01
B2: Blatt: Formular für Mitarbeitergespräch | V2: ©Dr. Wolfgang Schröder
B3: Go | C3: zum Deckblatt | E3: Bereich: | G3: =Bereichsdaten!G4 -> 0 | I3: Jahr | K3: =Bereichsdaten!$K$4 -> 0
B4: Go | C4: Anwendungshinweise | G4: Name | I4: Funktion
B5: Go | C5: Struktur des Instruments | E5: Führungskraft: | G5: =Bereichsdaten!G6 -> 0 | H5: =Bereichsdaten!H6 -> 0 | I5: =Bereichsdaten!I6 -> 0
B6: Go | C6: Daten des Bereichs | F6: Go | G6: =Bereichsdaten!G10 -> 0 | H6: =Bereichsdaten!H10 -> 0 | I6: =Bereichsdaten!I10 -> 0
B7: Go | C7: Zu den Gesprächsunterlagen | F7: Go | G7: =Bereichsdaten!G11 -> 0 | H7: =Bereichsdaten!H11 -> 0 | I7: =Bereichsdaten!I11 -> 0
B8: Go | C8: Ergebniszusammenfassung Individuelle Entwicklungsaktivitäten | F8: Go | G8: =Bereichsdaten!G12 -> 0 | H8: =Bereichsdaten!H12 -> 0 | I8: =Bereichsdaten!I12 -> 0
B9: Go | C9: Ergebniszusammenfassung Veränderung Rahmenbedingungen | F9: Go | G9: =Bereichsdaten!G13 -> 0 | H9: =Bereichsdaten!H13 -> 0 | I9: =Bereichsdaten!I13 -> 0
B10: Go | C10: Ergebniszusammenfassung Vereinbarungen Zusammenarbeit | F10: Go | G10: =Bereichsdaten!G14 -> 0 | H10: =Bereichsdaten!H14 -> 0 | I10: =Bereichsdaten!I14 -> 0
B11: Go | C11: Ergebniszusammenfassung Wichtige Mitarbeiterthemen | F11: Go | G11: =Bereichsdaten!G15 -> 0 | H11: =Bereichsdaten!H15 -> 0 | I11: =Bereichsdaten!I15 -> 0
B12: Go | C12: Ergebniszusammenfassung Kommentare | F12: Go | G12: =Bereichsdaten!G16 -> 0 | H12: =Bereichsdaten!H16 -> 0 | I12: =Bereichsdaten!I16 -> 0
B13: Go | C13: Mitarbeitervorbereitung | F13: Go | G13: =Bereichsdaten!G17 -> 0 | H13: =Bereichsdaten!H17 -> 0 | I13: =Bereichsdaten!I17 -> 0
B14: Go | C14: Hilfsinformationen für die Führungskraft | F14: Go | G14: =Bereichsdaten!G18 -> 0 | H14: =Bereichsdaten!H18 -> 0 | I14: =Bereichsdaten!I18 -> 0
F15: Go | G15: =Bereichsdaten!G19 -> 0 | H15: =Bereichsdaten!H19 -> 0 | I15: =Bereichsdaten!I19 -> 0
F18: Blatt 1 | H18: Mitarbeitergespräch: Einschätzung von Kompetenzen
F20: für Mitarbeiter / in (MA) | P20: mit Führungskraft (FK) | U20: für Jahr | V20: =$K$3 -> 0
F21: Name: | G21: ='Form-01'!G6 -> 0 | H21: ='Form-01'!H6 -> 0 | I21: Funktion: | K21: ='Form-01'!I6 -> 0 | L21: ='Form-01'!L6 -> 0 | M21: ='Form-01'!M6 -> 0 | N21: ='Form-01'!N6 -> 0 | P21: Name: | Q21: =$G$5 -> 0 | T21: Abteilung: | U21: =$G$3 -> 0
P22: Vorname: | Q22: =$H$5 -> 0
F24: Kompetenzen zur Einschätzung von Fähigkeiten/Verhalten für Mitarbeiter/in, Führungskräfte | Q24: Kompetenzen nur für Führungskräfte
F25: Fachwissen, -fähigkeit | J25: Power und Gestaltungswille | Q25: Bereichssteuerung und - entwicklung
F26: erfüllt Aufgaben der Stelle gut | J26: arbeitet selbständig ohne viele Anweisungen | Q26: hat Arbeitsverteilung/Prozesse im Griff, schafft Rahmenbedingungen (Digitalisierung) damit Mitarbeiter produktiv/motiviert arbeiten können
F27: Methodenwissen,-fähigkeit | J27: zeigt Leistungsbereitschaft und Initiative, will etwas bewegen | Q27: verfolgt aktiv Schnittstellenmanagement zu anderen Unternehmensbereichen
F28: nutzt IT-gestützte Arbeitsmethoden | J28: erkennt und nutzt Gestaltungsspielräume | Q28: setzt Unternehmensstrategien um, sucht kontinuierlich nach Veränderungen als Chance für Fortschritt / Erfolg (KVP)
F29: Arbeitsorganisation, strukturierte Arbeitsweise, Zeitmanagement | J29: ist durchsetzungsstark, ohne verbrannte Erde zu hinterlassen | Q29: Mitarbeiter-, Teamführung
F30: Umgebungswissen | J30: Charakter und Anlagen | Q30: führt Mitarbeiter und Team zielorientiert und überprüft den Erfolg
F31: Grundlagenwissen aus anderen Fachbereichen | J31: Genauigkeit, Sorgfalt, Professionalität, Zuverlässigkeit | Q31: delegiert Ergebnisverantwortung erfolgreich
F32: Kenntnisse über Märkte und Produkte | J32: ist loyal gegenüber MA, Kollegen, Führungskräften, Unternehmen | Q32: handelt fair und zeigt Wertschätzung
F33: Kenntnisse über relevante interne / externe Unternehmenszusammenhänge | J33: ist belastbar (physisch / psychisch) | Q33: Team-, Mitarbeiterentwicklung
F34: Unternehmerisches Denken und Handeln | J34: hat Selbstvertrauen, ist selbstkritisch, gesteht Fehler ein | Q34: entwickelt Teams bzw. Mitarbeiter systematisch, setzt sich für die individuelle Entwicklung der Mitarbeiter ein
F35: setzt Zeit, Mittel, Aufwand kostenbewusst ein | J35: denkt positiv, humorvoll | Q35: setzt Teams / Mitarbeiter sinnvoll bzw. nach Fähigkeiten ein
F36: denkt / handelt ergebnisorientiert | J36: hat sich im Griff, Gelassenheit | Q36: beurteilt fair, setzt gemeinsam gefundene Konsequenzen aus Beurteilungen um
F37: denkt / handelt ganzheitlich, berücksichtigt Konsequenzen in anderen Bereichen | J37: Offenheit und Lernen
F38: orientiert sich im Handeln an Erwartungen externer / interner Kunden | J38: ist kreativ, Ideenfindung, macht qualifizierte Verbesserungsvorschläge | P38: Was kann daraus gelernt werden? (Vorbereitung MA + FK) Welche 3 Kompetenzinhalte beschreiben die größten Stärken aber auch die wichtigsten Entwicklungsfelder des Mitarbeiters, der Mitarbeiterin?
F39: Kommunikation und Information | J39: ist offen für neue Situationen, Flexibilität
F40: Ausdrucksvermögen (Sprache, Schrift) | J40: Lernbereitschaft, Weiterbildungsbereitschaft | P40: Stärke 1
F41: informiert offen, bedarfsgerecht und rechtzeitig | J41: gibt eigenes Wissen und Fähigkeiten weiter | P41: Stärke 2
F42: stellt Standpunkte klar und überzeugend dar | J42: Teamplayer | P42: Stärke 3
F43: kann zuhören, sich in andere hineinversetzen, (soziale Kompetenz) | J43: arbeitet mit anderen fair + konstruktiv zusammen, ist teamfähig | P43: Entwicklungsfeld 1
F44: fördert bereichsübergreifenden, fachlichen Informationsaustausch | J44: wirkt integrierend, kompromissfähig | P44: Entwicklungsfeld 2
F45: Verhandlungsgeschick | J45: regelt Konflikte konstruktiv, kritisiert konstruktiv | P45: Entwicklungsfeld 3
F47: Blatt 2 | H47: Mitarbeitergespräch: Ergebniszusammenfassung
F49: für Mitarbeiter / in (MA) | P49: mit Führungskraft (FK) | U49: für Jahr | V49: =$V$20 -> 0
F50: Name: | G50: ='Form-01'!G21 -> 0 | H50: ='Form-01'!H21 -> 0 | I50: Funktion: | K50: ='Form-01'!K21 -> 0 | P50: Name: | Q50: =$Q$21 -> 0 | T50: Abteilung: | U50: =$U$21 -> 0
P51: Vorname: | Q51: =$Q$22 -> 0
F53: Die folgenden Entwicklungsinhalte werden vorgeschlagen:
F54: Für welche maximal zwei konkreten Kompetenzen sollen Entwicklungsmaßnahmen durchgeführt werden? | J54: Welche messbaren Ergebnisse sollen erreicht werden? Beschreiben Sie die Ergebnisse konkret. | S54: Idee für Aktionen: Was - wann - wie lang?
F58: Fördernde und hemmende Rahmenbedingungen für die Arbeit: Feedback durch Mitarbeiter / in | T58: Kommentar Führungskraft
F59: Fördernde Rahmenbedingungen (durch Komma trennen) | I59: Behindernde Rahmenbedingungen (durch Komma trennen) | N59: Was sind die maximal zwei wichtigsten Ansatzpunkte für Veränderungen?
E60: Vorbe-reitung MA
E63: Vorbe-reitung MA + FK | F63: Zur Zusammenarbeit von Führungskraft und Mitarbeiter / in: | T63: Kommentar Führungskraft
F64: Was könnte die Zusammenarbeit aus Mitarbeitersicht verbessern? | I64: Was könnte die Zusammenarbeit aus Sicht der Führungskraft verbessern? | N64: Was wird vereinbart um die Zusammenarbeit zu verbessern?
E67: Vorbe-reitung MA | F67: Welche, aus Sicht der Mitarbeiterin, des Mitarbeiters wichtigen Fragen oder Wünsche sind besprochen worden? | T67: Kommentar Führungskraft
F68: 1
F69: 2
F71: Wenn notwendig, Kommentar Mitarbeiter / in zum Gespräch | N71: Wenn notwendig, Kommentar Führungskraft zum Gespräch
F74: Datum | K74: Unterschrift Führungskraft: | P74: Unterschrift Mitarbeiter / in:

Sheet Form-02
B2: Blatt: Formular für Mitarbeitergespräch | V2: ©Dr. Wolfgang Schröder
B3: Go | C3: zum Deckblatt | E3: Bereich: | G3: =Bereichsdaten!G4 -> 0 | I3: Jahr | K3: =Bereichsdaten!$K$4 -> 0
B4: Go | C4: Anwendungshinweise | G4: Name | I4: Funktion
B5: Go | C5: Struktur des Instruments | E5: Führungskraft: | G5: =Bereichsdaten!G6 -> 0 | H5: =Bereichsdaten!H6 -> 0 | I5: =Bereichsdaten!I6 -> 0
B6: Go | C6: Daten des Bereichs | F6: Go | G6: =Bereichsdaten!G10 -> 0 | H6: =Bereichsdaten!H10 -> 0 | I6: =Bereichsdaten!I10 -> 0
B7: Go | C7: Zu den Gesprächsunterlagen | F7: Go | G7: =Bereichsdaten!G11 -> 0 | H7: =Bereichsdaten!H11 -> 0 | I7: =Bereichsdaten!I11 -> 0
B8: Go | C8: Ergebniszusammenfassung Individuelle Entwicklungsaktivitäten | F8: Go | G8: =Bereichsdaten!G12 -> 0 | H8: =Bereichsdaten!H12 -> 0 | I8: =Bereichsdaten!I12 -> 0
B9: Go | C9: Ergebniszusammenfassung Veränderung Rahmenbedingungen | F9: Go | G9: =Bereichsdaten!G13 -> 0 | H9: =Bereichsdaten!H13 -> 0 | I9: =Bereichsdaten!I13 -> 0
B10: Go | C10: Ergebniszusammenfassung Vereinbarungen Zusammenarbeit | F10: Go | G10: =Bereichsdaten!G14 -> 0 | H10: =Bereichsdaten!H14 -> 0 | I10: =Bereichsdaten!I14 -> 0
B11: Go | C11: Ergebniszusammenfassung Wichtige Mitarbeiterthemen | F11: Go | G11: =Bereichsdaten!G15 -> 0 | H11: =Bereichsdaten!H15 -> 0 | I11: =Bereichsdaten!I15 -> 0
B12: Go | C12: Ergebniszusammenfassung Kommentare | F12: Go | G12: =Bereichsdaten!G16 -> 0 | H12: =Bereichsdaten!H16 -> 0 | I12: =Bereichsdaten!I16 -> 0
B13: Go | C13: Mitarbeitervorbereitung | F13: Go | G13: =Bereichsdaten!G17 -> 0 | H13: =Bereichsdaten!H17 -> 0 | I13: =Bereichsdaten!I17 -> 0
B14: Go | C14: Hilfsinformationen für die Führungskraft | F14: Go | G14: =Bereichsdaten!G18 -> 0 | H14: =Bereichsdaten!H18 -> 0 | I14: =Bereichsdaten!I18 -> 0
F15: Go | G15: =Bereichsdaten!G19 -> 0 | H15: =Bereichsdaten!H19 -> 0 | I15: =Bereichsdaten!I19 -> 0
F18: Blatt 1 | H18: Mitarbeitergespräch: Einschätzung von Kompetenzen
F20: für Mitarbeiter / in (MA) | P20: mit Führungskraft (FK) | U20: für Jahr | V20: =$K$3 -> 0
F21: Name: | G21: ='Form-02'!G7 -> 0 | H21: ='Form-02'!H7 -> 0 | I21: Funktion: | K21: ='Form-02'!I7 -> 0 | L21: ='Form-02'!L6 -> 0 | M21: ='Form-02'!M6 -> 0 | N21: ='Form-02'!N6 -> 0 | P21: Name: | Q21: =$G$5 -> 0 | T21: Abteilung: | U21: =$G$3 -> 0
P22: Vorname: | Q22: =$H$5 -> 0
F24: Kompetenzen zur Einschätzung von Fähigkeiten/Verhalten für Mitarbeiter/in, Führungskräfte | Q24: Kompetenzen nur für Führungskräfte
F25: Fachwissen, -fähigkeit | J25: Power und Gestaltungswille | Q25: Bereichssteuerung und - entwicklung
F26: erfüllt Aufgaben der Stelle gut | J26: arbeitet selbständig ohne viele Anweisungen | Q26: hat Arbeitsverteilung/Prozesse im Griff, schafft Rahmenbedingungen (Digitalisierung) damit Mitarbeiter produktiv/motiviert arbeiten können
F27: Methodenwissen,-fähigkeit | J27: zeigt Leistungsbereitschaft und Initiative, will etwas bewegen | Q27: verfolgt aktiv Schnittstellenmanagement zu anderen Unternehmensbereichen
F28: nutzt IT-gestützte Arbeitsmethoden | J28: erkennt und nutzt Gestaltungsspielräume | Q28: setzt Unternehmensstrategien um, sucht kontinuierlich nach Veränderungen als Chance für Fortschritt / Erfolg (KVP)
F29: Arbeitsorganisation, strukturierte Arbeitsweise, Zeitmanagement | J29: ist durchsetzungsstark, ohne verbrannte Erde zu hinterlassen | Q29: Mitarbeiter-, Teamführung
F30: Umgebungswissen | J30: Charakter und Anlagen | Q30: führt Mitarbeiter und Team zielorientiert und überprüft den Erfolg
F31: Grundlagenwissen aus anderen Fachbereichen | J31: Genauigkeit, Sorgfalt, Professionalität, Zuverlässigkeit | Q31: delegiert Ergebnisverantwortung erfolgreich
F32: Kenntnisse über Märkte und Produkte | J32: ist loyal gegenüber MA, Kollegen, Führungskräften, Unternehmen | Q32: handelt fair und zeigt Wertschätzung
F33: Kenntnisse über relevante interne / externe Unternehmenszusammenhänge | J33: ist belastbar (physisch / psychisch) | Q33: Team-, Mitarbeiterentwicklung
F34: Unternehmerisches Denken und Handeln | J34: hat Selbstvertrauen, ist selbstkritisch, gesteht Fehler ein | Q34: entwickelt Teams bzw. Mitarbeiter systematisch, setzt sich für die individuelle Entwicklung der Mitarbeiter ein
F35: setzt Zeit, Mittel, Aufwand kostenbewusst ein | J35: denkt positiv, humorvoll | Q35: setzt Teams / Mitarbeiter sinnvoll bzw. nach Fähigkeiten ein
F36: denkt / handelt ergebnisorientiert | J36: hat sich im Griff, Gelassenheit | Q36: beurteilt fair, setzt gemeinsam gefundene Konsequenzen aus Beurteilungen um
F37: denkt / handelt ganzheitlich, berücksichtigt Konsequenzen in anderen Bereichen | J37: Offenheit und Lernen
F38: orientiert sich im Handeln an Erwartungen externer / interner Kunden | J38: ist kreativ, Ideenfindung, macht qualifizierte Verbesserungsvorschläge | P38: Was kann daraus gelernt werden? (Vorbereitung MA + FK) Welche 3 Kompetenzinhalte beschreiben die größten Stärken aber auch die wichtigsten Entwicklungsfelder des Mitarbeiters, der Mitarbeiterin?
F39: Kommunikation und Information | J39: ist offen für neue Situationen, Flexibilität
F40: Ausdrucksvermögen (Sprache, Schrift) | J40: Lernbereitschaft, Weiterbildungsbereitschaft | P40: Stärke 1
F41: informiert offen, bedarfsgerecht und rechtzeitig | J41: gibt eigenes Wissen und Fähigkeiten weiter | P41: Stärke 2
F42: stellt Standpunkte klar und überzeugend dar | J42: Teamplayer | P42: Stärke 3
F43: kann zuhören, sich in andere hineinversetzen, (soziale Kompetenz) | J43: arbeitet mit anderen fair + konstruktiv zusammen, ist teamfähig | P43: Entwicklungsfeld 1
F44: fördert bereichsübergreifenden, fachlichen Informationsaustausch | J44: wirkt integrierend, kompromissfähig | P44: Entwicklungsfeld 2
F45: Verhandlungsgeschick | J45: regelt Konflikte konstruktiv, kritisiert konstruktiv | P45: Entwicklungsfeld 3
F47: Blatt 2 | H47: Mitarbeitergespräch: Ergebniszusammenfassung
F49: für Mitarbeiter / in (MA) | P49: mit Führungskraft (FK) | U49: für Jahr | V49: =$V$20 -> 0
F50: Name: | G50: ='Form-02'!G21 -> 0 | H50: ='Form-02'!H21 -> 0 | I50: Funktion: | K50: ='Form-02'!K21 -> 0 | P50: Name: | Q50: =$Q$21 -> 0 | T50: Abteilung: | U50: =$U$21 -> 0
P51: Vorname: | Q51: =$Q$22 -> 0
F53: Die folgenden Entwicklungsinhalte werden vorgeschlagen:
F54: Für welche maximal zwei konkreten Kompetenzen sollen Entwicklungsmaßnahmen durchgeführt werden? | J54: Welche messbaren Ergebnisse sollen erreicht werden? Beschreiben Sie die Ergebnisse konkret. | S54: Idee für Aktionen: Was - wann - wie lang?
F58: Fördernde und hemmende Rahmenbedingungen für die Arbeit: Feedback durch Mitarbeiter / in | T58: Kommentar Führungskraft
F59: Fördernde Rahmenbedingungen (durch Komma trennen) | I59: Behindernde Rahmenbedingungen (durch Komma trennen) | N59: Was sind die maximal zwei wichtigsten Ansatzpunkte für Veränderungen?
E60: Vorbe-reitung MA
E63: Vorbe-reitung MA + FK | F63: Zur Zusammenarbeit von Führungskraft und Mitarbeiter / in: | T63: Kommentar Führungskraft
F64: Was könnte die Zusammenarbeit aus Mitarbeitersicht verbessern? | I64: Was könnte die Zusammenarbeit aus Sicht der Führungskraft verbessern? | N64: Was wird vereinbart um die Zusammenarbeit zu verbessern?
E67: Vorbe-reitung MA | F67: Welche, aus Sicht der Mitarbeiterin, des Mitarbeiters wichtigen Fragen oder Wünsche sind besprochen worden? | T67: Kommentar Führungskraft
F68: 1
F69: 2
F71: Wenn notwendig, Kommentar Mitarbeiter / in zum Gespräch | N71: Wenn notwendig, Kommentar Führungskraft zum Gespräch
F74: Datum | K74: Unterschrift Führungskraft: | P74: Unterschrift Mitarbeiter / in:

Sheet Form-03
B2: Blatt: Formular für Mitarbeitergespräch | V2: ©Dr. Wolfgang Schröder
B3: Go | C3: zum Deckblatt | E3: Bereich: | G3: =Bereichsdaten!G4 -> 0 | I3: Jahr | K3: =Bereichsdaten!$K$4 -> 0
B4: Go | C4: Anwendungshinweise | G4: Name | I4: Funktion
B5: Go | C5: Struktur des Instruments | E5: Führungskraft: | G5: =Bereichsdaten!G6 -> 0 | H5: =Bereichsdaten!H6 -> 0 | I5: =Bereichsdaten!I6 -> 0
B6: Go | C6: Daten des Bereichs | F6: Go | G6: =Bereichsdaten!G10 -> 0 | H6: =Bereichsdaten!H10 -> 0 | I6: =Bereichsdaten!I10 -> 0
B7: Go | C7: Zu den Gesprächsunterlagen | F7: Go | G7: =Bereichsdaten!G11 -> 0 | H7: =Bereichsdaten!H11 -> 0 | I7: =Bereichsdaten!I11 -> 0
B8: Go | C8: Ergebniszusammenfassung Individuelle Entwicklungsaktivitäten | F8: Go | G8: =Bereichsdaten!G12 -> 0 | H8: =Bereichsdaten!H12 -> 0 | I8: =Bereichsdaten!I12 -> 0
B9: Go | C9: Ergebniszusammenfassung Veränderung Rahmenbedingungen | F9: Go | G9: =Bereichsdaten!G13 -> 0 | H9: =Bereichsdaten!H13 -> 0 | I9: =Bereichsdaten!I13 -> 0
B10: Go | C10: Ergebniszusammenfassung Vereinbarungen Zusammenarbeit | F10: Go | G10: =Bereichsdaten!G14 -> 0 | H10: =Bereichsdaten!H14 -> 0 | I10: =Bereichsdaten!I14 -> 0
B11: Go | C11: Ergebniszusammenfassung Wichtige Mitarbeiterthemen | F11: Go | G11: =Bereichsdaten!G15 -> 0 | H11: =Bereichsdaten!H15 -> 0 | I11: =Bereichsdaten!I15 -> 0
B12: Go | C12: Ergebniszusammenfassung Kommentare | F12: Go | G12: =Bereichsdaten!G16 -> 0 | H12: =Bereichsdaten!H16 -> 0 | I12: =Bereichsdaten!I16 -> 0
B13: Go | C13: Mitarbeitervorbereitung | F13: Go | G13: =Bereichsdaten!G17 -> 0 | H13: =Bereichsdaten!H17 -> 0 | I13: =Bereichsdaten!I17 -> 0
B14: Go | C14: Hilfsinformationen für die Führungskraft | F14: Go | G14: =Bereichsdaten!G18 -> 0 | H14: =Bereichsdaten!H18 -> 0 | I14: =Bereichsdaten!I18 -> 0
F15: Go | G15: =Bereichsdaten!G19 -> 0 | H15: =Bereichsdaten!H19 -> 0 | I15: =Bereichsdaten!I19 -> 0
F18: Blatt 1 | H18: Mitarbeitergespräch: Einschätzung von Kompetenzen
F20: für Mitarbeiter / in (MA) | P20: mit Führungskraft (FK) | U20: für Jahr | V20: =$K$3 -> 0
F21: Name: | G21: ='Form-03'!G8 -> 0 | H21: ='Form-03'!H8 -> 0 | I21: Funktion: | K21: ='Form-03'!I8 -> 0 | L21: ='Form-03'!L6 -> 0 | M21: ='Form-03'!M6 -> 0 | N21: ='Form-03'!N6 -> 0 | P21: Name: | Q21: =$G$5 -> 0 | T21: Abteilung: | U21: =$G$3 -> 0
P22: Vorname: | Q22: =$H$5 -> 0
F24: Kompetenzen zur Einschätzung von Fähigkeiten/Verhalten für Mitarbeiter/in, Führungskräfte | Q24: Kompetenzen nur für Führungskräfte
F25: Fachwissen, -fähigkeit | J25: Power und Gestaltungswille | Q25: Bereichssteuerung und - entwicklung
F26: erfüllt Aufgaben der Stelle gut | J26: arbeitet selbständig ohne viele Anweisungen | Q26: hat Arbeitsverteilung/Prozesse im Griff, schafft Rahmenbedingungen (Digitalisierung) damit Mitarbeiter produktiv/motiviert arbeiten können
F27: Methodenwissen,-fähigkeit | J27: zeigt Leistungsbereitschaft und Initiative, will etwas bewegen | Q27: verfolgt aktiv Schnittstellenmanagement zu anderen Unternehmensbereichen
F28: nutzt IT-gestützte Arbeitsmethoden | J28: erkennt und nutzt Gestaltungsspielräume | Q28: setzt Unternehmensstrategien um, sucht kontinuierlich nach Veränderungen als Chance für Fortschritt / Erfolg (KVP)
F29: Arbeitsorganisation, strukturierte Arbeitsweise, Zeitmanagement | J29: ist durchsetzungsstark, ohne verbrannte Erde zu hinterlassen | Q29: Mitarbeiter-, Teamführung
F30: Umgebungswissen | J30: Charakter und Anlagen | Q30: führt Mitarbeiter und Team zielorientiert und überprüft den Erfolg
F31: Grundlagenwissen aus anderen Fachbereichen | J31: Genauigkeit, Sorgfalt, Professionalität, Zuverlässigkeit | Q31: delegiert Ergebnisverantwortung erfolgreich
F32: Kenntnisse über Märkte und Produkte | J32: ist loyal gegenüber MA, Kollegen, Führungskräften, Unternehmen | Q32: handelt fair und zeigt Wertschätzung
F33: Kenntnisse über relevante interne / externe Unternehmenszusammenhänge | J33: ist belastbar (physisch / psychisch) | Q33: Team-, Mitarbeiterentwicklung
F34: Unternehmerisches Denken und Handeln | J34: hat Selbstvertrauen, ist selbstkritisch, gesteht Fehler ein | Q34: entwickelt Teams bzw. Mitarbeiter systematisch, setzt sich für die individuelle Entwicklung der Mitarbeiter ein
F35: setzt Zeit, Mittel, Aufwand kostenbewusst ein | J35: denkt positiv, humorvoll | Q35: setzt Teams / Mitarbeiter sinnvoll bzw. nach Fähigkeiten ein
F36: denkt / handelt ergebnisorientiert | J36: hat sich im Griff, Gelassenheit | Q36: beurteilt fair, setzt gemeinsam gefundene Konsequenzen aus Beurteilungen um
F37: denkt / handelt ganzheitlich, berücksichtigt Konsequenzen in anderen Bereichen | J37: Offenheit und Lernen
F38: orientiert sich im Handeln an Erwartungen externer / interner Kunden | J38: ist kreativ, Ideenfindung, macht qualifizierte Verbesserungsvorschläge | P38: Was kann daraus gelernt werden? (Vorbereitung MA + FK) Welche 3 Kompetenzinhalte beschreiben die größten Stärken aber auch die wichtigsten Entwicklungsfelder des Mitarbeiters, der Mitarbeiterin?
F39: Kommunikation und Information | J39: ist offen für neue Situationen, Flexibilität
F40: Ausdrucksvermögen (Sprache, Schrift) | J40: Lernbereitschaft, Weiterbildungsbereitschaft | P40: Stärke 1
F41: informiert offen, bedarfsgerecht und rechtzeitig | J41: gibt eigenes Wissen und Fähigkeiten weiter | P41: Stärke 2
F42: stellt Standpunkte klar und überzeugend dar | J42: Teamplayer | P42: Stärke 3
F43: kann zuhören, sich in andere hineinversetzen, (soziale Kompetenz) | J43: arbeitet mit anderen fair + konstruktiv zusammen, ist teamfähig | P43: Entwicklungsfeld 1
F44: fördert bereichsübergreifenden, fachlichen Informationsaustausch | J44: wirkt integrierend, kompromissfähig | P44: Entwicklungsfeld 2
F45: Verhandlungsgeschick | J45: regelt Konflikte konstruktiv, kritisiert konstruktiv | P45: Entwicklungsfeld 3
F47: Blatt 2 | H47: Mitarbeitergespräch: Ergebniszusammenfassung
F49: für Mitarbeiter / in (MA) | P49: mit Führungskraft (FK) | U49: für Jahr | V49: =$V$20 -> 0
F50: Name: | G50: ='Form-03'!G21 -> 0 | H50: ='Form-03'!H21 -> 0 | I50: Funktion: | K50: ='Form-03'!K21 -> 0 | P50: Name: | Q50: =$Q$21 -> 0 | T50: Abteilung: | U50: =$U$21 -> 0
P51: Vorname: | Q51: =$Q$22 -> 0
F53: Die folgenden Entwicklungsinhalte werden vorgeschlagen:
F54: Für welche maximal zwei konkreten Kompetenzen sollen Entwicklungsmaßnahmen durchgeführt werden? | J54: Welche messbaren Ergebnisse sollen erreicht werden? Beschreiben Sie die Ergebnisse konkret. | S54: Idee für Aktionen: Was - wann - wie lang?
F58: Fördernde und hemmende Rahmenbedingungen für die Arbeit: Feedback durch Mitarbeiter / in | T58: Kommentar Führungskraft
F59: Fördernde Rahmenbedingungen (durch Komma trennen) | I59: Behindernde Rahmenbedingungen (durch Komma trennen) | N59: Was sind die maximal zwei wichtigsten Ansatzpunkte für Veränderungen?
E60: Vorbe-reitung MA
E63: Vorbe-reitung MA + FK | F63: Zur Zusammenarbeit von Führungskraft und Mitarbeiter / in: | T63: Kommentar Führungskraft
F64: Was könnte die Zusammenarbeit aus Mitarbeitersicht verbessern? | I64: Was könnte die Zusammenarbeit aus Sicht der Führungskraft verbessern? | N64: Was wird vereinbart um die Zusammenarbeit zu verbessern?
E67: Vorbe-reitung MA | F67: Welche, aus Sicht der Mitarbeiterin, des Mitarbeiters wichtigen Fragen oder Wünsche sind besprochen worden? | T67: Kommentar Führungskraft
F68: 1
F69: 2
F71: Wenn notwendig, Kommentar Mitarbeiter / in zum Gespräch | N71: Wenn notwendig, Kommentar Führungskraft zum Gespräch
F74: Datum | K74: Unterschrift Führungskraft: | P74: Unterschrift Mitarbeiter / in:

Sheet Form-04
B2: Blatt: Formular für Mitarbeitergespräch | V2: ©Dr. Wolfgang Schröder
B3: Go | C3: zum Deckblatt | E3: Bereich: | G3: =Bereichsdaten!G4 -> 0 | I3: Jahr | K3: =Bereichsdaten!$K$4 -> 0
B4: Go | C4: Anwendungshinweise | G4: Name | I4: Funktion
B5: Go | C5: Struktur des Instruments | E5: Führungskraft: | G5: =Bereichsdaten!G6 -> 0 | H5: =Bereichsdaten!H6 -> 0 | I5: =Bereichsdaten!I6 -> 0
B6: Go | C6: Daten des Bereichs | F6: Go | G6: =Bereichsdaten!G10 -> 0 | H6: =Bereichsdaten!H10 -> 0 | I6: =Bereichsdaten!I10 -> 0
B7: Go | C7: Zu den Gesprächsunterlagen | F7: Go | G7: =Bereichsdaten!G11 -> 0 | H7: =Bereichsdaten!H11 -> 0 | I7: =Bereichsdaten!I11 -> 0
B8: Go | C8: Ergebniszusammenfassung Individuelle Entwicklungsaktivitäten | F8: Go | G8: =Bereichsdaten!G12 -> 0 | H8: =Bereichsdaten!H12 -> 0 | I8: =Bereichsdaten!I12 -> 0
B9: Go | C9: Ergebniszusammenfassung Veränderung Rahmenbedingungen | F9: Go | G9: =Bereichsdaten!G13 -> 0 | H9: =Bereichsdaten!H13 -> 0 | I9: =Bereichsdaten!I13 -> 0
B10: Go | C10: Ergebniszusammenfassung Vereinbarungen Zusammenarbeit | F10: Go | G10: =Bereichsdaten!G14 -> 0 | H10: =Bereichsdaten!H14 -> 0 | I10: =Bereichsdaten!I14 -> 0
B11: Go | C11: Ergebniszusammenfassung Wichtige Mitarbeiterthemen | F11: Go | G11: =Bereichsdaten!G15 -> 0 | H11: =Bereichsdaten!H15 -> 0 | I11: =Bereichsdaten!I15 -> 0
B12: Go | C12: Ergebniszusammenfassung Kommentare | F12: Go | G12: =Bereichsdaten!G16 -> 0 | H12: =Bereichsdaten!H16 -> 0 | I12: =Bereichsdaten!I16 -> 0
B13: Go | C13: Mitarbeitervorbereitung | F13: Go | G13: =Bereichsdaten!G17 -> 0 | H13: =Bereichsdaten!H17 -> 0 | I13: =Bereichsdaten!I17 -> 0
B14: Go | C14: Hilfsinformationen für die Führungskraft | F14: Go | G14: =Bereichsdaten!G18 -> 0 | H14: =Bereichsdaten!H18 -> 0 | I14: =Bereichsdaten!I18 -> 0
F15: Go | G15: =Bereichsdaten!G19 -> 0 | H15: =Bereichsdaten!H19 -> 0 | I15: =Bereichsdaten!I19 -> 0
F18: Blatt 1 | H18: Mitarbeitergespräch: Einschätzung von Kompetenzen
F20: für Mitarbeiter / in (MA) | P20: mit Führungskraft (FK) | U20: für Jahr | V20: =$K$3 -> 0
F21: Name: | G21: ='Form-04'!G9 -> 0 | H21: ='Form-04'!H9 -> 0 | I21: Funktion: | K21: ='Form-04'!I9 -> 0 | L21: ='Form-04'!L6 -> 0 | M21: ='Form-04'!M6 -> 0 | N21: ='Form-04'!N6 -> 0 | P21: Name: | Q21: =$G$5 -> 0 | T21: Abteilung: | U21: =$G$3 -> 0
P22: Vorname: | Q22: =$H$5 -> 0
F24: Kompetenzen zur Einschätzung von Fähigkeiten/Verhalten für Mitarbeiter/in, Führungskräfte | Q24: Kompetenzen nur für Führungskräfte
F25: Fachwissen, -fähigkeit | J25: Power und Gestaltungswille | Q25: Bereichssteuerung und - entwicklung
F26: erfüllt Aufgaben der Stelle gut | J26: arbeitet selbständig ohne viele Anweisungen | Q26: hat Arbeitsverteilung/Prozesse im Griff, schafft Rahmenbedingungen (Digitalisierung) damit Mitarbeiter produktiv/motiviert arbeiten können
F27: Methodenwissen,-fähigkeit | J27: zeigt Leistungsbereitschaft und Initiative, will etwas bewegen | Q27: verfolgt aktiv Schnittstellenmanagement zu anderen Unternehmensbereichen
F28: nutzt IT-gestützte Arbeitsmethoden | J28: erkennt und nutzt Gestaltungsspielräume | Q28: setzt Unternehmensstrategien um, sucht kontinuierlich nach Veränderungen als Chance für Fortschritt / Erfolg (KVP)
F29: Arbeitsorganisation, strukturierte Arbeitsweise, Zeitmanagement | J29: ist durchsetzungsstark, ohne verbrannte Erde zu hinterlassen | Q29: Mitarbeiter-, Teamführung
F30: Umgebungswissen | J30: Charakter und Anlagen | Q30: führt Mitarbeiter und Team zielorientiert und überprüft den Erfolg
F31: Grundlagenwissen aus anderen Fachbereichen | J31: Genauigkeit, Sorgfalt, Professionalität, Zuverlässigkeit | Q31: delegiert Ergebnisverantwortung erfolgreich
F32: Kenntnisse über Märkte und Produkte | J32: ist loyal gegenüber MA, Kollegen, Führungskräften, Unternehmen | Q32: handelt fair und zeigt Wertschätzung
F33: Kenntnisse über relevante interne / externe Unternehmenszusammenhänge | J33: ist belastbar (physisch / psychisch) | Q33: Team-, Mitarbeiterentwicklung
F34: Unternehmerisches Denken und Handeln | J34: hat Selbstvertrauen, ist selbstkritisch, gesteht Fehler ein | Q34: entwickelt Teams bzw. Mitarbeiter systematisch, setzt sich für die individuelle Entwicklung der Mitarbeiter ein
F35: setzt Zeit, Mittel, Aufwand kostenbewusst ein | J35: denkt positiv, humorvoll | Q35: setzt Teams / Mitarbeiter sinnvoll bzw. nach Fähigkeiten ein
F36: denkt / handelt ergebnisorientiert | J36: hat sich im Griff, Gelassenheit | Q36: beurteilt fair, setzt gemeinsam gefundene Konsequenzen aus Beurteilungen um
F37: denkt / handelt ganzheitlich, berücksichtigt Konsequenzen in anderen Bereichen | J37: Offenheit und Lernen
F38: orientiert sich im Handeln an Erwartungen externer / interner Kunden | J38: ist kreativ, Ideenfindung, macht qualifizierte Verbesserungsvorschläge | P38: Was kann daraus gelernt werden? (Vorbereitung MA + FK) Welche 3 Kompetenzinhalte beschreiben die größten Stärken aber auch die wichtigsten Entwicklungsfelder des Mitarbeiters, der Mitarbeiterin?
F39: Kommunikation und Information | J39: ist offen für neue Situationen, Flexibilität
F40: Ausdrucksvermögen (Sprache, Schrift) | J40: Lernbereitschaft, Weiterbildungsbereitschaft | P40: Stärke 1
F41: informiert offen, bedarfsgerecht und rechtzeitig | J41: gibt eigenes Wissen und Fähigkeiten weiter | P41: Stärke 2
F42: stellt Standpunkte klar und überzeugend dar | J42: Teamplayer | P42: Stärke 3
F43: kann zuhören, sich in andere hineinversetzen, (soziale Kompetenz) | J43: arbeitet mit anderen fair + konstruktiv zusammen, ist teamfähig | P43: Entwicklungsfeld 1
F44: fördert bereichsübergreifenden, fachlichen Informationsaustausch | J44: wirkt integrierend, kompromissfähig | P44: Entwicklungsfeld 2
F45: Verhandlungsgeschick | J45: regelt Konflikte konstruktiv, kritisiert konstruktiv | P45: Entwicklungsfeld 3
F47: Blatt 2 | H47: Mitarbeitergespräch: Ergebniszusammenfassung
F49: für Mitarbeiter / in (MA) | P49: mit Führungskraft (FK) | U49: für Jahr | V49: =$V$20 -> 0
F50: Name: | G50: ='Form-04'!G21 -> 0 | H50: ='Form-04'!H21 -> 0 | I50: Funktion: | K50: ='Form-04'!K21 -> 0 | P50: Name: | Q50: =$Q$21 -> 0 | T50: Abteilung: | U50: =$U$21 -> 0
P51: Vorname: | Q51: =$Q$22 -> 0
F53: Die folgenden Entwicklungsinhalte werden vorgeschlagen:
F54: Für welche maximal zwei konkreten Kompetenzen sollen Entwicklungsmaßnahmen durchgeführt werden? | J54: Welche messbaren Ergebnisse sollen erreicht werden? Beschreiben Sie die Ergebnisse konkret. | S54: Idee für Aktionen: Was - wann - wie lang?
F58: Fördernde und hemmende Rahmenbedingungen für die Arbeit: Feedback durch Mitarbeiter / in | T58: Kommentar Führungskraft
F59: Fördernde Rahmenbedingungen (durch Komma trennen) | I59: Behindernde Rahmenbedingungen (durch Komma trennen) | N59: Was sind die maximal zwei wichtigsten Ansatzpunkte für Veränderungen?
E60: Vorbe-reitung MA
E63: Vorbe-reitung MA + FK | F63: Zur Zusammenarbeit von Führungskraft und Mitarbeiter / in: | T63: Kommentar Führungskraft
F64: Was könnte die Zusammenarbeit aus Mitarbeitersicht verbessern? | I64: Was könnte die Zusammenarbeit aus Sicht der Führungskraft verbessern? | N64: Was wird vereinbart um die Zusammenarbeit zu verbessern?
E67: Vorbe-reitung MA | F67: Welche, aus Sicht der Mitarbeiterin, des Mitarbeiters wichtigen Fragen oder Wünsche sind besprochen worden? | T67: Kommentar Führungskraft
F68: 1
F69: 2
F71: Wenn notwendig, Kommentar Mitarbeiter / in zum Gespräch | N71: Wenn notwendig, Kommentar Führungskraft zum Gespräch
F74: Datum | K74: Unterschrift Führungskraft: | P74: Unterschrift Mitarbeiter / in:

Sheet Form-05
B2: Blatt: Formular für Mitarbeitergespräch | V2: ©Dr. Wolfgang Schröder
B3: Go | C3: zum Deckblatt | E3: Bereich: | G3: =Bereichsdaten!G4 -> 0 | I3: Jahr | K3: =Bereichsdaten!$K$4 -> 0
B4: Go | C4: Anwendungshinweise | G4: Name | I4: Funktion
B5: Go | C5: Struktur des Instruments | E5: Führungskraft: | G5: =Bereichsdaten!G6 -> 0 | H5: =Bereichsdaten!H6 -> 0 | I5: =Bereichsdaten!I6 -> 0
B6: Go | C6: Daten des Bereichs | F6: Go | G6: =Bereichsdaten!G10 -> 0 | H6: =Bereichsdaten!H10 -> 0 | I6: =Bereichsdaten!I10 -> 0
B7: Go | C7: Zu den Gesprächsunterlagen | F7: Go | G7: =Bereichsdaten!G11 -> 0 | H7: =Bereichsdaten!H11 -> 0 | I7: =Bereichsdaten!I11 -> 0
B8: Go | C8: Ergebniszusammenfassung Individuelle Entwicklungsaktivitäten | F8: Go | G8: =Bereichsdaten!G12 -> 0 | H8: =Bereichsdaten!H12 -> 0 | I8: =Bereichsdaten!I12 -> 0
B9: Go | C9: Ergebniszusammenfassung Veränderung Rahmenbedingungen | F9: Go | G9: =Bereichsdaten!G13 -> 0 | H9: =Bereichsdaten!H13 -> 0 | I9: =Bereichsdaten!I13 -> 0
B10: Go | C10: Ergebniszusammenfassung Vereinbarungen Zusammenarbeit | F10: Go | G10: =Bereichsdaten!G14 -> 0 | H10: =Bereichsdaten!H14 -> 0 | I10: =Bereichsdaten!I14 -> 0
B11: Go | C11: Ergebniszusammenfassung Wichtige Mitarbeiterthemen | F11: Go | G11: =Bereichsdaten!G15 -> 0 | H11: =Bereichsdaten!H15 -> 0 | I11: =Bereichsdaten!I15 -> 0
B12: Go | C12: Ergebniszusammenfassung Kommentare | F12: Go | G12: =Bereichsdaten!G16 -> 0 | H12: =Bereichsdaten!H16 -> 0 | I12: =Bereichsdaten!I16 -> 0
B13: Go | C13: Mitarbeitervorbereitung | F13: Go | G13: =Bereichsdaten!G17 -> 0 | H13: =Bereichsdaten!H17 -> 0 | I13: =Bereichsdaten!I17 -> 0
B14: Go | C14: Hilfsinformationen für die Führungskraft | F14: Go | G14: =Bereichsdaten!G18 -> 0 | H14: =Bereichsdaten!H18 -> 0 | I14: =Bereichsdaten!I18 -> 0
F15: Go | G15: =Bereichsdaten!G19 -> 0 | H15: =Bereichsdaten!H19 -> 0 | I15: =Bereichsdaten!I19 -> 0
F18: Blatt 1 | H18: Mitarbeitergespräch: Einschätzung von Kompetenzen
F20: für Mitarbeiter / in (MA) | P20: mit Führungskraft (FK) | U20: für Jahr | V20: =$K$3 -> 0
F21: Name: | G21: ='Form-05'!G10 -> 0 | H21: ='Form-05'!H10 -> 0 | I21: Funktion: | K21: ='Form-05'!I10 -> 0 | L21: ='Form-05'!L6 -> 0 | M21: ='Form-05'!M6 -> 0 | N21: ='Form-05'!N6 -> 0 | P21: Name: | Q21: =$G$5 -> 0 | T21: Abteilung: | U21: =$G$3 -> 0
P22: Vorname: | Q22: =$H$5 -> 0
F24: Kompetenzen zur Einschätzung von Fähigkeiten/Verhalten für Mitarbeiter/in, Führungskräfte | Q24: Kompetenzen nur für Führungskräfte
F25: Fachwissen, -fähigkeit | J25: Power und Gestaltungswille | Q25: Bereichssteuerung und - entwicklung
F26: erfüllt Aufgaben der Stelle gut | J26: arbeitet selbständig ohne viele Anweisungen | Q26: hat Arbeitsverteilung/Prozesse im Griff, schafft Rahmenbedingungen (Digitalisierung) damit Mitarbeiter produktiv/motiviert arbeiten können
F27: Methodenwissen,-fähigkeit | J27: zeigt Leistungsbereitschaft und Initiative, will etwas bewegen | Q27: verfolgt aktiv Schnittstellenmanagement zu anderen Unternehmensbereichen
F28: nutzt IT-gestützte Arbeitsmethoden | J28: erkennt und nutzt Gestaltungsspielräume | Q28: setzt Unternehmensstrategien um, sucht kontinuierlich nach Veränderungen als Chance für Fortschritt / Erfolg (KVP)
F29: Arbeitsorganisation, strukturierte Arbeitsweise, Zeitmanagement | J29: ist durchsetzungsstark, ohne verbrannte Erde zu hinterlassen | Q29: Mitarbeiter-, Teamführung
F30: Umgebungswissen | J30: Charakter und Anlagen | Q30: führt Mitarbeiter und Team zielorientiert und überprüft den Erfolg
F31: Grundlagenwissen aus anderen Fachbereichen | J31: Genauigkeit, Sorgfalt, Professionalität, Zuverlässigkeit | Q31: delegiert Ergebnisverantwortung erfolgreich
F32: Kenntnisse über Märkte und Produkte | J32: ist loyal gegenüber MA, Kollegen, Führungskräften, Unternehmen | Q32: handelt fair und zeigt Wertschätzung
F33: Kenntnisse über relevante interne / externe Unternehmenszusammenhänge | J33: ist belastbar (physisch / psychisch) | Q33: Team-, Mitarbeiterentwicklung
F34: Unternehmerisches Denken und Handeln | J34: hat Selbstvertrauen, ist selbstkritisch, gesteht Fehler ein | Q34: entwickelt Teams bzw. Mitarbeiter systematisch, setzt sich für die individuelle Entwicklung der Mitarbeiter ein
F35: setzt Zeit, Mittel, Aufwand kostenbewusst ein | J35: denkt positiv, humorvoll | Q35: setzt Teams / Mitarbeiter sinnvoll bzw. nach Fähigkeiten ein
F36: denkt / handelt ergebnisorientiert | J36: hat sich im Griff, Gelassenheit | Q36: beurteilt fair, setzt gemeinsam gefundene Konsequenzen aus Beurteilungen um
F37: denkt / handelt ganzheitlich, berücksichtigt Konsequenzen in anderen Bereichen | J37: Offenheit und Lernen
F38: orientiert sich im Handeln an Erwartungen externer / interner Kunden | J38: ist kreativ, Ideenfindung, macht qualifizierte Verbesserungsvorschläge | P38: Was kann daraus gelernt werden? (Vorbereitung MA + FK) Welche 3 Kompetenzinhalte beschreiben die größten Stärken aber auch die wichtigsten Entwicklungsfelder des Mitarbeiters, der Mitarbeiterin?
F39: Kommunikation und Information | J39: ist offen für neue Situationen, Flexibilität
F40: Ausdrucksvermögen (Sprache, Schrift) | J40: Lernbereitschaft, Weiterbildungsbereitschaft | P40: Stärke 1
F41: informiert offen, bedarfsgerecht und rechtzeitig | J41: gibt eigenes Wissen und Fähigkeiten weiter | P41: Stärke 2
F42: stellt Standpunkte klar und überzeugend dar | J42: Teamplayer | P42: Stärke 3
F43: kann zuhören, sich in andere hineinversetzen, (soziale Kompetenz) | J43: arbeitet mit anderen fair + konstruktiv zusammen, ist teamfähig | P43: Entwicklungsfeld 1
F44: fördert bereichsübergreifenden, fachlichen Informationsaustausch | J44: wirkt integrierend, kompromissfähig | P44: Entwicklungsfeld 2
F45: Verhandlungsgeschick | J45: regelt Konflikte konstruktiv, kritisiert konstruktiv | P45: Entwicklungsfeld 3
F47: Blatt 2 | H47: Mitarbeitergespräch: Ergebniszusammenfassung
F49: für Mitarbeiter / in (MA) | P49: mit Führungskraft (FK) | U49: für Jahr | V49: =$V$20 -> 0
F50: Name: | G50: ='Form-05'!G21 -> 0 | H50: ='Form-05'!H21 -> 0 | I50: Funktion: | K50: ='Form-05'!K21 -> 0 | P50: Name: | Q50: =$Q$21 -> 0 | T50: Abteilung: | U50: =$U$21 -> 0
P51: Vorname: | Q51: =$Q$22 -> 0
F53: Die folgenden Entwicklungsinhalte werden vorgeschlagen:
F54: Für welche maximal zwei konkreten Kompetenzen sollen Entwicklungsmaßnahmen durchgeführt werden? | J54: Welche messbaren Ergebnisse sollen erreicht werden? Beschreiben Sie die Ergebnisse konkret. | S54: Idee für Aktionen: Was - wann - wie lang?
F58: Fördernde und hemmende Rahmenbedingungen für die Arbeit: Feedback durch Mitarbeiter / in | T58: Kommentar Führungskraft
F59: Fördernde Rahmenbedingungen (durch Komma trennen) | I59: Behindernde Rahmenbedingungen (durch Komma trennen) | N59: Was sind die maximal zwei wichtigsten Ansatzpunkte für Veränderungen?
E60: Vorbe-reitung MA
E63: Vorbe-reitung MA + FK | F63: Zur Zusammenarbeit von Führungskraft und Mitarbeiter / in: | T63: Kommentar Führungskraft
F64: Was könnte die Zusammenarbeit aus Mitarbeitersicht verbessern? | I64: Was könnte die Zusammenarbeit aus Sicht der Führungskraft verbessern? | N64: Was wird vereinbart um die Zusammenarbeit zu verbessern?
E67: Vorbe-reitung MA | F67: Welche, aus Sicht der Mitarbeiterin, des Mitarbeiters wichtigen Fragen oder Wünsche sind besprochen worden? | T67: Kommentar Führungskraft
F68: 1
F69: 2
F71: Wenn notwendig, Kommentar Mitarbeiter / in zum Gespräch | N71: Wenn notwendig, Kommentar Führungskraft zum Gespräch
F74: Datum | K74: Unterschrift Führungskraft: | P74: Unterschrift Mitarbeiter / in:

Sheet Form-06
B2: Blatt: Formular für Mitarbeitergespräch | V2: ©Dr. Wolfgang Schröder
B3: Go | C3: zum Deckblatt | E3: Bereich: | G3: =Bereichsdaten!G4 -> 0 | I3: Jahr | K3: =Bereichsdaten!$K$4 -> 0
B4: Go | C4: Anwendungshinweise | G4: Name | I4: Funktion
B5: Go | C5: Struktur des Instruments | E5: Führungskraft: | G5: =Bereichsdaten!G6 -> 0 | H5: =Bereichsdaten!H6 -> 0 | I5: =Bereichsdaten!I6 -> 0
B6: Go | C6: Daten des Bereichs | F6: Go | G6: =Bereichsdaten!G10 -> 0 | H6: =Bereichsdaten!H10 -> 0 | I6: =Bereichsdaten!I10 -> 0
B7: Go | C7: Zu den Gesprächsunterlagen | F7: Go | G7: =Bereichsdaten!G11 -> 0 | H7: =Bereichsdaten!H11 -> 0 | I7: =Bereichsdaten!I11 -> 0
B8: Go | C8: Ergebniszusammenfassung Individuelle Entwicklungsaktivitäten | F8: Go | G8: =Bereichsdaten!G12 -> 0 | H8: =Bereichsdaten!H12 -> 0 | I8: =Bereichsdaten!I12 -> 0
B9: Go | C9: Ergebniszusammenfassung Veränderung Rahmenbedingungen | F9: Go | G9: =Bereichsdaten!G13 -> 0 | H9: =Bereichsdaten!H13 -> 0 | I9: =Bereichsdaten!I13 -> 0
B10: Go | C10: Ergebniszusammenfassung Vereinbarungen Zusammenarbeit | F10: Go | G10: =Bereichsdaten!G14 -> 0 | H10: =Bereichsdaten!H14 -> 0 | I10: =Bereichsdaten!I14 -> 0
B11: Go | C11: Ergebniszusammenfassung Wichtige Mitarbeiterthemen | F11: Go | G11: =Bereichsdaten!G15 -> 0 | H11: =Bereichsdaten!H15 -> 0 | I11: =Bereichsdaten!I15 -> 0
B12: Go | C12: Ergebniszusammenfassung Kommentare | F12: Go | G12: =Bereichsdaten!G16 -> 0 | H12: =Bereichsdaten!H16 -> 0 | I12: =Bereichsdaten!I16 -> 0
B13: Go | C13: Mitarbeitervorbereitung | F13: Go | G13: =Bereichsdaten!G17 -> 0 | H13: =Bereichsdaten!H17 -> 0 | I13: =Bereichsdaten!I17 -> 0
B14: Go | C14: Hilfsinformationen für die Führungskraft | F14: Go | G14: =Bereichsdaten!G18 -> 0 | H14: =Bereichsdaten!H18 -> 0 | I14: =Bereichsdaten!I18 -> 0
F15: Go | G15: =Bereichsdaten!G19 -> 0 | H15: =Bereichsdaten!H19 -> 0 | I15: =Bereichsdaten!I19 -> 0
F18: Blatt 1 | H18: Mitarbeitergespräch: Einschätzung von Kompetenzen
F20: für Mitarbeiter / in (MA) | P20: mit Führungskraft (FK) | U20: für Jahr | V20: =$K$3 -> 0
F21: Name: | G21: ='Form-06'!G11 -> 0 | H21: ='Form-06'!H11 -> 0 | I21: Funktion: | K21: ='Form-06'!I11 -> 0 | L21: ='Form-06'!L6 -> 0 | M21: ='Form-06'!M6 -> 0 | N21: ='Form-06'!N6 -> 0 | P21: Name: | Q21: =$G$5 -> 0 | T21: Abteilung: | U21: =$G$3 -> 0
P22: Vorname: | Q22: =$H$5 -> 0
F24: Kompetenzen zur Einschätzung von Fähigkeiten/Verhalten für Mitarbeiter/in, Führungskräfte | Q24: Kompetenzen nur für Führungskräfte
F25: Fachwissen, -fähigkeit | J25: Power und Gestaltungswille | Q25: Bereichssteuerung und - entwicklung
F26: erfüllt Aufgaben der Stelle gut | J26: arbeitet selbständig ohne viele Anweisungen | Q26: hat Arbeitsverteilung/Prozesse im Griff, schafft Rahmenbedingungen (Digitalisierung) damit Mitarbeiter produktiv/motiviert arbeiten können
F27: Methodenwissen,-fähigkeit | J27: zeigt Leistungsbereitschaft und Initiative, will etwas bewegen | Q27: verfolgt aktiv Schnittstellenmanagement zu anderen Unternehmensbereichen
F28: nutzt IT-gestützte Arbeitsmethoden | J28: erkennt und nutzt Gestaltungsspielräume | Q28: setzt Unternehmensstrategien um, sucht kontinuierlich nach Veränderungen als Chance für Fortschritt / Erfolg (KVP)
F29: Arbeitsorganisation, strukturierte Arbeitsweise, Zeitmanagement | J29: ist durchsetzungsstark, ohne verbrannte Erde zu hinterlassen | Q29: Mitarbeiter-, Teamführung
F30: Umgebungswissen | J30: Charakter und Anlagen | Q30: führt Mitarbeiter und Team zielorientiert und überprüft den Erfolg
F31: Grundlagenwissen aus anderen Fachbereichen | J31: Genauigkeit, Sorgfalt, Professionalität, Zuverlässigkeit | Q31: delegiert Ergebnisverantwortung erfolgreich
F32: Kenntnisse über Märkte und Produkte | J32: ist loyal gegenüber MA, Kollegen, Führungskräften, Unternehmen | Q32: handelt fair und zeigt Wertschätzung
F33: Kenntnisse über relevante interne / externe Unternehmenszusammenhänge | J33: ist belastbar (physisch / psychisch) | Q33: Team-, Mitarbeiterentwicklung
F34: Unternehmerisches Denken und Handeln | J34: hat Selbstvertrauen, ist selbstkritisch, gesteht Fehler ein | Q34: entwickelt Teams bzw. Mitarbeiter systematisch, setzt sich für die individuelle Entwicklung der Mitarbeiter ein
F35: setzt Zeit, Mittel, Aufwand kostenbewusst ein | J35: denkt positiv, humorvoll | Q35: setzt Teams / Mitarbeiter sinnvoll bzw. nach Fähigkeiten ein
F36: denkt / handelt ergebnisorientiert | J36: hat sich im Griff, Gelassenheit | Q36: beurteilt fair, setzt gemeinsam gefundene Konsequenzen aus Beurteilungen um
F37: denkt / handelt ganzheitlich, berücksichtigt Konsequenzen in anderen Bereichen | J37: Offenheit und Lernen
F38: orientiert sich im Handeln an Erwartungen externer / interner Kunden | J38: ist kreativ, Ideenfindung, macht qualifizierte Verbesserungsvorschläge | P38: Was kann daraus gelernt werden? (Vorbereitung MA + FK) Welche 3 Kompetenzinhalte beschreiben die größten Stärken aber auch die wichtigsten Entwicklungsfelder des Mitarbeiters, der Mitarbeiterin?
F39: Kommunikation und Information | J39: ist offen für neue Situationen, Flexibilität
F40: Ausdrucksvermögen (Sprache, Schrift) | J40: Lernbereitschaft, Weiterbildungsbereitschaft | P40: Stärke 1
F41: informiert offen, bedarfsgerecht und rechtzeitig | J41: gibt eigenes Wissen und Fähigkeiten weiter | P41: Stärke 2
F42: stellt Standpunkte klar und überzeugend dar | J42: Teamplayer | P42: Stärke 3
F43: kann zuhören, sich in andere hineinversetzen, (soziale Kompetenz) | J43: arbeitet mit anderen fair + konstruktiv zusammen, ist teamfähig | P43: Entwicklungsfeld 1
F44: fördert bereichsübergreifenden, fachlichen Informationsaustausch | J44: wirkt integrierend, kompromissfähig | P44: Entwicklungsfeld 2
F45: Verhandlungsgeschick | J45: regelt Konflikte konstruktiv, kritisiert konstruktiv | P45: Entwicklungsfeld 3
F47: Blatt 2 | H47: Mitarbeitergespräch: Ergebniszusammenfassung
F49: für Mitarbeiter / in (MA) | P49: mit Führungskraft (FK) | U49: für Jahr | V49: =$V$20 -> 0
F50: Name: | G50: ='Form-06'!G21 -> 0 | H50: ='Form-06'!H21 -> 0 | I50: Funktion: | K50: ='Form-06'!K21 -> 0 | P50: Name: | Q50: =$Q$21 -> 0 | T50: Abteilung: | U50: =$U$21 -> 0
P51: Vorname: | Q51: =$Q$22 -> 0
F53: Die folgenden Entwicklungsinhalte werden vorgeschlagen:
F54: Für welche maximal zwei konkreten Kompetenzen sollen Entwicklungsmaßnahmen durchgeführt werden? | J54: Welche messbaren Ergebnisse sollen erreicht werden? Beschreiben Sie die Ergebnisse konkret. | S54: Idee für Aktionen: Was - wann - wie lang?
F58: Fördernde und hemmende Rahmenbedingungen für die Arbeit: Feedback durch Mitarbeiter / in | T58: Kommentar Führungskraft
F59: Fördernde Rahmenbedingungen (durch Komma trennen) | I59: Behindernde Rahmenbedingungen (durch Komma trennen) | N59: Was sind die maximal zwei wichtigsten Ansatzpunkte für Veränderungen?
E60: Vorbe-reitung MA
E63: Vorbe-reitung MA + FK | F63: Zur Zusammenarbeit von Führungskraft und Mitarbeiter / in: | T63: Kommentar Führungskraft
F64: Was könnte die Zusammenarbeit aus Mitarbeitersicht verbessern? | I64: Was könnte die Zusammenarbeit aus Sicht der Führungskraft verbessern? | N64: Was wird vereinbart um die Zusammenarbeit zu verbessern?
E67: Vorbe-reitung MA | F67: Welche, aus Sicht der Mitarbeiterin, des Mitarbeiters wichtigen Fragen oder Wünsche sind besprochen worden? | T67: Kommentar Führungskraft
F68: 1
F69: 2
F71: Wenn notwendig, Kommentar Mitarbeiter / in zum Gespräch | N71: Wenn notwendig, Kommentar Führungskraft zum Gespräch
F74: Datum | K74: Unterschrift Führungskraft: | P74: Unterschrift Mitarbeiter / in:

Sheet Form-07
B2: Blatt: Formular für Mitarbeitergespräch | V2: ©Dr. Wolfgang Schröder
B3: Go | C3: zum Deckblatt | E3: Bereich: | G3: =Bereichsdaten!G4 -> 0 | I3: Jahr | K3: =Bereichsdaten!$K$4 -> 0
B4: Go | C4: Anwendungshinweise | G4: Name | I4: Funktion
B5: Go | C5: Struktur des Instruments | E5: Führungskraft: | G5: =Bereichsdaten!G6 -> 0 | H5: =Bereichsdaten!H6 -> 0 | I5: =Bereichsdaten!I6 -> 0
B6: Go | C6: Daten des Bereichs | F6: Go | G6: =Bereichsdaten!G10 -> 0 | H6: =Bereichsdaten!H10 -> 0 | I6: =Bereichsdaten!I10 -> 0
B7: Go | C7: Zu den Gesprächsunterlagen | F7: Go | G7: =Bereichsdaten!G11 -> 0 | H7: =Bereichsdaten!H11 -> 0 | I7: =Bereichsdaten!I11 -> 0
B8: Go | C8: Ergebniszusammenfassung Individuelle Entwicklungsaktivitäten | F8: Go | G8: =Bereichsdaten!G12 -> 0 | H8: =Bereichsdaten!H12 -> 0 | I8: =Bereichsdaten!I12 -> 0
B9: Go | C9: Ergebniszusammenfassung Veränderung Rahmenbedingungen | F9: Go | G9: =Bereichsdaten!G13 -> 0 | H9: =Bereichsdaten!H13 -> 0 | I9: =Bereichsdaten!I13 -> 0
B10: Go | C10: Ergebniszusammenfassung Vereinbarungen Zusammenarbeit | F10: Go | G10: =Bereichsdaten!G14 -> 0 | H10: =Bereichsdaten!H14 -> 0 | I10: =Bereichsdaten!I14 -> 0
B11: Go | C11: Ergebniszusammenfassung Wichtige Mitarbeiterthemen | F11: Go | G11: =Bereichsdaten!G15 -> 0 | H11: =Bereichsdaten!H15 -> 0 | I11: =Bereichsdaten!I15 -> 0
B12: Go | C12: Ergebniszusammenfassung Kommentare | F12: Go | G12: =Bereichsdaten!G16 -> 0 | H12: =Bereichsdaten!H16 -> 0 | I12: =Bereichsdaten!I16 -> 0
B13: Go | C13: Mitarbeitervorbereitung | F13: Go | G13: =Bereichsdaten!G17 -> 0 | H13: =Bereichsdaten!H17 -> 0 | I13: =Bereichsdaten!I17 -> 0
B14: Go | C14: Hilfsinformationen für die Führungskraft | F14: Go | G14: =Bereichsdaten!G18 -> 0 | H14: =Bereichsdaten!H18 -> 0 | I14: =Bereichsdaten!I18 -> 0
F15: Go | G15: =Bereichsdaten!G19 -> 0 | H15: =Bereichsdaten!H19 -> 0 | I15: =Bereichsdaten!I19 -> 0
F18: Blatt 1 | H18: Mitarbeitergespräch: Einschätzung von Kompetenzen
F20: für Mitarbeiter / in (MA) | P20: mit Führungskraft (FK) | U20: für Jahr | V20: =$K$3 -> 0
F21: Name: | G21: ='Form-07'!G12 -> 0 | H21: ='Form-07'!H12 -> 0 | I21: Funktion: | K21: ='Form-07'!I12 -> 0 | L21: ='Form-07'!L6 -> 0 | M21: ='Form-07'!M6 -> 0 | N21: ='Form-07'!N6 -> 0 | P21: Name: | Q21: =$G$5 -> 0 | T21: Abteilung: | U21: =$G$3 -> 0
P22: Vorname: | Q22: =$H$5 -> 0
F24: Kompetenzen zur Einschätzung von Fähigkeiten/Verhalten für Mitarbeiter/in, Führungskräfte | Q24: Kompetenzen nur für Führungskräfte
F25: Fachwissen, -fähigkeit | J25: Power und Gestaltungswille | Q25: Bereichssteuerung und - entwicklung
F26: erfüllt Aufgaben der Stelle gut | J26: arbeitet selbständig ohne viele Anweisungen | Q26: hat Arbeitsverteilung/Prozesse im Griff, schafft Rahmenbedingungen (Digitalisierung) damit Mitarbeiter produktiv/motiviert arbeiten können
F27: Methodenwissen,-fähigkeit | J27: zeigt Leistungsbereitschaft und Initiative, will etwas bewegen | Q27: verfolgt aktiv Schnittstellenmanagement zu anderen Unternehmensbereichen
F28: nutzt IT-gestützte Arbeitsmethoden | J28: erkennt und nutzt Gestaltungsspielräume | Q28: setzt Unternehmensstrategien um, sucht kontinuierlich nach Veränderungen als Chance für Fortschritt / Erfolg (KVP)
F29: Arbeitsorganisation, strukturierte Arbeitsweise, Zeitmanagement | J29: ist durchsetzungsstark, ohne verbrannte Erde zu hinterlassen | Q29: Mitarbeiter-, Teamführung
F30: Umgebungswissen | J30: Charakter und Anlagen | Q30: führt Mitarbeiter und Team zielorientiert und überprüft den Erfolg
F31: Grundlagenwissen aus anderen Fachbereichen | J31: Genauigkeit, Sorgfalt, Professionalität, Zuverlässigkeit | Q31: delegiert Ergebnisverantwortung erfolgreich
F32: Kenntnisse über Märkte und Produkte | J32: ist loyal gegenüber MA, Kollegen, Führungskräften, Unternehmen | Q32: handelt fair und zeigt Wertschätzung
F33: Kenntnisse über relevante interne / externe Unternehmenszusammenhänge | J33: ist belastbar (physisch / psychisch) | Q33: Team-, Mitarbeiterentwicklung
F34: Unternehmerisches Denken und Handeln | J34: hat Selbstvertrauen, ist selbstkritisch, gesteht Fehler ein | Q34: entwickelt Teams bzw. Mitarbeiter systematisch, setzt sich für die individuelle Entwicklung der Mitarbeiter ein
F35: setzt Zeit, Mittel, Aufwand kostenbewusst ein | J35: denkt positiv, humorvoll | Q35: setzt Teams / Mitarbeiter sinnvoll bzw. nach Fähigkeiten ein
F36: denkt / handelt ergebnisorientiert | J36: hat sich im Griff, Gelassenheit | Q36: beurteilt fair, setzt gemeinsam gefundene Konsequenzen aus Beurteilungen um
F37: denkt / handelt ganzheitlich, berücksichtigt Konsequenzen in anderen Bereichen | J37: Offenheit und Lernen
F38: orientiert sich im Handeln an Erwartungen externer / interner Kunden | J38: ist kreativ, Ideenfindung, macht qualifizierte Verbesserungsvorschläge | P38: Was kann daraus gelernt werden? (Vorbereitung MA + FK) Welche 3 Kompetenzinhalte beschreiben die größten Stärken aber auch die wichtigsten Entwicklungsfelder des Mitarbeiters, der Mitarbeiterin?
F39: Kommunikation und Information | J39: ist offen für neue Situationen, Flexibilität
F40: Ausdrucksvermögen (Sprache, Schrift) | J40: Lernbereitschaft, Weiterbildungsbereitschaft | P40: Stärke 1
F41: informiert offen, bedarfsgerecht und rechtzeitig | J41: gibt eigenes Wissen und Fähigkeiten weiter | P41: Stärke 2
F42: stellt Standpunkte klar und überzeugend dar | J42: Teamplayer | P42: Stärke 3
F43: kann zuhören, sich in andere hineinversetzen, (soziale Kompetenz) | J43: arbeitet mit anderen fair + konstruktiv zusammen, ist teamfähig | P43: Entwicklungsfeld 1
F44: fördert bereichsübergreifenden, fachlichen Informationsaustausch | J44: wirkt integrierend, kompromissfähig | P44: Entwicklungsfeld 2
F45: Verhandlungsgeschick | J45: regelt Konflikte konstruktiv, kritisiert konstruktiv | P45: Entwicklungsfeld 3
F47: Blatt 2 | H47: Mitarbeitergespräch: Ergebniszusammenfassung
F49: für Mitarbeiter / in (MA) | P49: mit Führungskraft (FK) | U49: für Jahr | V49: =$V$20 -> 0
F50: Name: | G50: ='Form-07'!G21 -> 0 | H50: ='Form-07'!H21 -> 0 | I50: Funktion: | K50: ='Form-07'!K21 -> 0 | P50: Name: | Q50: =$Q$21 -> 0 | T50: Abteilung: | U50: =$U$21 -> 0
P51: Vorname: | Q51: =$Q$22 -> 0
F53: Die folgenden Entwicklungsinhalte werden vorgeschlagen:
F54: Für welche maximal zwei konkreten Kompetenzen sollen Entwicklungsmaßnahmen durchgeführt werden? | J54: Welche messbaren Ergebnisse sollen erreicht werden? Beschreiben Sie die Ergebnisse konkret. | S54: Idee für Aktionen: Was - wann - wie lang?
F58: Fördernde und hemmende Rahmenbedingungen für die Arbeit: Feedback durch Mitarbeiter / in | T58: Kommentar Führungskraft
F59: Fördernde Rahmenbedingungen (durch Komma trennen) | I59: Behindernde Rahmenbedingungen (durch Komma trennen) | N59: Was sind die maximal zwei wichtigsten Ansatzpunkte für Veränderungen?
E60: Vorbe-reitung MA
E63: Vorbe-reitung MA + FK | F63: Zur Zusammenarbeit von Führungskraft und Mitarbeiter / in: | T63: Kommentar Führungskraft
F64: Was könnte die Zusammenarbeit aus Mitarbeitersicht verbessern? | I64: Was könnte die Zusammenarbeit aus Sicht der Führungskraft verbessern? | N64: Was wird vereinbart um die Zusammenarbeit zu verbessern?
E67: Vorbe-reitung MA | F67: Welche, aus Sicht der Mitarbeiterin, des Mitarbeiters wichtigen Fragen oder Wünsche sind besprochen worden? | T67: Kommentar Führungskraft
F68: 1
F69: 2
F71: Wenn notwendig, Kommentar Mitarbeiter / in zum Gespräch | N71: Wenn notwendig, Kommentar Führungskraft zum Gespräch
F74: Datum | K74: Unterschrift Führungskraft: | P74: Unterschrift Mitarbeiter / in:

Sheet Form-08
B2: Blatt: Formular für Mitarbeitergespräch | V2: ©Dr. Wolfgang Schröder
B3: Go | C3: zum Deckblatt | E3: Bereich: | G3: =Bereichsdaten!G4 -> 0 | I3: Jahr | K3: =Bereichsdaten!$K$4 -> 0
B4: Go | C4: Anwendungshinweise | G4: Name | I4: Funktion
B5: Go | C5: Struktur des Instruments | E5: Führungskraft: | G5: =Bereichsdaten!G6 -> 0 | H5: =Bereichsdaten!H6 -> 0 | I5: =Bereichsdaten!I6 -> 0
B6: Go | C6: Daten des Bereichs | F6: Go | G6: =Bereichsdaten!G10 -> 0 | H6: =Bereichsdaten!H10 -> 0 | I6: =Bereichsdaten!I10 -> 0
B7: Go | C7: Zu den Gesprächsunterlagen | F7: Go | G7: =Bereichsdaten!G11 -> 0 | H7: =Bereichsdaten!H11 -> 0 | I7: =Bereichsdaten!I11 -> 0
B8: Go | C8: Ergebniszusammenfassung Individuelle Entwicklungsaktivitäten | F8: Go | G8: =Bereichsdaten!G12 -> 0 | H8: =Bereichsdaten!H12 -> 0 | I8: =Bereichsdaten!I12 -> 0
B9: Go | C9: Ergebniszusammenfassung Veränderung Rahmenbedingungen | F9: Go | G9: =Bereichsdaten!G13 -> 0 | H9: =Bereichsdaten!H13 -> 0 | I9: =Bereichsdaten!I13 -> 0
B10: Go | C10: Ergebniszusammenfassung Vereinbarungen Zusammenarbeit | F10: Go | G10: =Bereichsdaten!G14 -> 0 | H10: =Bereichsdaten!H14 -> 0 | I10: =Bereichsdaten!I14 -> 0
B11: Go | C11: Ergebniszusammenfassung Wichtige Mitarbeiterthemen | F11: Go | G11: =Bereichsdaten!G15 -> 0 | H11: =Bereichsdaten!H15 -> 0 | I11: =Bereichsdaten!I15 -> 0
B12: Go | C12: Ergebniszusammenfassung Kommentare | F12: Go | G12: =Bereichsdaten!G16 -> 0 | H12: =Bereichsdaten!H16 -> 0 | I12: =Bereichsdaten!I16 -> 0
B13: Go | C13: Mitarbeitervorbereitung | F13: Go | G13: =Bereichsdaten!G17 -> 0 | H13: =Bereichsdaten!H17 -> 0 | I13: =Bereichsdaten!I17 -> 0
B14: Go | C14: Hilfsinformationen für die Führungskraft | F14: Go | G14: =Bereichsdaten!G18 -> 0 | H14: =Bereichsdaten!H18 -> 0 | I14: =Bereichsdaten!I18 -> 0
F15: Go | G15: =Bereichsdaten!G19 -> 0 | H15: =Bereichsdaten!H19 -> 0 | I15: =Bereichsdaten!I19 -> 0
F18: Blatt 1 | H18: Mitarbeitergespräch: Einschätzung von Kompetenzen
F20: für Mitarbeiter / in (MA) | P20: mit Führungskraft (FK) | U20: für Jahr | V20: =$K$3 -> 0
F21: Name: | G21: ='Form-08'!G13 -> 0 | H21: ='Form-08'!H13 -> 0 | I21: Funktion: | K21: ='Form-08'!I13 -> 0 | L21: ='Form-08'!L6 -> 0 | M21: ='Form-08'!M6 -> 0 | N21: ='Form-08'!N6 -> 0 | P21: Name: | Q21: =$G$5 -> 0 | T21: Abteilung: | U21: =$G$3 -> 0
P22: Vorname: | Q22: =$H$5 -> 0
F24: Kompetenzen zur Einschätzung von Fähigkeiten/Verhalten für Mitarbeiter/in, Führungskräfte | Q24: Kompetenzen nur für Führungskräfte
F25: Fachwissen, -fähigkeit | J25: Power und Gestaltungswille | Q25: Bereichssteuerung und - entwicklung
F26: erfüllt Aufgaben der Stelle gut | J26: arbeitet selbständig ohne viele Anweisungen | Q26: hat Arbeitsverteilung/Prozesse im Griff, schafft Rahmenbedingungen (Digitalisierung) damit Mitarbeiter produktiv/motiviert arbeiten können
F27: Methodenwissen,-fähigkeit | J27: zeigt Leistungsbereitschaft und Initiative, will etwas bewegen | Q27: verfolgt aktiv Schnittstellenmanagement zu anderen Unternehmensbereichen
F28: nutzt IT-gestützte Arbeitsmethoden | J28: erkennt und nutzt Gestaltungsspielräume | Q28: setzt Unternehmensstrategien um, sucht kontinuierlich nach Veränderungen als Chance für Fortschritt / Erfolg (KVP)
F29: Arbeitsorganisation, strukturierte Arbeitsweise, Zeitmanagement | J29: ist durchsetzungsstark, ohne verbrannte Erde zu hinterlassen | Q29: Mitarbeiter-, Teamführung
F30: Umgebungswissen | J30: Charakter und Anlagen | Q30: führt Mitarbeiter und Team zielorientiert und überprüft den Erfolg
F31: Grundlagenwissen aus anderen Fachbereichen | J31: Genauigkeit, Sorgfalt, Professionalität, Zuverlässigkeit | Q31: delegiert Ergebnisverantwortung erfolgreich
F32: Kenntnisse über Märkte und Produkte | J32: ist loyal gegenüber MA, Kollegen, Führungskräften, Unternehmen | Q32: handelt fair und zeigt Wertschätzung
F33: Kenntnisse über relevante interne / externe Unternehmenszusammenhänge | J33: ist belastbar (physisch / psychisch) | Q33: Team-, Mitarbeiterentwicklung
F34: Unternehmerisches Denken und Handeln | J34: hat Selbstvertrauen, ist selbstkritisch, gesteht Fehler ein | Q34: entwickelt Teams bzw. Mitarbeiter systematisch, setzt sich für die individuelle Entwicklung der Mitarbeiter ein
F35: setzt Zeit, Mittel, Aufwand kostenbewusst ein | J35: denkt positiv, humorvoll | Q35: setzt Teams / Mitarbeiter sinnvoll bzw. nach Fähigkeiten ein
F36: denkt / handelt ergebnisorientiert | J36: hat sich im Griff, Gelassenheit | Q36: beurteilt fair, setzt gemeinsam gefundene Konsequenzen aus Beurteilungen um
F37: denkt / handelt ganzheitlich, berücksichtigt Konsequenzen in anderen Bereichen | J37: Offenheit und Lernen
F38: orientiert sich im Handeln an Erwartungen externer / interner Kunden | J38: ist kreativ, Ideenfindung, macht qualifizierte Verbesserungsvorschläge | P38: Was kann daraus gelernt werden? (Vorbereitung MA + FK) Welche 3 Kompetenzinhalte beschreiben die größten Stärken aber auch die wichtigsten Entwicklungsfelder des Mitarbeiters, der Mitarbeiterin?
F39: Kommunikation und Information | J39: ist offen für neue Situationen, Flexibilität
F40: Ausdrucksvermögen (Sprache, Schrift) | J40: Lernbereitschaft, Weiterbildungsbereitschaft | P40: Stärke 1
F41: informiert offen, bedarfsgerecht und rechtzeitig | J41: gibt eigenes Wissen und Fähigkeiten weiter | P41: Stärke 2
F42: stellt Standpunkte klar und überzeugend dar | J42: Teamplayer | P42: Stärke 3
F43: kann zuhören, sich in andere hineinversetzen, (soziale Kompetenz) | J43: arbeitet mit anderen fair + konstruktiv zusammen, ist teamfähig | P43: Entwicklungsfeld 1
F44: fördert bereichsübergreifenden, fachlichen Informationsaustausch | J44: wirkt integrierend, kompromissfähig | P44: Entwicklungsfeld 2
F45: Verhandlungsgeschick | J45: regelt Konflikte konstruktiv, kritisiert konstruktiv | P45: Entwicklungsfeld 3
F47: Blatt 2 | H47: Mitarbeitergespräch: Ergebniszusammenfassung
F49: für Mitarbeiter / in (MA) | P49: mit Führungskraft (FK) | U49: für Jahr | V49: =$V$20 -> 0
F50: Name: | G50: ='Form-08'!G21 -> 0 | H50: ='Form-08'!H21 -> 0 | I50: Funktion: | K50: ='Form-08'!K21 -> 0 | P50: Name: | Q50: =$Q$21 -> 0 | T50: Abteilung: | U50: =$U$21 -> 0
P51: Vorname: | Q51: =$Q$22 -> 0
F53: Die folgenden Entwicklungsinhalte werden vorgeschlagen:
F54: Für welche maximal zwei konkreten Kompetenzen sollen Entwicklungsmaßnahmen durchgeführt werden? | J54: Welche messbaren Ergebnisse sollen erreicht werden? Beschreiben Sie die Ergebnisse konkret. | S54: Idee für Aktionen: Was - wann - wie lang?
F58: Fördernde und hemmende Rahmenbedingungen für die Arbeit: Feedback durch Mitarbeiter / in | T58: Kommentar Führungskraft
F59: Fördernde Rahmenbedingungen (durch Komma trennen) | I59: Behindernde Rahmenbedingungen (durch Komma trennen) | N59: Was sind die maximal zwei wichtigsten Ansatzpunkte für Veränderungen?
E60: Vorbe-reitung MA
E63: Vorbe-reitung MA + FK | F63: Zur Zusammenarbeit von Führungskraft und Mitarbeiter / in: | T63: Kommentar Führungskraft
F64: Was könnte die Zusammenarbeit aus Mitarbeitersicht verbessern? | I64: Was könnte die Zusammenarbeit aus Sicht der Führungskraft verbessern? | N64: Was wird vereinbart um die Zusammenarbeit zu verbessern?
E67: Vorbe-reitung MA | F67: Welche, aus Sicht der Mitarbeiterin, des Mitarbeiters wichtigen Fragen oder Wünsche sind besprochen worden? | T67: Kommentar Führungskraft
F68: 1
F69: 2
F71: Wenn notwendig, Kommentar Mitarbeiter / in zum Gespräch | N71: Wenn notwendig, Kommentar Führungskraft zum Gespräch
F74: Datum | K74: Unterschrift Führungskraft: | P74: Unterschrift Mitarbeiter / in:

Sheet Form-09
B2: Blatt: Formular für Mitarbeitergespräch | V2: ©Dr. Wolfgang Schröder
B3: Go | C3: zum Deckblatt | E3: Bereich: | G3: =Bereichsdaten!G4 -> 0 | I3: Jahr | K3: =Bereichsdaten!$K$4 -> 0
B4: Go | C4: Anwendungshinweise | G4: Name | I4: Funktion
B5: Go | C5: Struktur des Instruments | E5: Führungskraft: | G5: =Bereichsdaten!G6 -> 0 | H5: =Bereichsdaten!H6 -> 0 | I5: =Bereichsdaten!I6 -> 0
B6: Go | C6: Daten des Bereichs | F6: Go | G6: =Bereichsdaten!G10 -> 0 | H6: =Bereichsdaten!H10 -> 0 | I6: =Bereichsdaten!I10 -> 0
B7: Go | C7: Zu den Gesprächsunterlagen | F7: Go | G7: =Bereichsdaten!G11 -> 0 | H7: =Bereichsdaten!H11 -> 0 | I7: =Bereichsdaten!I11 -> 0
B8: Go | C8: Ergebniszusammenfassung Individuelle Entwicklungsaktivitäten | F8: Go | G8: =Bereichsdaten!G12 -> 0 | H8: =Bereichsdaten!H12 -> 0 | I8: =Bereichsdaten!I12 -> 0
B9: Go | C9: Ergebniszusammenfassung Veränderung Rahmenbedingungen | F9: Go | G9: =Bereichsdaten!G13 -> 0 | H9: =Bereichsdaten!H13 -> 0 | I9: =Bereichsdaten!I13 -> 0
B10: Go | C10: Ergebniszusammenfassung Vereinbarungen Zusammenarbeit | F10: Go | G10: =Bereichsdaten!G14 -> 0 | H10: =Bereichsdaten!H14 -> 0 | I10: =Bereichsdaten!I14 -> 0
B11: Go | C11: Ergebniszusammenfassung Wichtige Mitarbeiterthemen | F11: Go | G11: =Bereichsdaten!G15 -> 0 | H11: =Bereichsdaten!H15 -> 0 | I11: =Bereichsdaten!I15 -> 0
B12: Go | C12: Ergebniszusammenfassung Kommentare | F12: Go | G12: =Bereichsdaten!G16 -> 0 | H12: =Bereichsdaten!H16 -> 0 | I12: =Bereichsdaten!I16 -> 0
B13: Go | C13: Mitarbeitervorbereitung | F13: Go | G13: =Bereichsdaten!G17 -> 0 | H13: =Bereichsdaten!H17 -> 0 | I13: =Bereichsdaten!I17 -> 0
B14: Go | C14: Hilfsinformationen für die Führungskraft | F14: Go | G14: =Bereichsdaten!G18 -> 0 | H14: =Bereichsdaten!H18 -> 0 | I14: =Bereichsdaten!I18 -> 0
F15: Go | G15: =Bereichsdaten!G19 -> 0 | H15: =Bereichsdaten!H19 -> 0 | I15: =Bereichsdaten!I19 -> 0
F18: Blatt 1 | H18: Mitarbeitergespräch: Einschätzung von Kompetenzen
F20: für Mitarbeiter / in (MA) | P20: mit Führungskraft (FK) | U20: für Jahr | V20: =$K$3 -> 0
F21: Name: | G21: ='Form-09'!G14 -> 0 | H21: ='Form-09'!H14 -> 0 | I21: Funktion: | K21: ='Form-09'!I14 -> 0 | L21: ='Form-09'!L6 -> 0 | M21: ='Form-09'!M6 -> 0 | N21: ='Form-09'!N6 -> 0 | P21: Name: | Q21: =$G$5 -> 0 | T21: Abteilung: | U21: =$G$3 -> 0
P22: Vorname: | Q22: =$H$5 -> 0
F24: Kompetenzen zur Einschätzung von Fähigkeiten/Verhalten für Mitarbeiter/in, Führungskräfte | Q24: Kompetenzen nur für Führungskräfte
F25: Fachwissen, -fähigkeit | J25: Power und Gestaltungswille | Q25: Bereichssteuerung und - entwicklung
F26: erfüllt Aufgaben der Stelle gut | J26: arbeitet selbständig ohne viele Anweisungen | Q26: hat Arbeitsverteilung/Prozesse im Griff, schafft Rahmenbedingungen (Digitalisierung) damit Mitarbeiter produktiv/motiviert arbeiten können
F27: Methodenwissen,-fähigkeit | J27: zeigt Leistungsbereitschaft und Initiative, will etwas bewegen | Q27: verfolgt aktiv Schnittstellenmanagement zu anderen Unternehmensbereichen
F28: nutzt IT-gestützte Arbeitsmethoden | J28: erkennt und nutzt Gestaltungsspielräume | Q28: setzt Unternehmensstrategien um, sucht kontinuierlich nach Veränderungen als Chance für Fortschritt / Erfolg (KVP)
F29: Arbeitsorganisation, strukturierte Arbeitsweise, Zeitmanagement | J29: ist durchsetzungsstark, ohne verbrannte Erde zu hinterlassen | Q29: Mitarbeiter-, Teamführung
F30: Umgebungswissen | J30: Charakter und Anlagen | Q30: führt Mitarbeiter und Team zielorientiert und überprüft den Erfolg
F31: Grundlagenwissen aus anderen Fachbereichen | J31: Genauigkeit, Sorgfalt, Professionalität, Zuverlässigkeit | Q31: delegiert Ergebnisverantwortung erfolgreich
F32: Kenntnisse über Märkte und Produkte | J32: ist loyal gegenüber MA, Kollegen, Führungskräften, Unternehmen | Q32: handelt fair und zeigt Wertschätzung
F33: Kenntnisse über relevante interne / externe Unternehmenszusammenhänge | J33: ist belastbar (physisch / psychisch) | Q33: Team-, Mitarbeiterentwicklung
F34: Unternehmerisches Denken und Handeln | J34: hat Selbstvertrauen, ist selbstkritisch, gesteht Fehler ein | Q34: entwickelt Teams bzw. Mitarbeiter systematisch, setzt sich für die individuelle Entwicklung der Mitarbeiter ein
F35: setzt Zeit, Mittel, Aufwand kostenbewusst ein | J35: denkt positiv, humorvoll | Q35: setzt Teams / Mitarbeiter sinnvoll bzw. nach Fähigkeiten ein
F36: denkt / handelt ergebnisorientiert | J36: hat sich im Griff, Gelassenheit | Q36: beurteilt fair, setzt gemeinsam gefundene Konsequenzen aus Beurteilungen um
F37: denkt / handelt ganzheitlich, berücksichtigt Konsequenzen in anderen Bereichen | J37: Offenheit und Lernen
F38: orientiert sich im Handeln an Erwartungen externer / interner Kunden | J38: ist kreativ, Ideenfindung, macht qualifizierte Verbesserungsvorschläge | P38: Was kann daraus gelernt werden? (Vorbereitung MA + FK) Welche 3 Kompetenzinhalte beschreiben die größten Stärken aber auch die wichtigsten Entwicklungsfelder des Mitarbeiters, der Mitarbeiterin?
F39: Kommunikation und Information | J39: ist offen für neue Situationen, Flexibilität
F40: Ausdrucksvermögen (Sprache, Schrift) | J40: Lernbereitschaft, Weiterbildungsbereitschaft | P40: Stärke 1
F41: informiert offen, bedarfsgerecht und rechtzeitig | J41: gibt eigenes Wissen und Fähigkeiten weiter | P41: Stärke 2
F42: stellt Standpunkte klar und überzeugend dar | J42: Teamplayer | P42: Stärke 3
F43: kann zuhören, sich in andere hineinversetzen, (soziale Kompetenz) | J43: arbeitet mit anderen fair + konstruktiv zusammen, ist teamfähig | P43: Entwicklungsfeld 1
F44: fördert bereichsübergreifenden, fachlichen Informationsaustausch | J44: wirkt integrierend, kompromissfähig | P44: Entwicklungsfeld 2
F45: Verhandlungsgeschick | J45: regelt Konflikte konstruktiv, kritisiert konstruktiv | P45: Entwicklungsfeld 3
F47: Blatt 2 | H47: Mitarbeitergespräch: Ergebniszusammenfassung
F49: für Mitarbeiter / in (MA) | P49: mit Führungskraft (FK) | U49: für Jahr | V49: =$V$20 -> 0
F50: Name: | G50: ='Form-09'!G21 -> 0 | H50: ='Form-09'!H21 -> 0 | I50: Funktion: | K50: ='Form-09'!K21 -> 0 | P50: Name: | Q50: =$Q$21 -> 0 | T50: Abteilung: | U50: =$U$21 -> 0
P51: Vorname: | Q51: =$Q$22 -> 0
F53: Die folgenden Entwicklungsinhalte werden vorgeschlagen:
F54: Für welche maximal zwei konkreten Kompetenzen sollen Entwicklungsmaßnahmen durchgeführt werden? | J54: Welche messbaren Ergebnisse sollen erreicht werden? Beschreiben Sie die Ergebnisse konkret. | S54: Idee für Aktionen: Was - wann - wie lang?
F58: Fördernde und hemmende Rahmenbedingungen für die Arbeit: Feedback durch Mitarbeiter / in | T58: Kommentar Führungskraft
F59: Fördernde Rahmenbedingungen (durch Komma trennen) | I59: Behindernde Rahmenbedingungen (durch Komma trennen) | N59: Was sind die maximal zwei wichtigsten Ansatzpunkte für Veränderungen?
E60: Vorbe-reitung MA
E63: Vorbe-reitung MA + FK | F63: Zur Zusammenarbeit von Führungskraft und Mitarbeiter / in: | T63: Kommentar Führungskraft
F64: Was könnte die Zusammenarbeit aus Mitarbeitersicht verbessern? | I64: Was könnte die Zusammenarbeit aus Sicht der Führungskraft verbessern? | N64: Was wird vereinbart um die Zusammenarbeit zu verbessern?
E67: Vorbe-reitung MA | F67: Welche, aus Sicht der Mitarbeiterin, des Mitarbeiters wichtigen Fragen oder Wünsche sind besprochen worden? | T67: Kommentar Führungskraft
F68: 1
F69: 2
F71: Wenn notwendig, Kommentar Mitarbeiter / in zum Gespräch | N71: Wenn notwendig, Kommentar Führungskraft zum Gespräch
F74: Datum | K74: Unterschrift Führungskraft: | P74: Unterschrift Mitarbeiter / in:

Sheet Form-10
B2: Blatt: Formular für Mitarbeitergespräch | V2: ©Dr. Wolfgang Schröder
B3: Go | C3: zum Deckblatt | E3: Bereich: | G3: =Bereichsdaten!G4 -> 0 | I3: Jahr | K3: =Bereichsdaten!$K$4 -> 0
B4: Go | C4: Anwendungshinweise | G4: Name | I4: Funktion
B5: Go | C5: Struktur des Instruments | E5: Führungskraft: | G5: =Bereichsdaten!G6 -> 0 | H5: =Bereichsdaten!H6 -> 0 | I5: =Bereichsdaten!I6 -> 0
B6: Go | C6: Daten des Bereichs | F6: Go | G6: =Bereichsdaten!G10 -> 0 | H6: =Bereichsdaten!H10 -> 0 | I6: =Bereichsdaten!I10 -> 0
B7: Go | C7: Zu den Gesprächsunterlagen | F7: Go | G7: =Bereichsdaten!G11 -> 0 | H7: =Bereichsdaten!H11 -> 0 | I7: =Bereichsdaten!I11 -> 0
B8: Go | C8: Ergebniszusammenfassung Individuelle Entwicklungsaktivitäten | F8: Go | G8: =Bereichsdaten!G12 -> 0 | H8: =Bereichsdaten!H12 -> 0 | I8: =Bereichsdaten!I12 -> 0
B9: Go | C9: Ergebniszusammenfassung Veränderung Rahmenbedingungen | F9: Go | G9: =Bereichsdaten!G13 -> 0 | H9: =Bereichsdaten!H13 -> 0 | I9: =Bereichsdaten!I13 -> 0
B10: Go | C10: Ergebniszusammenfassung Vereinbarungen Zusammenarbeit | F10: Go | G10: =Bereichsdaten!G14 -> 0 | H10: =Bereichsdaten!H14 -> 0 | I10: =Bereichsdaten!I14 -> 0
B11: Go | C11: Ergebniszusammenfassung Wichtige Mitarbeiterthemen | F11: Go | G11: =Bereichsdaten!G15 -> 0 | H11: =Bereichsdaten!H15 -> 0 | I11: =Bereichsdaten!I15 -> 0
B12: Go | C12: Ergebniszusammenfassung Kommentare | F12: Go | G12: =Bereichsdaten!G16 -> 0 | H12: =Bereichsdaten!H16 -> 0 | I12: =Bereichsdaten!I16 -> 0
B13: Go | C13: Mitarbeitervorbereitung | F13: Go | G13: =Bereichsdaten!G17 -> 0 | H13: =Bereichsdaten!H17 -> 0 | I13: =Bereichsdaten!I17 -> 0
B14: Go | C14: Hilfsinformationen für die Führungskraft | F14: Go | G14: =Bereichsdaten!G18 -> 0 | H14: =Bereichsdaten!H18 -> 0 | I14: =Bereichsdaten!I18 -> 0
F15: Go | G15: =Bereichsdaten!G19 -> 0 | H15: =Bereichsdaten!H19 -> 0 | I15: =Bereichsdaten!I19 -> 0
F18: Blatt 1 | H18: Mitarbeitergespräch: Einschätzung von Kompetenzen
F20: für Mitarbeiter / in (MA) | P20: mit Führungskraft (FK) | U20: für Jahr | V20: =$K$3 -> 0
F21: Name: | G21: ='Form-10'!G15 -> 0 | H21: ='Form-10'!H15 -> 0 | I21: Funktion: | K21: ='Form-10'!I15 -> 0 | L21: ='Form-10'!L6 -> 0 | M21: ='Form-10'!M6 -> 0 | N21: ='Form-10'!N6 -> 0 | P21: Name: | Q21: =$G$5 -> 0 | T21: Abteilung: | U21: =$G$3 -> 0
P22: Vorname: | Q22: =$H$5 -> 0
F24: Kompetenzen zur Einschätzung von Fähigkeiten/Verhalten für Mitarbeiter/in, Führungskräfte | Q24: Kompetenzen nur für Führungskräfte
F25: Fachwissen, -fähigkeit | J25: Power und Gestaltungswille | Q25: Bereichssteuerung und - entwicklung
F26: erfüllt Aufgaben der Stelle gut | J26: arbeitet selbständig ohne viele Anweisungen | Q26: hat Arbeitsverteilung/Prozesse im Griff, schafft Rahmenbedingungen (Digitalisierung) damit Mitarbeiter produktiv/motiviert arbeiten können
F27: Methodenwissen,-fähigkeit | J27: zeigt Leistungsbereitschaft und Initiative, will etwas bewegen | Q27: verfolgt aktiv Schnittstellenmanagement zu anderen Unternehmensbereichen
F28: nutzt IT-gestützte Arbeitsmethoden | J28: erkennt und nutzt Gestaltungsspielräume | Q28: setzt Unternehmensstrategien um, sucht kontinuierlich nach Veränderungen als Chance für Fortschritt / Erfolg (KVP)
F29: Arbeitsorganisation, strukturierte Arbeitsweise, Zeitmanagement | J29: ist durchsetzungsstark, ohne verbrannte Erde zu hinterlassen | Q29: Mitarbeiter-, Teamführung
F30: Umgebungswissen | J30: Charakter und Anlagen | Q30: führt Mitarbeiter und Team zielorientiert und überprüft den Erfolg
F31: Grundlagenwissen aus anderen Fachbereichen | J31: Genauigkeit, Sorgfalt, Professionalität, Zuverlässigkeit | Q31: delegiert Ergebnisverantwortung erfolgreich
F32: Kenntnisse über Märkte und Produkte | J32: ist loyal gegenüber MA, Kollegen, Führungskräften, Unternehmen | Q32: handelt fair und zeigt Wertschätzung
F33: Kenntnisse über relevante interne / externe Unternehmenszusammenhänge | J33: ist belastbar (physisch / psychisch) | Q33: Team-, Mitarbeiterentwicklung
F34: Unternehmerisches Denken und Handeln | J34: hat Selbstvertrauen, ist selbstkritisch, gesteht Fehler ein | Q34: entwickelt Teams bzw. Mitarbeiter systematisch, setzt sich für die individuelle Entwicklung der Mitarbeiter ein
F35: setzt Zeit, Mittel, Aufwand kostenbewusst ein | J35: denkt positiv, humorvoll | Q35: setzt Teams / Mitarbeiter sinnvoll bzw. nach Fähigkeiten ein
F36: denkt / handelt ergebnisorientiert | J36: hat sich im Griff, Gelassenheit | Q36: beurteilt fair, setzt gemeinsam gefundene Konsequenzen aus Beurteilungen um
F37: denkt / handelt ganzheitlich, berücksichtigt Konsequenzen in anderen Bereichen | J37: Offenheit und Lernen
F38: orientiert sich im Handeln an Erwartungen externer / interner Kunden | J38: ist kreativ, Ideenfindung, macht qualifizierte Verbesserungsvorschläge | P38: Was kann daraus gelernt werden? (Vorbereitung MA + FK) Welche 3 Kompetenzinhalte beschreiben die größten Stärken aber auch die wichtigsten Entwicklungsfelder des Mitarbeiters, der Mitarbeiterin?
F39: Kommunikation und Information | J39: ist offen für neue Situationen, Flexibilität
F40: Ausdrucksvermögen (Sprache, Schrift) | J40: Lernbereitschaft, Weiterbildungsbereitschaft | P40: Stärke 1
F41: informiert offen, bedarfsgerecht und rechtzeitig | J41: gibt eigenes Wissen und Fähigkeiten weiter | P41: Stärke 2
F42: stellt Standpunkte klar und überzeugend dar | J42: Teamplayer | P42: Stärke 3
F43: kann zuhören, sich in andere hineinversetzen, (soziale Kompetenz) | J43: arbeitet mit anderen fair + konstruktiv zusammen, ist teamfähig | P43: Entwicklungsfeld 1
F44: fördert bereichsübergreifenden, fachlichen Informationsaustausch | J44: wirkt integrierend, kompromissfähig | P44: Entwicklungsfeld 2
F45: Verhandlungsgeschick | J45: regelt Konflikte konstruktiv, kritisiert konstruktiv | P45: Entwicklungsfeld 3
F47: Blatt 2 | H47: Mitarbeitergespräch: Ergebniszusammenfassung
F49: für Mitarbeiter / in (MA) | P49: mit Führungskraft (FK) | U49: für Jahr | V49: =$V$20 -> 0
F50: Name: | G50: ='Form-10'!G21 -> 0 | H50: ='Form-10'!H21 -> 0 | I50: Funktion: | K50: ='Form-10'!K21 -> 0 | P50: Name: | Q50: =$Q$21 -> 0 | T50: Abteilung: | U50: =$U$21 -> 0
P51: Vorname: | Q51: =$Q$22 -> 0
F53: Die folgenden Entwicklungsinhalte werden vorgeschlagen:
F54: Für welche maximal zwei konkreten Kompetenzen sollen Entwicklungsmaßnahmen durchgeführt werden? | J54: Welche messbaren Ergebnisse sollen erreicht werden? Beschreiben Sie die Ergebnisse konkret. | S54: Idee für Aktionen: Was - wann - wie lang?
F58: Fördernde und hemmende Rahmenbedingungen für die Arbeit: Feedback durch Mitarbeiter / in | T58: Kommentar Führungskraft
F59: Fördernde Rahmenbedingungen (durch Komma trennen) | I59: Behindernde Rahmenbedingungen (durch Komma trennen) | N59: Was sind die maximal zwei wichtigsten Ansatzpunkte für Veränderungen?
E60: Vorbe-reitung MA
E63: Vorbe-reitung MA + FK | F63: Zur Zusammenarbeit von Führungskraft und Mitarbeiter / in: | T63: Kommentar Führungskraft
F64: Was könnte die Zusammenarbeit aus Mitarbeitersicht verbessern? | I64: Was könnte die Zusammenarbeit aus Sicht der Führungskraft verbessern? | N64: Was wird vereinbart um die Zusammenarbeit zu verbessern?
E67: Vorbe-reitung MA | F67: Welche, aus Sicht der Mitarbeiterin, des Mitarbeiters wichtigen Fragen oder Wünsche sind besprochen worden? | T67: Kommentar Führungskraft
F68: 1
F69: 2
F71: Wenn notwendig, Kommentar Mitarbeiter / in zum Gespräch | N71: Wenn notwendig, Kommentar Führungskraft zum Gespräch
F74: Datum | K74: Unterschrift Führungskraft: | P74: Unterschrift Mitarbeiter / in:

Sheet Entwicklung
B2: Blatt: Ergebniszusammenfassung Individuelle Entwicklungsaktivitäten | J2: ©Dr. Wolfgang Schröder
B3: Go | C3: zum Deckblatt
B4: Go | C4: Anwendungshinweise
B5: Go | C5: Struktur des Instruments
B6: Go | C6: Daten des Bereichs
B7: Go | C7: Zu den Gesprächsunterlagen
B8: Go | C8: Ergebniszusammenfassung Individuelle Entwicklungsaktivitäten
B9: Go | C9: Ergebniszusammenfassung Veränderung Rahmenbedingungen
B10: Go | C10: Ergebniszusammenfassung Vereinbarungen Zusammenarbeit
B11: Go | C11: Ergebniszusammenfassung Wichtige Mitarbeiterthemen
B12: Go | C12: Ergebniszusammenfassung Kommentare
B13: Go | C13: Mitarbeitervorbereitung
B14: Go | C14: Hilfsinformationen für die Führungskraft
C15: Vorgeschlagene individuelle Entwicklungsaktivitäten
C17: Bereich: | D17: Führungskraft: | E17: Mitarbeiter/in: | G17: Nr | H17: Kompetenzen: | I17: Messbares Ergebnis: | J17: Maßnahmenvorschlag:
B18: 1a | C18: =Bereichsdaten!L10 -> 0 | D18: =Bereichsdaten!J10 -> 0 | E18: =Bereichsdaten!G10 -> 0 | F18: =Bereichsdaten!H10 -> 0 | G18: 1 | H18: ='Form-01'!$F$55 -> 0 | I18: ='Form-01'!$J$55 -> 0 | J18: ='Form-01'!$S$55 -> 0
B19: 1b | C19: =Bereichsdaten!L10 -> 0 | D19: =Bereichsdaten!J10 -> 0 | E19: =Bereichsdaten!G10 -> 0 | F19: =Bereichsdaten!H10 -> 0 | G19: 2 | H19: ='Form-01'!$F$56 -> 0 | I19: ='Form-01'!$J$56 -> 0 | J19: ='Form-01'!$S$56 -> 0
B20: 2a | C20: =Bereichsdaten!L11 -> 0 | D20: =Bereichsdaten!J11 -> 0 | E20: =Bereichsdaten!G11 -> 0 | F20: =Bereichsdaten!H11 -> 0 | G20: 1 | H20: ='Form-02'!$F$55 -> 0 | I20: ='Form-02'!$J$55 -> 0 | J20: ='Form-02'!$S$55 -> 0
B21: 2b | C21: =Bereichsdaten!L11 -> 0 | D21: =Bereichsdaten!J11 -> 0 | E21: =Bereichsdaten!G11 -> 0 | F21: =Bereichsdaten!H11 -> 0 | G21: 2 | H21: ='Form-02'!$F$56 -> 0 | I21: ='Form-02'!$J$56 -> 0 | J21: ='Form-02'!$S$56 -> 0
B22: 3a | C22: =Bereichsdaten!L12 -> 0 | D22: =Bereichsdaten!J12 -> 0 | E22: =Bereichsdaten!G12 -> 0 | F22: =Bereichsdaten!H12 -> 0 | G22: 1 | H22: ='Form-03'!$F$55 -> 0 | I22: ='Form-03'!$J$55 -> 0 | J22: ='Form-03'!$S$55 -> 0
B23: 3b | C23: =Bereichsdaten!L12 -> 0 | D23: =Bereichsdaten!J12 -> 0 | E23: =Bereichsdaten!G12 -> 0 | F23: =Bereichsdaten!H12 -> 0 | G23: 2 | H23: ='Form-03'!$F$56 -> 0 | I23: ='Form-03'!$J$56 -> 0 | J23: ='Form-03'!$S$56 -> 0
B24: 4a | C24: =Bereichsdaten!L13 -> 0 | D24: =Bereichsdaten!J13 -> 0 | E24: =Bereichsdaten!G13 -> 0 | F24: =Bereichsdaten!H13 -> 0 | G24: 1 | H24: ='Form-04'!$F$55 -> 0 | I24: ='Form-04'!$J$55 -> 0 | J24: ='Form-04'!$S$55 -> 0
B25: 4b | C25: =Bereichsdaten!L13 -> 0 | D25: =Bereichsdaten!J13 -> 0 | E25: =Bereichsdaten!G13 -> 0 | F25: =Bereichsdaten!H13 -> 0 | G25: 2 | H25: ='Form-04'!$F$56 -> 0 | I25: ='Form-04'!$J$56 -> 0 | J25: ='Form-04'!$S$56 -> 0
B26: 5a | C26: =Bereichsdaten!L14 -> 0 | D26: =Bereichsdaten!J14 -> 0 | E26: =Bereichsdaten!G14 -> 0 | F26: =Bereichsdaten!H14 -> 0 | G26: 1 | H26: ='Form-05'!$F$55 -> 0 | I26: ='Form-05'!$J$55 -> 0 | J26: ='Form-05'!$S$55 -> 0
B27: 5b | C27: =Bereichsdaten!L14 -> 0 | D27: =Bereichsdaten!J14 -> 0 | E27: =Bereichsdaten!G14 -> 0 | F27: =Bereichsdaten!H14 -> 0 | G27: 2 | H27: ='Form-05'!$F$56 -> 0 | I27: ='Form-05'!$J$56 -> 0 | J27: ='Form-05'!$S$56 -> 0
B28: 6a | C28: =Bereichsdaten!L15 -> 0 | D28: =Bereichsdaten!J15 -> 0 | E28: =Bereichsdaten!G15 -> 0 | F28: =Bereichsdaten!H15 -> 0 | G28: 1 | H28: ='Form-06'!$F$55 -> 0 | I28: ='Form-06'!$J$55 -> 0 | J28: ='Form-06'!$S$55 -> 0
B29: 6b | C29: =Bereichsdaten!L15 -> 0 | D29: =Bereichsdaten!J15 -> 0 | E29: =Bereichsdaten!G15 -> 0 | F29: =Bereichsdaten!H15 -> 0 | G29: 2 | H29: ='Form-06'!$F$56 -> 0 | I29: ='Form-06'!$J$56 -> 0 | J29: ='Form-06'!$S$56 -> 0
B30: 7a | C30: =Bereichsdaten!L16 -> 0 | D30: =Bereichsdaten!J16 -> 0 | E30: =Bereichsdaten!G16 -> 0 | F30: =Bereichsdaten!H16 -> 0 | G30: 1 | H30: ='Form-07'!$F$55 -> 0 | I30: ='Form-07'!$J$55 -> 0 | J30: ='Form-07'!$S$55 -> 0
B31: 7b | C31: =Bereichsdaten!L16 -> 0 | D31: =Bereichsdaten!J16 -> 0 | E31: =Bereichsdaten!G16 -> 0 | F31: =Bereichsdaten!H16 -> 0 | G31: 2 | H31: ='Form-07'!$F$56 -> 0 | I31: ='Form-07'!$J$56 -> 0 | J31: ='Form-07'!$S$56 -> 0
B32: 8a | C32: =Bereichsdaten!L17 -> 0 | D32: =Bereichsdaten!J17 -> 0 | E32: =Bereichsdaten!G17 -> 0 | F32: =Bereichsdaten!H17 -> 0 | G32: 1 | H32: ='Form-08'!$F$55 -> 0 | I32: ='Form-08'!$J$55 -> 0 | J32: ='Form-08'!$S$55 -> 0
B33: 8b | C33: =Bereichsdaten!L17 -> 0 | D33: =Bereichsdaten!J17 -> 0 | E33: =Bereichsdaten!G17 -> 0 | F33: =Bereichsdaten!H17 -> 0 | G33: 2 | H33: ='Form-08'!$F$56 -> 0 | I33: ='Form-08'!$J$56 -> 0 | J33: ='Form-08'!$S$56 -> 0
B34: 9a | C34: =Bereichsdaten!L18 -> 0 | D34: =Bereichsdaten!J18 -> 0 | E34: =Bereichsdaten!G18 -> 0 | F34: =Bereichsdaten!H18 -> 0 | G34: 1 | H34: ='Form-09'!$F$55 -> 0 | I34: ='Form-09'!$J$55 -> 0 | J34: ='Form-09'!$S$55 -> 0
B35: 9b | C35: =Bereichsdaten!L18 -> 0 | D35: =Bereichsdaten!J18 -> 0 | E35: =Bereichsdaten!G18 -> 0 | F35: =Bereichsdaten!H18 -> 0 | G35: 2 | H35: ='Form-09'!$F$56 -> 0 | I35: ='Form-09'!$J$56 -> 0 | J35: ='Form-09'!$S$56 -> 0
B36: 10a | C36: =Bereichsdaten!L19 -> 0 | D36: =Bereichsdaten!J19 -> 0 | E36: =Bereichsdaten!G19 -> 0 | F36: =Bereichsdaten!H19 -> 0 | G36: 1 | H36: ='Form-10'!$F$55 -> 0 | I36: ='Form-10'!$J$55 -> 0 | J36: ='Form-10'!$S$55 -> 0
B37: 10b | C37: =Bereichsdaten!L19 -> 0 | D37: =Bereichsdaten!J19 -> 0 | E37: =Bereichsdaten!G19 -> 0 | F37: =Bereichsdaten!H19 -> 0 | G37: 2 | H37: ='Form-10'!$F$56 -> 0 | I37: ='Form-10'!$J$56 -> 0 | J37: ='Form-10'!$S$56 -> 0

Sheet Rahmen
B2: Blatt: Ergebniszusammenfassung Veränderung der Rahmenbedingungen | K2: ©Dr. Wolfgang Schröder
B3: Go | C3: zum Deckblatt
B4: Go | C4: Anwendungshinweise
B5: Go | C5: Struktur des Instruments
B6: Go | C6: Daten des Bereichs
B7: Go | C7: Zu den Gesprächsunterlagen
B8: Go | C8: Ergebniszusammenfassung Individuelle Entwicklungsaktivitäten
B9: Go | C9: Ergebniszusammenfassung Veränderung Rahmenbedingungen
B10: Go | C10: Ergebniszusammenfassung Vereinbarungen Zusammenarbeit
B11: Go | C11: Ergebniszusammenfassung Wichtige Mitarbeiterthemen
B12: Go | C12: Ergebniszusammenfassung Kommentare
B13: Go | C13: Mitarbeitervorbereitung
B14: Go | C14: Hilfsinformationen für die Führungskraft
C15: Vorgeschlagene Veränderungen der Rahmenbedingungen
C17: Bereich: | D17: Führungskraft: | E17: Mitarbeiter/in: | G17: Nr | H17: Fördernde Rahmenbedingungen (durch Komma trennen) | I17: Behindernde Rahmenbedingungen (durch Komma trennen) | J17: Fördernde und hemmende Rahmenbedingungen für die Arbeit: Was sind die maximal zwei wichtigsten Ansatzpunkte für Veränderungen? | K17: Kommentar Führungskraft
B18: 1a | C18: =Bereichsdaten!L10 -> 0 | D18: =Bereichsdaten!J10 -> 0 | E18: =Bereichsdaten!G10 -> 0 | F18: =Bereichsdaten!H10 -> 0 | G18: 1 | H18: ='Form-01'!$F$60 -> 0 | I18: ='Form-01'!$I$60 -> 0 | J18: ='Form-01'!$N$60 -> 0 | K18: ='Form-01'!$T$60 -> 0
B19: 1b | C19: =Bereichsdaten!L10 -> 0 | D19: =Bereichsdaten!J10 -> 0 | E19: =Bereichsdaten!G10 -> 0 | F19: =Bereichsdaten!H10 -> 0 | G19: 2 | H19: ='Form-01'!$F$60 -> 0 | I19: ='Form-01'!$I$60 -> 0 | J19: ='Form-01'!$N$61 -> 0 | K19: ='Form-01'!$T$61 -> 0
B20: 2a | C20: =Bereichsdaten!L11 -> 0 | D20: =Bereichsdaten!J11 -> 0 | E20: =Bereichsdaten!G11 -> 0 | F20: =Bereichsdaten!H11 -> 0 | G20: 1 | H20: ='Form-02'!$F$60 -> 0 | I20: ='Form-02'!$I$60 -> 0 | J20: ='Form-02'!$N$60 -> 0 | K20: ='Form-02'!$T$60 -> 0
B21: 2b | C21: =Bereichsdaten!L11 -> 0 | D21: =Bereichsdaten!J11 -> 0 | E21: =Bereichsdaten!G11 -> 0 | F21: =Bereichsdaten!H11 -> 0 | G21: 2 | H21: ='Form-02'!$F$60 -> 0 | I21: ='Form-02'!$I$60 -> 0 | J21: ='Form-02'!$N$61 -> 0 | K21: ='Form-02'!$T$61 -> 0
B22: 3a | C22: =Bereichsdaten!L12 -> 0 | D22: =Bereichsdaten!J12 -> 0 | E22: =Bereichsdaten!G12 -> 0 | F22: =Bereichsdaten!H12 -> 0 | G22: 1 | H22: ='Form-03'!$F$60 -> 0 | I22: ='Form-03'!$I$60 -> 0 | J22: ='Form-03'!$N$60 -> 0 | K22: ='Form-03'!$T$60 -> 0
B23: 3b | C23: =Bereichsdaten!L12 -> 0 | D23: =Bereichsdaten!J12 -> 0 | E23: =Bereichsdaten!G12 -> 0 | F23: =Bereichsdaten!H12 -> 0 | G23: 2 | H23: ='Form-03'!$F$60 -> 0 | I23: ='Form-03'!$I$60 -> 0 | J23: ='Form-03'!$N$61 -> 0 | K23: ='Form-03'!$T$61 -> 0
B24: 4a | C24: =Bereichsdaten!L13 -> 0 | D24: =Bereichsdaten!J13 -> 0 | E24: =Bereichsdaten!G13 -> 0 | F24: =Bereichsdaten!H13 -> 0 | G24: 1 | H24: ='Form-04'!$F$60 -> 0 | I24: ='Form-04'!$I$60 -> 0 | J24: ='Form-04'!$N$60 -> 0 | K24: ='Form-04'!$T$60 -> 0
B25: 4b | C25: =Bereichsdaten!L13 -> 0 | D25: =Bereichsdaten!J13 -> 0 | E25: =Bereichsdaten!G13 -> 0 | F25: =Bereichsdaten!H13 -> 0 | G25: 2 | H25: ='Form-04'!$F$60 -> 0 | I25: ='Form-04'!$I$60 -> 0 | J25: ='Form-04'!$N$61 -> 0 | K25: ='Form-04'!$T$61 -> 0
B26: 5a | C26: =Bereichsdaten!L14 -> 0 | D26: =Bereichsdaten!J14 -> 0 | E26: =Bereichsdaten!G14 -> 0 | F26: =Bereichsdaten!H14 -> 0 | G26: 1 | H26: ='Form-05'!$F$60 -> 0 | I26: ='Form-05'!$I$60 -> 0 | J26: ='Form-05'!$N$60 -> 0 | K26: ='Form-05'!$T$60 -> 0
B27: 5b | C27: =Bereichsdaten!L14 -> 0 | D27: =Bereichsdaten!J14 -> 0 | E27: =Bereichsdaten!G14 -> 0 | F27: =Bereichsdaten!H14 -> 0 | G27: 2 | H27: ='Form-05'!$F$60 -> 0 | I27: ='Form-05'!$I$60 -> 0 | J27: ='Form-05'!$N$61 -> 0 | K27: ='Form-05'!$T$61 -> 0
B28: 6a | C28: =Bereichsdaten!L15 -> 0 | D28: =Bereichsdaten!J15 -> 0 | E28: =Bereichsdaten!G15 -> 0 | F28: =Bereichsdaten!H15 -> 0 | G28: 1 | H28: ='Form-06'!$F$60 -> 0 | I28: ='Form-06'!$I$60 -> 0 | J28: ='Form-06'!$N$60 -> 0 | K28: ='Form-06'!$T$60 -> 0
B29: 6b | C29: =Bereichsdaten!L15 -> 0 | D29: =Bereichsdaten!J15 -> 0 | E29: =Bereichsdaten!G15 -> 0 | F29: =Bereichsdaten!H15 -> 0 | G29: 2 | H29: ='Form-06'!$F$60 -> 0 | I29: ='Form-06'!$I$60 -> 0 | J29: ='Form-06'!$N$61 -> 0 | K29: ='Form-06'!$T$61 -> 0
B30: 7a | C30: =Bereichsdaten!L16 -> 0 | D30: =Bereichsdaten!J16 -> 0 | E30: =Bereichsdaten!G16 -> 0 | F30: =Bereichsdaten!H16 -> 0 | G30: 1 | H30: ='Form-07'!$F$60 -> 0 | I30: ='Form-07'!$I$60 -> 0 | J30: ='Form-07'!$N$60 -> 0 | K30: ='Form-07'!$T$60 -> 0
B31: 7b | C31: =Bereichsdaten!L16 -> 0 | D31: =Bereichsdaten!J16 -> 0 | E31: =Bereichsdaten!G16 -> 0 | F31: =Bereichsdaten!H16 -> 0 | G31: 2 | H31: ='Form-07'!$F$60 -> 0 | I31: ='Form-07'!$I$60 -> 0 | J31: ='Form-07'!$N$61 -> 0 | K31: ='Form-07'!$T$61 -> 0
B32: 8a | C32: =Bereichsdaten!L17 -> 0 | D32: =Bereichsdaten!J17 -> 0 | E32: =Bereichsdaten!G17 -> 0 | F32: =Bereichsdaten!H17 -> 0 | G32: 1 | H32: ='Form-08'!$F$60 -> 0 | I32: ='Form-08'!$I$60 -> 0 | J32: ='Form-08'!$N$60 -> 0 | K32: ='Form-08'!$T$60 -> 0
B33: 8b | C33: =Bereichsdaten!L17 -> 0 | D33: =Bereichsdaten!J17 -> 0 | E33: =Bereichsdaten!G17 -> 0 | F33: =Bereichsdaten!H17 -> 0 | G33: 2 | H33: ='Form-08'!$F$60 -> 0 | I33: ='Form-08'!$I$60 -> 0 | J33: ='Form-08'!$N$61 -> 0 | K33: ='Form-08'!$T$61 -> 0
B34: 9a | C34: =Bereichsdaten!L18 -> 0 | D34: =Bereichsdaten!J18 -> 0 | E34: =Bereichsdaten!G18 -> 0 | F34: =Bereichsdaten!H18 -> 0 | G34: 1 | H34: ='Form-09'!$F$60 -> 0 | I34: ='Form-09'!$I$60 -> 0 | J34: ='Form-09'!$N$60 -> 0 | K34: ='Form-09'!$T$60 -> 0
B35: 9b | C35: =Bereichsdaten!L18 -> 0 | D35: =Bereichsdaten!J18 -> 0 | E35: =Bereichsdaten!G18 -> 0 | F35: =Bereichsdaten!H18 -> 0 | G35: 2 | H35: ='Form-09'!$F$60 -> 0 | I35: ='Form-09'!$I$60 -> 0 | J35: ='Form-09'!$N$61 -> 0 | K35: ='Form-09'!$T$61 -> 0
B36: 10a | C36: =Bereichsdaten!L19 -> 0 | D36: =Bereichsdaten!J19 -> 0 | E36: =Bereichsdaten!G19 -> 0 | F36: =Bereichsdaten!H19 -> 0 | G36: 1 | H36: ='Form-10'!$F$60 -> 0 | I36: ='Form-10'!$I$60 -> 0 | J36: ='Form-10'!$N$60 -> 0 | K36: ='Form-10'!$T$60 -> 0
B37: 10b | C37: =Bereichsdaten!L19 -> 0 | D37: =Bereichsdaten!J19 -> 0 | E37: =Bereichsdaten!G19 -> 0 | F37: =Bereichsdaten!H19 -> 0 | G37: 2 | H37: ='Form-10'!$F$60 -> 0 | I37: ='Form-10'!$I$60 -> 0 | J37: ='Form-10'!$N$61 -> 0 | K37: ='Form-10'!$T$61 -> 0

Sheet Zusammenarbeit
B2: Blatt: Ergebniszusammenfassung Zusammenarbeit | I2: ©Dr. Wolfgang Schröder
B3: Go | C3: zum Deckblatt
B4: Go | C4: Anwendungshinweise
B5: Go | C5: Struktur des Instruments
B6: Go | C6: Daten des Bereichs
B7: Go | C7: Zu den Gesprächsunterlagen
B8: Go | C8: Ergebniszusammenfassung Individuelle Entwicklungsaktivitäten
B9: Go | C9: Ergebniszusammenfassung Veränderung Rahmenbedingungen
B10: Go | C10: Ergebniszusammenfassung Vereinbarungen Zusammenarbeit
B11: Go | C11: Ergebniszusammenfassung Wichtige Mitarbeiterthemen
B12: Go | C12: Ergebniszusammenfassung Kommentare
B13: Go | C13: Mitarbeitervorbereitung
B14: Go | C14: Hilfsinformationen für die Führungskraft
C15: Zur Zusammenarbeit von Führungskraft und Mitarbeiter/in:
C17: Bereich: | D17: Führungskraft: | E17: Mitarbeiter/in: | H17: Was wird vereinbart um die Zusammenarbeit von Führungskraft und Mitarbeiter/in zu verbessern? | I17: Kommentar Führungskraft
B18: 1 | C18: =Bereichsdaten!L10 -> 0 | D18: =Bereichsdaten!J10 -> 0 | E18: =Bereichsdaten!G10 -> 0 | F18: =Bereichsdaten!H10 -> 0 | H18: ='Form-01'!$N$65 -> 0 | I18: ='Form-01'!$T$65 -> 0
B19: 2 | C19: =Bereichsdaten!L11 -> 0 | D19: =Bereichsdaten!J11 -> 0 | E19: =Bereichsdaten!G11 -> 0 | F19: =Bereichsdaten!H11 -> 0 | H19: ='Form-02'!$N$65 -> 0 | I19: ='Form-02'!$T$65 -> 0
B20: 3 | C20: =Bereichsdaten!L12 -> 0 | D20: =Bereichsdaten!J12 -> 0 | E20: =Bereichsdaten!G12 -> 0 | F20: =Bereichsdaten!H12 -> 0 | H20: ='Form-03'!$N$65 -> 0 | I20: ='Form-03'!$T$65 -> 0
B21: 4 | C21: =Bereichsdaten!L13 -> 0 | D21: =Bereichsdaten!J13 -> 0 | E21: =Bereichsdaten!G13 -> 0 | F21: =Bereichsdaten!H13 -> 0 | H21: ='Form-04'!$N$65 -> 0 | I21: ='Form-04'!$T$65 -> 0
B22: 5 | C22: =Bereichsdaten!L14 -> 0 | D22: =Bereichsdaten!J14 -> 0 | E22: =Bereichsdaten!G14 -> 0 | F22: =Bereichsdaten!H14 -> 0 | H22: ='Form-05'!$N$65 -> 0 | I22: ='Form-05'!$T$65 -> 0
B23: 6 | C23: =Bereichsdaten!L15 -> 0 | D23: =Bereichsdaten!J15 -> 0 | E23: =Bereichsdaten!G15 -> 0 | F23: =Bereichsdaten!H15 -> 0 | H23: ='Form-06'!$N$65 -> 0 | I23: ='Form-06'!$T$65 -> 0
B24: 7 | C24: =Bereichsdaten!L16 -> 0 | D24: =Bereichsdaten!J16 -> 0 | E24: =Bereichsdaten!G16 -> 0 | F24: =Bereichsdaten!H16 -> 0 | H24: ='Form-07'!$N$65 -> 0 | I24: ='Form-07'!$T$65 -> 0
B25: 8 | C25: =Bereichsdaten!L17 -> 0 | D25: =Bereichsdaten!J17 -> 0 | E25: =Bereichsdaten!G17 -> 0 | F25: =Bereichsdaten!H17 -> 0 | H25: ='Form-08'!$N$65 -> 0 | I25: ='Form-08'!$T$65 -> 0
B26: 9 | C26: =Bereichsdaten!L18 -> 0 | D26: =Bereichsdaten!J18 -> 0 | E26: =Bereichsdaten!G18 -> 0 | F26: =Bereichsdaten!H18 -> 0 | H26: ='Form-09'!$N$65 -> 0 | I26: ='Form-09'!$T$65 -> 0
B27: 10 | C27: =Bereichsdaten!L19 -> 0 | D27: =Bereichsdaten!J19 -> 0 | E27: =Bereichsdaten!G19 -> 0 | F27: =Bereichsdaten!H19 -> 0 | H27: ='Form-10'!$N$65 -> 0 | I27: ='Form-10'!$T$65 -> 0

Sheet Wunsch
B2: Blatt: Ergebniszusammenfassung Wichtige Mitarbeiterthemen | H2: ©Dr. Wolfgang Schröder
B3: Go | C3: zum Deckblatt
B4: Go | C4: Anwendungshinweise
B5: Go | C5: Struktur des Instruments
B6: Go | C6: Daten des Bereichs
B7: Go | C7: Zu den Gesprächsunterlagen
B8: Go | C8: Ergebniszusammenfassung Individuelle Entwicklungsaktivitäten
B9: Go | C9: Ergebniszusammenfassung Veränderung Rahmenbedingungen
B10: Go | C10: Ergebniszusammenfassung Vereinbarungen Zusammenarbeit
B11: Go | C11: Ergebniszusammenfassung Wichtige Mitarbeiterthemen
B12: Go | C12: Ergebniszusammenfassung Kommentare
B13: Go | C13: Mitarbeitervorbereitung
B14: Go | C14: Hilfsinformationen für die Führungskraft
C15: Wichtige Themen aus Sicht der Mitarbeiterin, des Mitarbeiters
C17: Bereich: | D17: Führungskraft: | E17: Mitarbeiter/in: | G17: Nr | H17: Welche, aus Sicht der Mitarbeiterin, des Mitarbeiters wichtigen Fragen sind besprochen worden?
B18: 1a | C18: =Bereichsdaten!L10 -> 0 | D18: =Bereichsdaten!J10 -> 0 | E18: =Bereichsdaten!G10 -> 0 | F18: =Bereichsdaten!H10 -> 0 | G18: 1 | H18: ='Form-01'!$G$68 -> 0
B19: 1b | C19: =Bereichsdaten!L10 -> 0 | D19: =Bereichsdaten!J10 -> 0 | E19: =Bereichsdaten!G10 -> 0 | F19: =Bereichsdaten!H10 -> 0 | G19: 2 | H19: ='Form-01'!$G$69 -> 0
B20: 2a | C20: =Bereichsdaten!L11 -> 0 | D20: =Bereichsdaten!J11 -> 0 | E20: =Bereichsdaten!G11 -> 0 | F20: =Bereichsdaten!H11 -> 0 | G20: 1 | H20: ='Form-02'!$G$68 -> 0
B21: 2b | C21: =Bereichsdaten!L11 -> 0 | D21: =Bereichsdaten!J11 -> 0 | E21: =Bereichsdaten!G11 -> 0 | F21: =Bereichsdaten!H11 -> 0 | G21: 2 | H21: ='Form-02'!$G$69 -> 0
B22: 3a | C22: =Bereichsdaten!L12 -> 0 | D22: =Bereichsdaten!J12 -> 0 | E22: =Bereichsdaten!G12 -> 0 | F22: =Bereichsdaten!H12 -> 0 | G22: 1 | H22: ='Form-03'!$G$68 -> 0
B23: 3b | C23: =Bereichsdaten!L12 -> 0 | D23: =Bereichsdaten!J12 -> 0 | E23: =Bereichsdaten!G12 -> 0 | F23: =Bereichsdaten!H12 -> 0 | G23: 2 | H23: ='Form-03'!$G$69 -> 0
B24: 4a | C24: =Bereichsdaten!L13 -> 0 | D24: =Bereichsdaten!J13 -> 0 | E24: =Bereichsdaten!G13 -> 0 | F24: =Bereichsdaten!H13 -> 0 | G24: 1 | H24: ='Form-04'!$G$68 -> 0
B25: 4b | C25: =Bereichsdaten!L13 -> 0 | D25: =Bereichsdaten!J13 -> 0 | E25: =Bereichsdaten!G13 -> 0 | F25: =Bereichsdaten!H13 -> 0 | G25: 2 | H25: ='Form-04'!$G$69 -> 0
B26: 5a | C26: =Bereichsdaten!L14 -> 0 | D26: =Bereichsdaten!J14 -> 0 | E26: =Bereichsdaten!G14 -> 0 | F26: =Bereichsdaten!H14 -> 0 | G26: 1 | H26: ='Form-05'!$G$68 -> 0
B27: 5b | C27: =Bereichsdaten!L14 -> 0 | D27: =Bereichsdaten!J14 -> 0 | E27: =Bereichsdaten!G14 -> 0 | F27: =Bereichsdaten!H14 -> 0 | G27: 2 | H27: ='Form-05'!$G$69 -> 0
B28: 6a | C28: =Bereichsdaten!L15 -> 0 | D28: =Bereichsdaten!J15 -> 0 | E28: =Bereichsdaten!G15 -> 0 | F28: =Bereichsdaten!H15 -> 0 | G28: 1 | H28: ='Form-06'!$G$68 -> 0
B29: 6b | C29: =Bereichsdaten!L15 -> 0 | D29: =Bereichsdaten!J15 -> 0 | E29: =Bereichsdaten!G15 -> 0 | F29: =Bereichsdaten!H15 -> 0 | G29: 2 | H29: ='Form-06'!$G$69 -> 0
B30: 7a | C30: =Bereichsdaten!L16 -> 0 | D30: =Bereichsdaten!J16 -> 0 | E30: =Bereichsdaten!G16 -> 0 | F30: =Bereichsdaten!H16 -> 0 | G30: 1 | H30: ='Form-07'!$G$68 -> 0
B31: 7b | C31: =Bereichsdaten!L16 -> 0 | D31: =Bereichsdaten!J16 -> 0 | E31: =Bereichsdaten!G16 -> 0 | F31: =Bereichsdaten!H16 -> 0 | G31: 2 | H31: ='Form-07'!$G$69 -> 0
B32: 8a | C32: =Bereichsdaten!L17 -> 0 | D32: =Bereichsdaten!J17 -> 0 | E32: =Bereichsdaten!G17 -> 0 | F32: =Bereichsdaten!H17 -> 0 | G32: 1 | H32: ='Form-08'!$G$68 -> 0
B33: 8b | C33: =Bereichsdaten!L17 -> 0 | D33: =Bereichsdaten!J17 -> 0 | E33: =Bereichsdaten!G17 -> 0 | F33: =Bereichsdaten!H17 -> 0 | G33: 2 | H33: ='Form-08'!$G$69 -> 0
B34: 9a | C34: =Bereichsdaten!L18 -> 0 | D34: =Bereichsdaten!J18 -> 0 | E34: =Bereichsdaten!G18 -> 0 | F34: =Bereichsdaten!H18 -> 0 | G34: 1 | H34: ='Form-09'!$G$68 -> 0
B35: 9b | C35: =Bereichsdaten!L18 -> 0 | D35: =Bereichsdaten!J18 -> 0 | E35: =Bereichsdaten!G18 -> 0 | F35: =Bereichsdaten!H18 -> 0 | G35: 2 | H35: ='Form-09'!$G$69 -> 0
B36: 10a | C36: =Bereichsdaten!L19 -> 0 | D36: =Bereichsdaten!J19 -> 0 | E36: =Bereichsdaten!G19 -> 0 | F36: =Bereichsdaten!H19 -> 0 | G36: 1 | H36: ='Form-10'!$G$68 -> 0
B37: 10b | C37: =Bereichsdaten!L19 -> 0 | D37: =Bereichsdaten!J19 -> 0 | E37: =Bereichsdaten!G19 -> 0 | F37: =Bereichsdaten!H19 -> 0 | G37: 2 | H37: ='Form-10'!$G$69 -> 0

Sheet Kommentar
B2: Blatt: Ergebniszusammenfassung Kommentare | I2: ©Dr. Wolfgang Schröder
B3: Go | C3: zum Deckblatt
B4: Go | C4: Anwendungshinweise
B5: Go | C5: Struktur des Instruments
B6: Go | C6: Daten des Bereichs
B7: Go | C7: Zu den Gesprächsunterlagen
B8: Go | C8: Ergebniszusammenfassung Individuelle Entwicklungsaktivitäten
B9: Go | C9: Ergebniszusammenfassung Veränderung Rahmenbedingungen
B10: Go | C10: Ergebniszusammenfassung Vereinbarungen Zusammenarbeit
B11: Go | C11: Ergebniszusammenfassung Wichtige Mitarbeiterthemen
B12: Go | C12: Ergebniszusammenfassung Kommentare
B13: Go | C13: Mitarbeitervorbereitung
B14: Go | C14: Hilfsinformationen für die Führungskraft
C15: Kommentare zum Gespräch, wenn notwendig
C17: Bereich: | D17: Führungskraft: | E17: Mitarbeiter/in: | H17: Kommentar Mitarbeiter / in | I17: Kommentar Führungskraft
B18: 1 | C18: =Bereichsdaten!L10 -> 0 | D18: =Bereichsdaten!J10 -> 0 | E18: =Bereichsdaten!G10 -> 0 | F18: =Bereichsdaten!H10 -> 0 | H18: ='Form-01'!$F$72 -> 0 | I18: ='Form-01'!$N$72 -> 0
B19: 2 | C19: =Bereichsdaten!L11 -> 0 | D19: =Bereichsdaten!J11 -> 0 | E19: =Bereichsdaten!G11 -> 0 | F19: =Bereichsdaten!H11 -> 0 | H19: ='Form-02'!$F$72 -> 0 | I19: ='Form-02'!$N$72 -> 0
B20: 3 | C20: =Bereichsdaten!L12 -> 0 | D20: =Bereichsdaten!J12 -> 0 | E20: =Bereichsdaten!G12 -> 0 | F20: =Bereichsdaten!H12 -> 0 | H20: ='Form-03'!$F$72 -> 0 | I20: ='Form-03'!$N$72 -> 0
B21: 4 | C21: =Bereichsdaten!L13 -> 0 | D21: =Bereichsdaten!J13 -> 0 | E21: =Bereichsdaten!G13 -> 0 | F21: =Bereichsdaten!H13 -> 0 | H21: ='Form-04'!$F$72 -> 0 | I21: ='Form-04'!$N$72 -> 0
B22: 5 | C22: =Bereichsdaten!L14 -> 0 | D22: =Bereichsdaten!J14 -> 0 | E22: =Bereichsdaten!G14 -> 0 | F22: =Bereichsdaten!H14 -> 0 | H22: ='Form-05'!$F$72 -> 0 | I22: ='Form-05'!$N$72 -> 0
B23: 6 | C23: =Bereichsdaten!L15 -> 0 | D23: =Bereichsdaten!J15 -> 0 | E23: =Bereichsdaten!G15 -> 0 | F23: =Bereichsdaten!H15 -> 0 | H23: ='Form-06'!$F$72 -> 0 | I23: ='Form-06'!$N$72 -> 0
B24: 7 | C24: =Bereichsdaten!L16 -> 0 | D24: =Bereichsdaten!J16 -> 0 | E24: =Bereichsdaten!G16 -> 0 | F24: =Bereichsdaten!H16 -> 0 | H24: ='Form-07'!$F$72 -> 0 | I24: ='Form-07'!$N$72 -> 0
B25: 8 | C25: =Bereichsdaten!L17 -> 0 | D25: =Bereichsdaten!J17 -> 0 | E25: =Bereichsdaten!G17 -> 0 | F25: =Bereichsdaten!H17 -> 0 | H25: ='Form-08'!$F$72 -> 0 | I25: ='Form-08'!$N$72 -> 0
B26: 9 | C26: =Bereichsdaten!L18 -> 0 | D26: =Bereichsdaten!J18 -> 0 | E26: =Bereichsdaten!G18 -> 0 | F26: =Bereichsdaten!H18 -> 0 | H26: ='Form-09'!$F$72 -> 0 | I26: ='Form-09'!$N$72 -> 0
B27: 10 | C27: =Bereichsdaten!L19 -> 0 | D27: =Bereichsdaten!J19 -> 0 | E27: =Bereichsdaten!G19 -> 0 | F27: =Bereichsdaten!H19 -> 0 | H27: ='Form-10'!$F$72 -> 0 | I27: ='Form-10'!$N$72 -> 0

Sheet Mitarbeiterinfo
B2: Blatt: Mitarbeitervorbereitung | H2: ©Dr. Wolfgang Schröder
B3: Go | C3: zum Deckblatt | F3: Informationen zum Mitarbeitergespräch
B4: Go | C4: Anwendungshinweise | F4: Ihre Führungskraft hat mit Ihnen einen Termin zum Mitarbeitergespräch vereinbart und Ihnen 2 Unterlagen übergeben: * Dieses Begleitblatt * 1 Formular zum Gespräch Mit unserem Mitarbeitergespräch wollen wir folgende Ergebnisse erreichen: * Kriterien besprechen, die für eine erfolgreiche Arbeit in Ihrer Stelle notwendig sind, Feedback dazu austauschen und maximal 2 Entwicklungsthemen planen, die für eine Weiterentwicklung notwendig erscheinen. * Fördernde und hemmende Rahmenbedingungen für Ihre Arbeit besprechen und Aktionen vorschlagen * Über die Zusammenarbeit mit Ihrer Führungskraft sprechen und mögliche Verbesserungen planen * Außerdem können Sie über Ihre individuellen Wünsche und Vorstellungen sprechen, von denen bis zu zwei festgehalten werden können. | H4: Das Gespräch kann nur geführt werden, wenn auch Sie sich darauf vorbereiten. Vorbereiten bedeutet, dass Sie mit einem ausgefüllten Formular in das Gespräch gehen. Gesprächsvorbereitung: 1. Machen Sie sich zuerst mit der Unterlage vertraut. 2. Füllen Sie dann das Formular so aus, wie es Ihrer persönlichen Auffassung nach ausgefüllt werden sollte. Die Felder, die Sie ausgefüllt mitbringen sollen sind gekennzeichnet. Ihre Führungskraft wird sich ebenfalls auf das Gespräch vorbereiten. Die gemeinsam gefundenen Ergebnisse werden dann in der Unterlage der Führungskraft zusammengefasst und ggf. durch Kommentare ergänzt. Von der endgültigen Unterlage erhalten Sie eine Kopie.
B5: Go | C5: Struktur des Instruments
B6: Go | C6: Daten des Bereichs
B7: Go | C7: Zu den Gesprächsunterlagen
B8: Go | C8: Ergebniszusammenfassung Individuelle Entwicklungsaktivitäten
B9: Go | C9: Ergebniszusammenfassung Veränderung Rahmenbedingungen
B10: Go | C10: Ergebniszusammenfassung Vereinbarungen Zusammenarbeit
B11: Go | C11: Ergebniszusammenfassung Wichtige Mitarbeiterthemen
B12: Go | C12: Ergebniszusammenfassung Kommentare
B13: Go | C13: Mitarbeitervorbereitung
B14: Go | C14: Hilfsinformationen für die Führungskraft
F15: Tipps zur Gesprächsführung: Ihre Führungskraft eröffnet das Gespräch. Legen Sie die ausgefüllten Blätter auf den Tisch, vergleichen Sie alle Inhalte und legen Sie die Gesprächsinhalte fest. Machen Sie präzise Aussagen und verlangen Sie ebenfalls solche von Ihrer Führungskraft
F16: Feedback geben * Auf Basis von Beobachtungen/Fakten/Beispielen => keine Wertungen, Vermutungen, Interpretationen * Auch Positives sagen => Kritik bekommt ein Gegengewicht; Negatives Feedback wird angenommen * Konstruktive Vorschläge machen – möglichst unmittelbar/zeitnah = Drückt Wertschätzung aus, lenkt die Aufmerksamkeit auf Lösungen! * ICH-Botschaften senden (nicht generalisieren) => Persönliche Eindrücke, Empfindungen auch als solche kennzeichnen: „Ich empfinde ...“, „Ich bin der Meinung ...“ | H16: Feedback nehmen * In Ruhe zuhören => und nicht rechtfertigen, argumentieren, verteidigen! * Ggf. nachfragen, klären => verhindert Aneinander vorbeireden und signalisiert Selbstsicherheit * Auch für “kritisches“ Feedback dankbar sein => hierin stecken die meisten Entwicklungschancen

Sheet FK-Info
B2: Blatt: Hilfsinformationen für die Führungskraft | G2: ©Dr. Wolfgang Schröder
B3: Go | C3: zum Deckblatt
B4: Go | C4: Anwendungshinweise | E4: Hinweise zur Vorbereitung und Durchführung des Mitarbeitergesprächs Tipps zur Gesprächsführung
B5: Go | C5: Struktur des Instruments
B6: Go | C6: Daten des Bereichs | E6: Vorbereitung und Handhabung der Gesprächsunterlagen: Drucken Sie das Blatt Mitarbeitervorbereitung für jede Mitarbeiterin und jeden Mitarbeiter (im Weiteren kurz MA) einmal aus. Drucken Sie das beigefügte leere Formular Mitarbeitergespräch jeweils einmal aus. Geben Sie jedem MA beide Blätter, klären Sie offene Fragen und vereinbaren Sie einen Gesprächstermin. Wichtig: Führen Sie das Gespräch nur, wenn sich der MA vorbereitet hat, also sein Formular ausgefüllt hat! Rufen Sie für jeden MA das Formular im Tool auf und füllen Sie es aus Ihrer Sicht aus. Drucken Sie nun die ausgefüllten Formulare als Ihre Gesprächsunterlagen aus. Im Gespräch werden die Einschätzungen besprochen und Gesprächsergebnisse werden in der Papier-Unterlage der Führungskraft festgehalten. Tragen Sie die Veränderungen im PC in die Unterlagen der MA ein | G6: und drucken Sie die Unterlagen als Gesprächsergebnis 2 x aus. Diese Unterlagen werden von den Gesprächsteilnehmern unterschrieben. Vorbereitung des Gesprächs: * Ankündigung über genauen Termin rechtzeitig vor dem Gespräch * Die leichtesten Gespräche zuerst führen, da auch hier gilt „Übung macht den Meister“ * Rahmenbedingungen beachten - ruhigen Raum reservieren! * Genügend Zeit (erfahrungsgemäß im Durchschnitt 90 min., jedoch nie unter 45 min.) * Keine Störung während des Gesprächs zulassen * Das Gespräch unter vier Augen führen
B7: Go | C7: Zu den Gesprächsunterlagen
B8: Go | C8: Ergebniszusammenfassung Individuelle Entwicklungsaktivitäten
B9: Go | C9: Ergebniszusammenfassung Veränderung Rahmenbedingungen
B10: Go | C10: Ergebniszusammenfassung Vereinbarungen Zusammenarbeit
B11: Go | C11: Ergebniszusammenfassung Wichtige Mitarbeiterthemen
B12: Go | C12: Ergebniszusammenfassung Kommentare
B13: Go | C13: Mitarbeitervorbereitung
B14: Go | C14: Hilfsinformationen für die Führungskraft
E16: Vorbereitung des Gesprächs: * Ankündigung über genauen Termin rechtzeitig vor dem Gespräch * Die leichtesten Gespräche zuerst führen, da auch hier gilt „Übung macht den Meister“ * Rahmenbedingungen beachten - ruhigen Raum reservieren! *Genügend Zeit (erfahrungsgemäß im Durchschnitt 90 min., jedoch nie unter 45 min.) * Keine Störung während des Gesprächs zulassen * Das Gespräch unter vier Augen führen | G16: Gesprächseröffnung vorher überlegen Fragen zur Vorbereitung: * Haben Sie dem MA alle Informationen, Kompetenzen, Unterstützungen gegeben, die er braucht? * Gibt es Konflikte, Spannungen? Ist er richtig eingesetzt? * Welche Themen wird der MA vermutlich ansprechen? * Welche Themen wollen Sie ansprechen? Halten Sie die Themen kurz schriftlich fest * Überlegen Sie, welche Argumente Ihr MA zu Ihrem Feedback haben könnte * Nutzen Sie das Gespräch um vom MA auch Feedback über Ihr Verhalten, über Ihre Führungsarbeit zu bekommen, fordern Sie eine konstruktive Kritik, damit auch Sie etwas mitnehmen
E17: Tipps zur Gesprächsführung: * Sprechen Sie zum Anfang des Gesprächs über die Ziele des Gesprächs (was soll, was soll nicht Inhalt, Zweck sein) insbesondere * Feedback über die Arbeitsergebnisse * Ableitung von Veränderungsmaßnahmen zu Fähigkeiten / Rahmenbedingungen * Wünsche des MA Betonen Sie, dass Sie auch offenes Feedback vom MA erhalten wollen zu Ihrer Führung. Faustregel Redeanteil: 60% Mitarbeiter, 40% Führungskraft, d.h. hören Sie häufig und aufmerksam zu | G17: Nutzen Sie die Gesprächsunterlage als Struktur für das Gespräch. Legen Sie die ausgefüllten Analyseblätter von Ihnen und von Ihrem MA auf den Tisch, vergleichen Sie die Inhalte und legen Sie die Gesprächsinhalte fest. * Machen Sie präzise Aussagen und verlange ebenfalls solche vom MA * Bleiben Sie bei der Rückmeldung positiver Verhaltensweisen konsequent bei der Anerkennung und vermeiden Sie Sätze wie: „Das haben Sie ja dieses Mal gut gemacht, aber ...“
E18: Feedback geben * Auf Basis von Beobachtungen/Fakten/Beispielen => keine Wertungen, Vermutungen, Interpretationen * Auch Positives sagen => Kritik bekommt ein Gegengewicht; Negatives Feedback wird angenommen * Konstruktive Vorschläge machen – möglichst unmittelbar/zeitnah = Drückt Wertschätzung aus, lenkt die Aufmerksamkeit auf Lösungen! * ICH-Botschaften senden (nicht generalisieren) => Persönliche Eindrücke, Empfindungen auch als solche kennzeichnen: „Ich empfinde ...“, „Ich bin der Meinung ...“ | G18: Feedback nehmen * In Ruhe zuhören => und nicht rechtfertigen, argumentieren, verteidigen! * Ggf. nachfragen, klären => verhindert Aneinander vorbeireden und signalisiert Selbstsicherheit * Auch für “kritisches“ Feedback dankbar sein => hierin stecken die meisten Entwicklungschancen
