Workbook

Sheet Deckblatt
D6: Ziele - Pläne - Tool
F10: ©Dr. Wolfgang Schröder Personalsysteme D-58540 Meinerzhagen Genkeler Str. 47 Tel. 02354 - 65 66 Dr.W.Schroeder@t-online.de
C22: Go | D22: um auf die nächste Seite zu gelangen klicken Sie in "Go"
D24: alle Blätter sind gesichert mit : 1
D25: damit nicht aus Versehen die Verlinkung gelöscht wird

Sheet Einleitung
C2: Go | D2: Zurück zum Deckblatt
C3: 20xy | D3: Ziele (Big Points) aus der Zielklausur und Projektpläne
D5: Dies ist eine verlinkte Exceltabelle
D6: Man muss eine Regel bei verlinkten Exceltabellen beachten:
D7: Kopieren Sie niemals eine ganze Zelle, sondern nur Zelleninhalte! Wenn Sie eine ganze Zelle kopieren, verändern Sie die voreingestellten Bezüge im Tool und Sie erhalten von da ab fehlerhafte Bezüge. Kopieren Sie nur Inhalte und dafür gibt es 2 Wege: Zelle 2 x anklicken, Inhalt auswählen und kopieren, gewünschte Zelle auswählen, 2 x anklicken und einsetzen oder Zelle anklicken, Rechte Maustaste = "kopieren" wählen, dann gewünschte Zelle oder Zellen auswählen, dann Rechte Maustaste "Inhalte einfügen" auswählen, dann "Werte und Zahlenformate" auswählen (oder „Text“ auswählen) und auf OK drücken. Über den 2. Weg können Sie auch Inhalte von geschützten Feldern kopieren und in andere Zellen einsetzen. Das spart Zeit.
D9: Ausserdem ist Folgendes zu beachten:
D10: (Nur) in gelben Feldern kann geschrieben werden Alle anderen Felder auf jedem Blatt sind gesichert, damit dahinterliegende Formeln nicht zerstört werden.
D12: Inhalte in blauen Feldern kommen aus einem anderen Blatt damit man nichts doppelt schreiben muss. Diese Inhalte können nur in dem jeweiligen Blatt verändert werden und übertragen sich automatisch.
C14: Go | D14: Wenn Felder mit "Go" angeklickt werden, kommt man automatisch zu dem angegebenen Blatt
D15: Also:
C16: Go | D16: wenn Sie hier auf Go klicken kommen Sie zur Zielübersicht
D17: ©️Dr. Wolfgang Schröder

Sheet Ziele
B2: Go | C2: Zurück zum Deckblatt | I2: Wichtig:
B3: Go | C3: Zurück zum Einleitungsblatt | J3: kann beschrieben und verändert werden | K3: Inhalt kommt von einem anderen Blatt
D4: =Einleitung!$C$3 -> 20xy | E4: =Einleitung!$D$3 -> Ziele (Big Points) aus der Zielklausur und Projektpläne | K4: ©Dr. Wolfgang Schröder
D5: Ziele / Projektpläne:
C6: Auftraggeber | D6: Verantwortlich für Zielerreichung | E6: Zielfeld | F6: SMART-formuliertes Ziel (= Ergebnisse): Welches konkrete Ergbnis soll (ab) WANN vorliegen? | G6: Projektplan Bezeichnung | H6: zum Plan | I6: Meilenstein 1 | J6: Meilenstein 2 | K6: Meilenstein 3
B7: 1 | H7: Go | I7: =Projektplan1!$E$34 -> 0 | J7: =Projektplan1!$E$35 -> 0 | K7: =Projektplan1!$E$36 -> 0
B8: 2 | H8: Go | I8: =Projektplan2!$E$34 -> 0 | J8: =Projektplan2!$E$35 -> 0 | K8: =Projektplan2!$E$36 -> 0
B9: 3 | H9: Go | I9: =Projektplan3!$E$34 -> 0 | J9: =Projektplan3!$E$35 -> 0 | K9: =Projektplan3!$E$36 -> 0
B10: 4 | H10: Go | I10: =Projektplan4!$E$34 -> 0 | J10: =Projektplan4!$E$35 -> 0 | K10: =Projektplan4!$E$36 -> 0
B11: 5 | H11: Go | I11: =Projektplan5!$E$34 -> 0 | J11: =Projektplan5!$E$35 -> 0 | K11: =Projektplan5!$E$36 -> 0
B12: 6 | H12: Go | I12: =Projektplan6!$E$34 -> 0 | J12: =Projektplan6!$E$35 -> 0 | K12: =Projektplan6!$E$36 -> 0
B13: 7 | H13: Go | I13: =Projektplan7!$E$34 -> 0 | J13: =Projektplan7!$E$35 -> 0 | K13: =Projektplan7!$E$36 -> 0
B14: 8 | H14: Go | I14: =Projektplan8!$E$34 -> 0 | J14: =Projektplan8!$E$35 -> 0 | K14: =Projektplan8!$E$36 -> 0
B15: 9 | H15: Go | I15: =Projektplan9!$E$34 -> 0 | J15: =Projektplan9!$E$35 -> 0 | K15: =Projektplan9!$E$36 -> 0
B16: 10 | H16: Go | I16: =Projektplan10!$E$34 -> 0 | J16: =Projektplan10!$E$35 -> 0 | K16: =Projektplan10!$E$36 -> 0
B17: 11 | H17: Go | I17: =Projektplan11!$E$34 -> 0 | J17: =Projektplan11!$E$35 -> 0 | K17: =Projektplan11!$E$36 -> 0
B18: 12 | H18: Go | I18: =Projektplan12!$E$34 -> 0 | J18: =Projektplan12!$E$35 -> 0 | K18: =Projektplan12!$E$36 -> 0
B19: 13 | H19: Go | I19: =Projektplan13!$E$34 -> 0 | J19: =Projektplan13!$E$35 -> 0 | K19: =Projektplan13!$E$36 -> 0
B20: 14 | H20: Go | I20: =Projektplan14!$E$34 -> 0 | J20: =Projektplan14!$E$35 -> 0 | K20: =Projektplan14!$E$36 -> 0
B21: 15 | H21: Go | I21: =Projektplan15!$E$34 -> 0 | J21: =Projektplan15!$E$35 -> 0 | K21: =Projektplan15!$E$36 -> 0
B22: 16 | H22: Go | I22: =Projektplan16!$E$34 -> 0 | J22: =Projektplan16!$E$35 -> 0 | K22: =Projektplan16!$E$36 -> 0
B23: 17 | H23: Go | I23: =Projektplan17!$E$34 -> 0 | J23: =Projektplan17!$E$35 -> 0 | K23: =Projektplan17!$E$36 -> 0
B24: 18 | H24: Go | I24: =Projektplan18!$E$34 -> 0 | J24: =Projektplan18!$E$35 -> 0 | K24: =Projektplan18!$E$36 -> 0
B25: 19 | H25: Go | I25: =Projektplan19!$E$34 -> 0 | J25: =Projektplan19!$E$35 -> 0 | K25: =Projektplan19!$E$36 -> 0
B26: 20 | H26: Go | I26: =Projektplan20!$E$34 -> 0 | J26: =Projektplan20!$E$35 -> 0 | K26: =Projektplan20!$E$36 -> 0

Sheet Projektplan1
B2: Go | C2: Zurück zum Zielblatt
C3: Projektblatt zur Zielerreichung | D3: Projektplan-bezeichnung | E3: =Ziele!$G$7 -> 0 | F3: ©Dr. Wolfgang Schröder
C8: Auftraggeber | D8: =Ziele!$C$7 -> 0
C10: Verantwortlich für Zielerreichung | D10: =Ziele!$D$7 -> 0
C12: Zielfeld | D12: =Ziele!$E$7 -> 0
C14: Projektziele (SMART-Ziel) Ergebnis des Projekts definieren. Ab wann soll was erreicht sein, laufen, "auf dem Tisch liegen", ...? | D14: =Ziele!$F$7 -> 0
C16: Was muss beachtet werden, damit das Ziel erfolgreich erreicht wird? Welche indirekten oder mittelfristigen Auswirkungen? Wo gibt es welchen Veränderungsbedarf? Hat das Ergebnis Auswirkungen auf das Personal? Wer muss einbezogen / informiert werden?
C17: Mitglieder des Projektteams
C18: Notwendige Mittel / Budget:
C20: Projektplan
B21: Schritt Nr. | C21: Welche Zwischenziele sollen erreicht werden und / oder welche Aufgaben /Maßnahmen sollen durchgeführt werden? | D21: Fertig am: (Zwischentermine) | E21: Wer ist verantwortlich ? | F21: Bemerkungen:
B22: 1
B23: 2
B24: 3
B25: 4
B26: 5
B27: 6
B28: 7
B29: 8
B30: 9
B31: 10
E33: Meilensteine Termine, Inhalte
C34: Welche maximal 3 Zwischentermine sind so wichtig, dass sie in Meilensteinterminen überprüft werden sollen? | D34: Meilenstein 1
C35: Bitte Termine und ggfls. Zwischenziel / wichtige Aufgabe in Stichworte hier aufschreiben, die Inhalte übertragen sich automatisch auf das Zieleblatt | D35: Meilenstein 2
D36: Meilenstein 3

Sheet Projektplan2
B2: Go | C2: Zurück zum Zielblatt
C3: Projektblatt zur Zielerreichung | D3: Projektplan-bezeichnung | E3: =Ziele!$G$8 -> 0 | F3: ©Dr. Wolfgang Schröder
C8: Auftraggeber | D8: =Ziele!$C$8 -> 0
C10: Verantwortlich für Zielerreichung | D10: =Ziele!$D$8 -> 0
C12: Zielfeld | D12: =Ziele!$E$8 -> 0
C14: Projektziele (SMART-Ziel) Ergebnis des Projekts definieren. Ab wann soll was erreicht sein, laufen, "auf dem Tisch liegen", ...? | D14: =Ziele!$F$8 -> 0
C16: Was muss beachtet werden, damit das Ziel erfolgreich erreicht wird? Welche indirekten oder mittelfristigen Auswirkungen? Wo gibt es welchen Veränderungsbedarf? Hat das Ergebnis Auswirkungen auf das Personal? Wer muss einbezogen / informiert werden?
C17: Mitglieder des Projektteams
C18: Notwendige Mittel / Budget:
C20: Projektplan
B21: Schritt Nr. | C21: Welche Zwischenziele sollen erreicht werden und / oder welche Aufgaben /Maßnahmen sollen durchgeführt werden? | D21: Fertig am: (Zwischentermine) | E21: Wer ist verantwortlich ? | F21: Bemerkungen:
B22: 1
B23: 2
B24: 3
B25: 4
B26: 5
B27: 6
B28: 7
B29: 8
B30: 9
B31: 10
E33: Meilensteine Termine, Inhalte
C34: Welche maximal 3 Zwischentermine sind so wichtig, dass sie in Meilensteinterminen überprüft werden sollen? | D34: Meilenstein 1
C35: Bitte Termine und ggfls. Zwischenziel / wichtige Aufgabe in Stichworte hier aufschreiben, die Inhalte übertragen sich automatisch auf das Zieleblatt | D35: Meilenstein 2
D36: Meilenstein 3

Sheet Projektplan3
B2: Go | C2: Zurück zum Zielblatt
C3: Projektblatt zur Zielerreichung | D3: Projektplan-bezeichnung | E3: =Ziele!$G$9 -> 0 | F3: ©Dr. Wolfgang Schröder
C8: Auftraggeber | D8: =Ziele!$C$9 -> 0
C10: Verantwortlich für Zielerreichung | D10: =Ziele!$D$9 -> 0
C12: Zielfeld | D12: =Ziele!$E$9 -> 0
C14: Projektziele (SMART-Ziel) Ergebnis des Projekts definieren. Ab wann soll was erreicht sein, laufen, "auf dem Tisch liegen", ...? | D14: =Ziele!$F$9 -> 0
C16: Was muss beachtet werden, damit das Ziel erfolgreich erreicht wird? Welche indirekten oder mittelfristigen Auswirkungen? Wo gibt es welchen Veränderungsbedarf? Hat das Ergebnis Auswirkungen auf das Personal? Wer muss einbezogen / informiert werden?
C17: Mitglieder des Projektteams
C18: Notwendige Mittel / Budget:
C20: Projektplan
B21: Schritt Nr. | C21: Welche Zwischenziele sollen erreicht werden und / oder welche Aufgaben /Maßnahmen sollen durchgeführt werden? | D21: Fertig am: (Zwischentermine) | E21: Wer ist verantwortlich ? | F21: Bemerkungen:
B22: 1
B23: 2
B24: 3
B25: 4
B26: 5
B27: 6
B28: 7
B29: 8
B30: 9
B31: 10
E33: Meilensteine Termine, Inhalte
C34: Welche maximal 3 Zwischentermine sind so wichtig, dass sie in Meilensteinterminen überprüft werden sollen? | D34: Meilenstein 1
C35: Bitte Termine und ggfls. Zwischenziel / wichtige Aufgabe in Stichworte hier aufschreiben, die Inhalte übertragen sich automatisch auf das Zieleblatt | D35: Meilenstein 2
D36: Meilenstein 3

Sheet Projektplan4
B2: Go | C2: Zurück zum Zielblatt
C3: Projektblatt zur Zielerreichung | D3: Projektplan-bezeichnung | E3: =Ziele!$G$10 -> 0 | F3: ©Dr. Wolfgang Schröder
C8: Auftraggeber | D8: =Ziele!$C$10 -> 0
C10: Verantwortlich für Zielerreichung | D10: =Ziele!$D$10 -> 0
C12: Zielfeld | D12: =Ziele!$E$10 -> 0
C14: Projektziele (SMART-Ziel) Ergebnis des Projekts definieren. Ab wann soll was erreicht sein, laufen, "auf dem Tisch liegen", ...? | D14: =Ziele!$F$10 -> 0
C16: Was muss beachtet werden, damit das Ziel erfolgreich erreicht wird? Welche indirekten oder mittelfristigen Auswirkungen? Wo gibt es welchen Veränderungsbedarf? Hat das Ergebnis Auswirkungen auf das Personal? Wer muss einbezogen / informiert werden?
C17: Mitglieder des Projektteams
C18: Notwendige Mittel / Budget:
C20: Projektplan
B21: Schritt Nr. | C21: Welche Zwischenziele sollen erreicht werden und / oder welche Aufgaben /Maßnahmen sollen durchgeführt werden? | D21: Fertig am: (Zwischentermine) | E21: Wer ist verantwortlich ? | F21: Bemerkungen:
B22: 1
B23: 2
B24: 3
B25: 4
B26: 5
B27: 6
B28: 7
B29: 8
B30: 9
B31: 10
E33: Meilensteine Termine, Inhalte
C34: Welche maximal 3 Zwischentermine sind so wichtig, dass sie in Meilensteinterminen überprüft werden sollen? | D34: Meilenstein 1
C35: Bitte Termine und ggfls. Zwischenziel / wichtige Aufgabe in Stichworte hier aufschreiben, die Inhalte übertragen sich automatisch auf das Zieleblatt | D35: Meilenstein 2
D36: Meilenstein 3

Sheet Projektplan5
B2: Go | C2: Zurück zum Zielblatt
C3: Projektblatt zur Zielerreichung | D3: Projektplan-bezeichnung | E3: =Ziele!$G$11 -> 0 | F3: ©Dr. Wolfgang Schröder
C8: Auftraggeber | D8: =Ziele!$C$11 -> 0
C10: Verantwortlich für Zielerreichung | D10: =Ziele!$D$11 -> 0
C12: Zielfeld | D12: =Ziele!$E$11 -> 0
C14: Projektziele (SMART-Ziel) Ergebnis des Projekts definieren. Ab wann soll was erreicht sein, laufen, "auf dem Tisch liegen", ...? | D14: =Ziele!$F$11 -> 0
C16: Was muss beachtet werden, damit das Ziel erfolgreich erreicht wird? Welche indirekten oder mittelfristigen Auswirkungen? Wo gibt es welchen Veränderungsbedarf? Hat das Ergebnis Auswirkungen auf das Personal? Wer muss einbezogen / informiert werden?
C17: Mitglieder des Projektteams
C18: Notwendige Mittel / Budget:
C20: Projektplan
B21: Schritt Nr. | C21: Welche Zwischenziele sollen erreicht werden und / oder welche Aufgaben /Maßnahmen sollen durchgeführt werden? | D21: Fertig am: (Zwischentermine) | E21: Wer ist verantwortlich ? | F21: Bemerkungen:
B22: 1
B23: 2
B24: 3
B25: 4
B26: 5
B27: 6
B28: 7
B29: 8
B30: 9
B31: 10
E33: Meilensteine Termine, Inhalte
C34: Welche maximal 3 Zwischentermine sind so wichtig, dass sie in Meilensteinterminen überprüft werden sollen? | D34: Meilenstein 1
C35: Bitte Termine und ggfls. Zwischenziel / wichtige Aufgabe in Stichworte hier aufschreiben, die Inhalte übertragen sich automatisch auf das Zieleblatt | D35: Meilenstein 2
D36: Meilenstein 3

Sheet Projektplan6
B2: Go | C2: Zurück zum Zielblatt
C3: Projektblatt zur Zielerreichung | D3: Projektplan-bezeichnung | E3: =Ziele!$G$12 -> 0 | F3: ©Dr. Wolfgang Schröder
C8: Auftraggeber | D8: =Ziele!$C$12 -> 0
C10: Verantwortlich für Zielerreichung | D10: =Ziele!$D$12 -> 0
C12: Zielfeld | D12: =Ziele!$E$12 -> 0
C14: Projektziele (SMART-Ziel) Ergebnis des Projekts definieren. Ab wann soll was erreicht sein, laufen, "auf dem Tisch liegen", ...? | D14: =Ziele!$F$12 -> 0
C16: Was muss beachtet werden, damit das Ziel erfolgreich erreicht wird? Welche indirekten oder mittelfristigen Auswirkungen? Wo gibt es welchen Veränderungsbedarf? Hat das Ergebnis Auswirkungen auf das Personal? Wer muss einbezogen / informiert werden?
C17: Mitglieder des Projektteams
C18: Notwendige Mittel / Budget:
C20: Projektplan
B21: Schritt Nr. | C21: Welche Zwischenziele sollen erreicht werden und / oder welche Aufgaben /Maßnahmen sollen durchgeführt werden? | D21: Fertig am: (Zwischentermine) | E21: Wer ist verantwortlich ? | F21: Bemerkungen:
B22: 1
B23: 2
B24: 3
B25: 4
B26: 5
B27: 6
B28: 7
B29: 8
B30: 9
B31: 10
E33: Meilensteine Termine, Inhalte
C34: Welche maximal 3 Zwischentermine sind so wichtig, dass sie in Meilensteinterminen überprüft werden sollen? | D34: Meilenstein 1
C35: Bitte Termine und ggfls. Zwischenziel / wichtige Aufgabe in Stichworte hier aufschreiben, die Inhalte übertragen sich automatisch auf das Zieleblatt | D35: Meilenstein 2
D36: Meilenstein 3

Sheet Projektplan7
B2: Go | C2: Zurück zum Zielblatt
C3: Projektblatt zur Zielerreichung | D3: Projektplan-bezeichnung | E3: =Ziele!$G$13 -> 0 | F3: ©Dr. Wolfgang Schröder
C8: Auftraggeber | D8: =Ziele!$C$13 -> 0
C10: Verantwortlich für Zielerreichung | D10: =Ziele!$D$13 -> 0
C12: Zielfeld | D12: =Ziele!$E$13 -> 0
C14: Projektziele (SMART-Ziel) Ergebnis des Projekts definieren. Ab wann soll was erreicht sein, laufen, "auf dem Tisch liegen", ...? | D14: =Ziele!$F$13 -> 0
C16: Was muss beachtet werden, damit das Ziel erfolgreich erreicht wird? Welche indirekten oder mittelfristigen Auswirkungen? Wo gibt es welchen Veränderungsbedarf? Hat das Ergebnis Auswirkungen auf das Personal? Wer muss einbezogen / informiert werden?
C17: Mitglieder des Projektteams
C18: Notwendige Mittel / Budget:
C20: Projektplan
B21: Schritt Nr. | C21: Welche Zwischenziele sollen erreicht werden und / oder welche Aufgaben /Maßnahmen sollen durchgeführt werden? | D21: Fertig am: (Zwischentermine) | E21: Wer ist verantwortlich ? | F21: Bemerkungen:
B22: 1
B23: 2
B24: 3
B25: 4
B26: 5
B27: 6
B28: 7
B29: 8
B30: 9
B31: 10
E33: Meilensteine Termine, Inhalte
C34: Welche maximal 3 Zwischentermine sind so wichtig, dass sie in Meilensteinterminen überprüft werden sollen? | D34: Meilenstein 1
C35: Bitte Termine und ggfls. Zwischenziel / wichtige Aufgabe in Stichworte hier aufschreiben, die Inhalte übertragen sich automatisch auf das Zieleblatt | D35: Meilenstein 2
D36: Meilenstein 3

Sheet Projektplan8
B2: Go | C2: Zurück zum Zielblatt
C3: Projektblatt zur Zielerreichung | D3: Projektplan-bezeichnung | E3: =Ziele!$G$14 -> 0 | F3: ©Dr. Wolfgang Schröder
C8: Auftraggeber | D8: =Ziele!$C$14 -> 0
C10: Verantwortlich für Zielerreichung | D10: =Ziele!$D$14 -> 0
C12: Zielfeld | D12: =Ziele!$E$14 -> 0
C14: Projektziele (SMART-Ziel) Ergebnis des Projekts definieren. Ab wann soll was erreicht sein, laufen, "auf dem Tisch liegen", ...? | D14: =Ziele!$F$14 -> 0
C16: Was muss beachtet werden, damit das Ziel erfolgreich erreicht wird? Welche indirekten oder mittelfristigen Auswirkungen? Wo gibt es welchen Veränderungsbedarf? Hat das Ergebnis Auswirkungen auf das Personal? Wer muss einbezogen / informiert werden?
C17: Mitglieder des Projektteams
C18: Notwendige Mittel / Budget:
C20: Projektplan
B21: Schritt Nr. | C21: Welche Zwischenziele sollen erreicht werden und / oder welche Aufgaben /Maßnahmen sollen durchgeführt werden? | D21: Fertig am: (Zwischentermine) | E21: Wer ist verantwortlich ? | F21: Bemerkungen:
B22: 1
B23: 2
B24: 3
B25: 4
B26: 5
B27: 6
B28: 7
B29: 8
B30: 9
B31: 10
E33: Meilensteine Termine, Inhalte
C34: Welche maximal 3 Zwischentermine sind so wichtig, dass sie in Meilensteinterminen überprüft werden sollen? | D34: Meilenstein 1
C35: Bitte Termine und ggfls. Zwischenziel / wichtige Aufgabe in Stichworte hier aufschreiben, die Inhalte übertragen sich automatisch auf das Zieleblatt | D35: Meilenstein 2
D36: Meilenstein 3

Sheet Projektplan9
B2: Go | C2: Zurück zum Zielblatt
C3: Projektblatt zur Zielerreichung | D3: Projektplan-bezeichnung | E3: =Ziele!$G$15 -> 0 | F3: ©Dr. Wolfgang Schröder
C8: Auftraggeber | D8: =Ziele!$C$15 -> 0
C10: Verantwortlich für Zielerreichung | D10: =Ziele!$D$15 -> 0
C12: Zielfeld | D12: =Ziele!$E$15 -> 0
C14: Projektziele (SMART-Ziel) Ergebnis des Projekts definieren. Ab wann soll was erreicht sein, laufen, "auf dem Tisch liegen", ...? | D14: =Ziele!$F$15 -> 0
C16: Was muss beachtet werden, damit das Ziel erfolgreich erreicht wird? Welche indirekten oder mittelfristigen Auswirkungen? Wo gibt es welchen Veränderungsbedarf? Hat das Ergebnis Auswirkungen auf das Personal? Wer muss einbezogen / informiert werden?
C17: Mitglieder des Projektteams
C18: Notwendige Mittel / Budget:
C20: Projektplan
B21: Schritt Nr. | C21: Welche Zwischenziele sollen erreicht werden und / oder welche Aufgaben /Maßnahmen sollen durchgeführt werden? | D21: Fertig am: (Zwischentermine) | E21: Wer ist verantwortlich ? | F21: Bemerkungen:
B22: 1
B23: 2
B24: 3
B25: 4
B26: 5
B27: 6
B28: 7
B29: 8
B30: 9
B31: 10
E33: Meilensteine Termine, Inhalte
C34: Welche maximal 3 Zwischentermine sind so wichtig, dass sie in Meilensteinterminen überprüft werden sollen? | D34: Meilenstein 1
C35: Bitte Termine und ggfls. Zwischenziel / wichtige Aufgabe in Stichworte hier aufschreiben, die Inhalte übertragen sich automatisch auf das Zieleblatt | D35: Meilenstein 2
D36: Meilenstein 3

Sheet Projektplan10
B2: Go | C2: Zurück zum Zielblatt
C3: Projektblatt zur Zielerreichung | D3: Projektplan-bezeichnung | E3: =Ziele!$G$16 -> 0 | F3: ©Dr. Wolfgang Schröder
C8: Auftraggeber | D8: =Ziele!$C$16 -> 0
C10: Verantwortlich für Zielerreichung | D10: =Ziele!$D$16 -> 0
C12: Zielfeld | D12: =Ziele!$E$16 -> 0
C14: Projektziele (SMART-Ziel) Ergebnis des Projekts definieren. Ab wann soll was erreicht sein, laufen, "auf dem Tisch liegen", ...? | D14: =Ziele!$F$16 -> 0
C16: Was muss beachtet werden, damit das Ziel erfolgreich erreicht wird? Welche indirekten oder mittelfristigen Auswirkungen? Wo gibt es welchen Veränderungsbedarf? Hat das Ergebnis Auswirkungen auf das Personal? Wer muss einbezogen / informiert werden?
C17: Mitglieder des Projektteams
C18: Notwendige Mittel / Budget:
C20: Projektplan
B21: Schritt Nr. | C21: Welche Zwischenziele sollen erreicht werden und / oder welche Aufgaben /Maßnahmen sollen durchgeführt werden? | D21: Fertig am: (Zwischentermine) | E21: Wer ist verantwortlich ? | F21: Bemerkungen:
B22: 1
B23: 2
B24: 3
B25: 4
B26: 5
B27: 6
B28: 7
B29: 8
B30: 9
B31: 10
E33: Meilensteine Termine, Inhalte
C34: Welche maximal 3 Zwischentermine sind so wichtig, dass sie in Meilensteinterminen überprüft werden sollen? | D34: Meilenstein 1
C35: Bitte Termine und ggfls. Zwischenziel / wichtige Aufgabe in Stichworte hier aufschreiben, die Inhalte übertragen sich automatisch auf das Zieleblatt | D35: Meilenstein 2
D36: Meilenstein 3

Sheet Projektplan11
B2: Go | C2: Zurück zum Zielblatt
C3: Projektblatt zur Zielerreichung | D3: Projektplan-bezeichnung | E3: =Ziele!$G$17 -> 0 | F3: ©Dr. Wolfgang Schröder
C8: Auftraggeber | D8: =Ziele!$C$17 -> 0
C10: Verantwortlich für Zielerreichung | D10: =Ziele!$D$17 -> 0
C12: Zielfeld | D12: =Ziele!$E$17 -> 0
C14: Projektziele (SMART-Ziel) Ergebnis des Projekts definieren. Ab wann soll was erreicht sein, laufen, "auf dem Tisch liegen", ...? | D14: =Ziele!$F$17 -> 0
C16: Was muss beachtet werden, damit das Ziel erfolgreich erreicht wird? Welche indirekten oder mittelfristigen Auswirkungen? Wo gibt es welchen Veränderungsbedarf? Hat das Ergebnis Auswirkungen auf das Personal? Wer muss einbezogen / informiert werden?
C17: Mitglieder des Projektteams
C18: Notwendige Mittel / Budget:
C20: Projektplan
B21: Schritt Nr. | C21: Welche Zwischenziele sollen erreicht werden und / oder welche Aufgaben /Maßnahmen sollen durchgeführt werden? | D21: Fertig am: (Zwischentermine) | E21: Wer ist verantwortlich ? | F21: Bemerkungen:
B22: 1
B23: 2
B24: 3
B25: 4
B26: 5
B27: 6
B28: 7
B29: 8
B30: 9
B31: 10
E33: Meilensteine Termine, Inhalte
C34: Welche maximal 3 Zwischentermine sind so wichtig, dass sie in Meilensteinterminen überprüft werden sollen? | D34: Meilenstein 1
C35: Bitte Termine und ggfls. Zwischenziel / wichtige Aufgabe in Stichworte hier aufschreiben, die Inhalte übertragen sich automatisch auf das Zieleblatt | D35: Meilenstein 2
D36: Meilenstein 3

Sheet Projektplan12
B2: Go | C2: Zurück zum Zielblatt
C3: Projektblatt zur Zielerreichung | D3: Projektplan-bezeichnung | E3: =Ziele!$G$18 -> 0 | F3: ©Dr. Wolfgang Schröder
C8: Auftraggeber | D8: =Ziele!$C$18 -> 0
C10: Verantwortlich für Zielerreichung | D10: =Ziele!$D$18 -> 0
C12: Zielfeld | D12: =Ziele!$E$18 -> 0
C14: Projektziele (SMART-Ziel) Ergebnis des Projekts definieren. Ab wann soll was erreicht sein, laufen, "auf dem Tisch liegen", ...? | D14: =Ziele!$F$18 -> 0
C16: Was muss beachtet werden, damit das Ziel erfolgreich erreicht wird? Welche indirekten oder mittelfristigen Auswirkungen? Wo gibt es welchen Veränderungsbedarf? Hat das Ergebnis Auswirkungen auf das Personal? Wer muss einbezogen / informiert werden?
C17: Mitglieder des Projektteams
C18: Notwendige Mittel / Budget:
C20: Projektplan
B21: Schritt Nr. | C21: Welche Zwischenziele sollen erreicht werden und / oder welche Aufgaben /Maßnahmen sollen durchgeführt werden? | D21: Fertig am: (Zwischentermine) | E21: Wer ist verantwortlich ? | F21: Bemerkungen:
B22: 1
B23: 2
B24: 3
B25: 4
B26: 5
B27: 6
B28: 7
B29: 8
B30: 9
B31: 10
E33: Meilensteine Termine, Inhalte
C34: Welche maximal 3 Zwischentermine sind so wichtig, dass sie in Meilensteinterminen überprüft werden sollen? | D34: Meilenstein 1
C35: Bitte Termine und ggfls. Zwischenziel / wichtige Aufgabe in Stichworte hier aufschreiben, die Inhalte übertragen sich automatisch auf das Zieleblatt | D35: Meilenstein 2
D36: Meilenstein 3

Sheet Projektplan13
B2: Go | C2: Zurück zum Zielblatt
C3: Projektblatt zur Zielerreichung | D3: Projektplan-bezeichnung | E3: =Ziele!$G$19 -> 0 | F3: ©Dr. Wolfgang Schröder
C8: Auftraggeber | D8: =Ziele!$C$19 -> 0
C10: Verantwortlich für Zielerreichung | D10: =Ziele!$D$19 -> 0
C12: Zielfeld | D12: =Ziele!$E$19 -> 0
C14: Projektziele (SMART-Ziel) Ergebnis des Projekts definieren. Ab wann soll was erreicht sein, laufen, "auf dem Tisch liegen", ...? | D14: =Ziele!$F$19 -> 0
C16: Was muss beachtet werden, damit das Ziel erfolgreich erreicht wird? Welche indirekten oder mittelfristigen Auswirkungen? Wo gibt es welchen Veränderungsbedarf? Hat das Ergebnis Auswirkungen auf das Personal? Wer muss einbezogen / informiert werden?
C17: Mitglieder des Projektteams
C18: Notwendige Mittel / Budget:
C20: Projektplan
B21: Schritt Nr. | C21: Welche Zwischenziele sollen erreicht werden und / oder welche Aufgaben /Maßnahmen sollen durchgeführt werden? | D21: Fertig am: (Zwischentermine) | E21: Wer ist verantwortlich ? | F21: Bemerkungen:
B22: 1
B23: 2
B24: 3
B25: 4
B26: 5
B27: 6
B28: 7
B29: 8
B30: 9
B31: 10
E33: Meilensteine Termine, Inhalte
C34: Welche maximal 3 Zwischentermine sind so wichtig, dass sie in Meilensteinterminen überprüft werden sollen? | D34: Meilenstein 1
C35: Bitte Termine und ggfls. Zwischenziel / wichtige Aufgabe in Stichworte hier aufschreiben, die Inhalte übertragen sich automatisch auf das Zieleblatt | D35: Meilenstein 2
D36: Meilenstein 3

Sheet Projektplan14
B2: Go | C2: Zurück zum Zielblatt
C3: Projektblatt zur Zielerreichung | D3: Projektplan-bezeichnung | E3: =Ziele!$G$20 -> 0 | F3: ©Dr. Wolfgang Schröder
C8: Auftraggeber | D8: =Ziele!$C$20 -> 0
C10: Verantwortlich für Zielerreichung | D10: =Ziele!$D$20 -> 0
C12: Zielfeld | D12: =Ziele!$E$20 -> 0
C14: Projektziele (SMART-Ziel) Ergebnis des Projekts definieren. Ab wann soll was erreicht sein, laufen, "auf dem Tisch liegen", ...? | D14: =Ziele!$F$20 -> 0
C16: Was muss beachtet werden, damit das Ziel erfolgreich erreicht wird? Welche indirekten oder mittelfristigen Auswirkungen? Wo gibt es welchen Veränderungsbedarf? Hat das Ergebnis Auswirkungen auf das Personal? Wer muss einbezogen / informiert werden?
C17: Mitglieder des Projektteams
C18: Notwendige Mittel / Budget:
C20: Projektplan
B21: Schritt Nr. | C21: Welche Zwischenziele sollen erreicht werden und / oder welche Aufgaben /Maßnahmen sollen durchgeführt werden? | D21: Fertig am: (Zwischentermine) | E21: Wer ist verantwortlich ? | F21: Bemerkungen:
B22: 1
B23: 2
B24: 3
B25: 4
B26: 5
B27: 6
B28: 7
B29: 8
B30: 9
B31: 10
E33: Meilensteine Termine, Inhalte
C34: Welche maximal 3 Zwischentermine sind so wichtig, dass sie in Meilensteinterminen überprüft werden sollen? | D34: Meilenstein 1
C35: Bitte Termine und ggfls. Zwischenziel / wichtige Aufgabe in Stichworte hier aufschreiben, die Inhalte übertragen sich automatisch auf das Zieleblatt | D35: Meilenstein 2
D36: Meilenstein 3

Sheet Projektplan15
B2: Go | C2: Zurück zum Zielblatt
C3: Projektblatt zur Zielerreichung | D3: Projektplan-bezeichnung | E3: =Ziele!$G$21 -> 0 | F3: ©Dr. Wolfgang Schröder
C8: Auftraggeber | D8: =Ziele!$C$21 -> 0
C10: Verantwortlich für Zielerreichung | D10: =Ziele!$D$21 -> 0
C12: Zielfeld | D12: =Ziele!$E$21 -> 0
C14: Projektziele (SMART-Ziel) Ergebnis des Projekts definieren. Ab wann soll was erreicht sein, laufen, "auf dem Tisch liegen", ...? | D14: =Ziele!$F$21 -> 0
C16: Was muss beachtet werden, damit das Ziel erfolgreich erreicht wird? Welche indirekten oder mittelfristigen Auswirkungen? Wo gibt es welchen Veränderungsbedarf? Hat das Ergebnis Auswirkungen auf das Personal? Wer muss einbezogen / informiert werden?
C17: Mitglieder des Projektteams
C18: Notwendige Mittel / Budget:
C20: Projektplan
B21: Schritt Nr. | C21: Welche Zwischenziele sollen erreicht werden und / oder welche Aufgaben /Maßnahmen sollen durchgeführt werden? | D21: Fertig am: (Zwischentermine) | E21: Wer ist verantwortlich ? | F21: Bemerkungen:
B22: 1
B23: 2
B24: 3
B25: 4
B26: 5
B27: 6
B28: 7
B29: 8
B30: 9
B31: 10
E33: Meilensteine Termine, Inhalte
C34: Welche maximal 3 Zwischentermine sind so wichtig, dass sie in Meilensteinterminen überprüft werden sollen? | D34: Meilenstein 1
C35: Bitte Termine und ggfls. Zwischenziel / wichtige Aufgabe in Stichworte hier aufschreiben, die Inhalte übertragen sich automatisch auf das Zieleblatt | D35: Meilenstein 2
D36: Meilenstein 3

Sheet Projektplan16
B2: Go | C2: Zurück zum Zielblatt
C3: Projektblatt zur Zielerreichung | D3: Projektplan-bezeichnung | E3: =Ziele!$G$22 -> 0 | F3: ©Dr. Wolfgang Schröder
C8: Auftraggeber | D8: =Ziele!$C$22 -> 0
C10: Verantwortlich für Zielerreichung | D10: =Ziele!$D$22 -> 0
C12: Zielfeld | D12: =Ziele!$E$22 -> 0
C14: Projektziele (SMART-Ziel) Ergebnis des Projekts definieren. Ab wann soll was erreicht sein, laufen, "auf dem Tisch liegen", ...? | D14: =Ziele!$F$22 -> 0
C16: Was muss beachtet werden, damit das Ziel erfolgreich erreicht wird? Welche indirekten oder mittelfristigen Auswirkungen? Wo gibt es welchen Veränderungsbedarf? Hat das Ergebnis Auswirkungen auf das Personal? Wer muss einbezogen / informiert werden?
C17: Mitglieder des Projektteams
C18: Notwendige Mittel / Budget:
C20: Projektplan
B21: Schritt Nr. | C21: Welche Zwischenziele sollen erreicht werden und / oder welche Aufgaben /Maßnahmen sollen durchgeführt werden? | D21: Fertig am: (Zwischentermine) | E21: Wer ist verantwortlich ? | F21: Bemerkungen:
B22: 1
B23: 2
B24: 3
B25: 4
B26: 5
B27: 6
B28: 7
B29: 8
B30: 9
B31: 10
E33: Meilensteine Termine, Inhalte
C34: Welche maximal 3 Zwischentermine sind so wichtig, dass sie in Meilensteinterminen überprüft werden sollen? | D34: Meilenstein 1
C35: Bitte Termine und ggfls. Zwischenziel / wichtige Aufgabe in Stichworte hier aufschreiben, die Inhalte übertragen sich automatisch auf das Zieleblatt | D35: Meilenstein 2
D36: Meilenstein 3

Sheet Projektplan17
B2: Go | C2: Zurück zum Zielblatt
C3: Projektblatt zur Zielerreichung | D3: Projektplan-bezeichnung | E3: =Ziele!$G$23 -> 0 | F3: ©Dr. Wolfgang Schröder
C8: Auftraggeber | D8: =Ziele!$C$23 -> 0
C10: Verantwortlich für Zielerreichung | D10: =Ziele!$D$23 -> 0
C12: Zielfeld | D12: =Ziele!$E$23 -> 0
C14: Projektziele (SMART-Ziel) Ergebnis des Projekts definieren. Ab wann soll was erreicht sein, laufen, "auf dem Tisch liegen", ...? | D14: =Ziele!$F$23 -> 0
C16: Was muss beachtet werden, damit das Ziel erfolgreich erreicht wird? Welche indirekten oder mittelfristigen Auswirkungen? Wo gibt es welchen Veränderungsbedarf? Hat das Ergebnis Auswirkungen auf das Personal? Wer muss einbezogen / informiert werden?
C17: Mitglieder des Projektteams
C18: Notwendige Mittel / Budget:
C20: Projektplan
B21: Schritt Nr. | C21: Welche Zwischenziele sollen erreicht werden und / oder welche Aufgaben /Maßnahmen sollen durchgeführt werden? | D21: Fertig am: (Zwischentermine) | E21: Wer ist verantwortlich ? | F21: Bemerkungen:
B22: 1
B23: 2
B24: 3
B25: 4
B26: 5
B27: 6
B28: 7
B29: 8
B30: 9
B31: 10
E33: Meilensteine Termine, Inhalte
C34: Welche maximal 3 Zwischentermine sind so wichtig, dass sie in Meilensteinterminen überprüft werden sollen? | D34: Meilenstein 1
C35: Bitte Termine und ggfls. Zwischenziel / wichtige Aufgabe in Stichworte hier aufschreiben, die Inhalte übertragen sich automatisch auf das Zieleblatt | D35: Meilenstein 2
D36: Meilenstein 3

Sheet Projektplan18
B2: Go | C2: Zurück zum Zielblatt
C3: Projektblatt zur Zielerreichung | D3: Projektplan-bezeichnung | E3: =Ziele!$G$24 -> 0 | F3: ©Dr. Wolfgang Schröder
C8: Auftraggeber | D8: =Ziele!$C$24 -> 0
C10: Verantwortlich für Zielerreichung | D10: =Ziele!$D$24 -> 0
C12: Zielfeld | D12: =Ziele!$E$24 -> 0
C14: Projektziele (SMART-Ziel) Ergebnis des Projekts definieren. Ab wann soll was erreicht sein, laufen, "auf dem Tisch liegen", ...? | D14: =Ziele!$F$24 -> 0
C16: Was muss beachtet werden, damit das Ziel erfolgreich erreicht wird? Welche indirekten oder mittelfristigen Auswirkungen? Wo gibt es welchen Veränderungsbedarf? Hat das Ergebnis Auswirkungen auf das Personal? Wer muss einbezogen / informiert werden?
C17: Mitglieder des Projektteams
C18: Notwendige Mittel / Budget:
C20: Projektplan
B21: Schritt Nr. | C21: Welche Zwischenziele sollen erreicht werden und / oder welche Aufgaben /Maßnahmen sollen durchgeführt werden? | D21: Fertig am: (Zwischentermine) | E21: Wer ist verantwortlich ? | F21: Bemerkungen:
B22: 1
B23: 2
B24: 3
B25: 4
B26: 5
B27: 6
B28: 7
B29: 8
B30: 9
B31: 10
E33: Meilensteine Termine, Inhalte
C34: Welche maximal 3 Zwischentermine sind so wichtig, dass sie in Meilensteinterminen überprüft werden sollen? | D34: Meilenstein 1
C35: Bitte Termine und ggfls. Zwischenziel / wichtige Aufgabe in Stichworte hier aufschreiben, die Inhalte übertragen sich automatisch auf das Zieleblatt | D35: Meilenstein 2
D36: Meilenstein 3

Sheet Projektplan19
B2: Go | C2: Zurück zum Zielblatt
C3: Projektblatt zur Zielerreichung | D3: Projektplan-bezeichnung | E3: =Ziele!$G$25 -> 0 | F3: ©Dr. Wolfgang Schröder
C8: Auftraggeber | D8: =Ziele!$C$25 -> 0
C10: Verantwortlich für Zielerreichung | D10: =Ziele!$D$25 -> 0
C12: Zielfeld | D12: =Ziele!$E$25 -> 0
C14: Projektziele (SMART-Ziel) Ergebnis des Projekts definieren. Ab wann soll was erreicht sein, laufen, "auf dem Tisch liegen", ...? | D14: =Ziele!$F$25 -> 0
C16: Was muss beachtet werden, damit das Ziel erfolgreich erreicht wird? Welche indirekten oder mittelfristigen Auswirkungen? Wo gibt es welchen Veränderungsbedarf? Hat das Ergebnis Auswirkungen auf das Personal? Wer muss einbezogen / informiert werden?
C17: Mitglieder des Projektteams
C18: Notwendige Mittel / Budget:
C20: Projektplan
B21: Schritt Nr. | C21: Welche Zwischenziele sollen erreicht werden und / oder welche Aufgaben /Maßnahmen sollen durchgeführt werden? | D21: Fertig am: (Zwischentermine) | E21: Wer ist verantwortlich ? | F21: Bemerkungen:
B22: 1
B23: 2
B24: 3
B25: 4
B26: 5
B27: 6
B28: 7
B29: 8
B30: 9
B31: 10
E33: Meilensteine Termine, Inhalte
C34: Welche maximal 3 Zwischentermine sind so wichtig, dass sie in Meilensteinterminen überprüft werden sollen? | D34: Meilenstein 1
C35: Bitte Termine und ggfls. Zwischenziel / wichtige Aufgabe in Stichworte hier aufschreiben, die Inhalte übertragen sich automatisch auf das Zieleblatt | D35: Meilenstein 2
D36: Meilenstein 3

Sheet Projektplan20
B2: Go | C2: Zurück zum Zielblatt
C3: Projektblatt zur Zielerreichung | D3: Projektplan-bezeichnung | E3: =Ziele!$G$26 -> 0 | F3: ©Dr. Wolfgang Schröder
C8: Auftraggeber | D8: =Ziele!$C$26 -> 0
C10: Verantwortlich für Zielerreichung | D10: =Ziele!$D$26 -> 0
C12: Zielfeld | D12: =Ziele!$E$26 -> 0
C14: Projektziele (SMART-Ziel) Ergebnis des Projekts definieren. Ab wann soll was erreicht sein, laufen, "auf dem Tisch liegen", ...? | D14: =Ziele!$F$26 -> 0
C16: Was muss beachtet werden, damit das Ziel erfolgreich erreicht wird? Welche indirekten oder mittelfristigen Auswirkungen? Wo gibt es welchen Veränderungsbedarf? Hat das Ergebnis Auswirkungen auf das Personal? Wer muss einbezogen / informiert werden?
C17: Mitglieder des Projektteams
C18: Notwendige Mittel / Budget:
C20: Projektplan
B21: Schritt Nr. | C21: Welche Zwischenziele sollen erreicht werden und / oder welche Aufgaben /Maßnahmen sollen durchgeführt werden? | D21: Fertig am: (Zwischentermine) | E21: Wer ist verantwortlich ? | F21: Bemerkungen:
B22: 1
B23: 2
B24: 3
B25: 4
B26: 5
B27: 6
B28: 7
B29: 8
B30: 9
B31: 10
E33: Meilensteine Termine, Inhalte
C34: Welche maximal 3 Zwischentermine sind so wichtig, dass sie in Meilensteinterminen überprüft werden sollen? | D34: Meilenstein 1
C35: Bitte Termine und ggfls. Zwischenziel / wichtige Aufgabe in Stichworte hier aufschreiben, die Inhalte übertragen sich automatisch auf das Zieleblatt | D35: Meilenstein 2
D36: Meilenstein 3
